Workbook

Sheet VNA IPCA
A1: Mês/Ano IPCA | B1: Código Selic | C1: Data Referência | D1: VNA | E1: IPCA | F1: P/F | G1: Válido a partir de | H1: 15 Mês | I1: 15 Mês Ant. | J1: 15 Mês Ano Ant | K1: IPCA 12M Janela Móvel
A2: =MONTH(EDATE(C2,-1))&YEAR(EDATE(C2,-1))&F2 -> 62000 | B2: 760199 | C2: 36724 | D2: 1000
A3: =MONTH(EDATE(C3,-1))&YEAR(EDATE(C3,-1))&F3 -> 62000 | B3: 760199 | C3: 36725 | D3: 1000.761
A4: =MONTH(EDATE(C4,-1))&YEAR(EDATE(C4,-1))&F4 -> 62000 | B4: 760199 | C4: 36726 | D4: 1001.5225
A5: =MONTH(EDATE(C5,-1))&YEAR(EDATE(C5,-1))&F5 -> 62000 | B5: 760199 | C5: 36727 | D5: 1002.2847
A6: =MONTH(EDATE(C6,-1))&YEAR(EDATE(C6,-1))&F6 -> 62000 | B6: 760199 | C6: 36728 | D6: 1003.0474
A7: =MONTH(EDATE(C7,-1))&YEAR(EDATE(C7,-1))&F7 -> 62000 | B7: 760199 | C7: 36731 | D7: 1003.8107
A8: =MONTH(EDATE(C8,-1))&YEAR(EDATE(C8,-1))&F8 -> 62000 | B8: 760199 | C8: 36732 | D8: 1004.5746
A9: =MONTH(EDATE(C9,-1))&YEAR(EDATE(C9,-1))&F9 -> 62000 | B9: 760199 | C9: 36733 | D9: 1005.3391
A10: =MONTH(EDATE(C10,-1))&YEAR(EDATE(C10,-1))&F10 -> 62000 | B10: 760199 | C10: 36734 | D10: 1006.1041
A11: =MONTH(EDATE(C11,-1))&YEAR(EDATE(C11,-1))&F11 -> 62000 | B11: 760199 | C11: 36735 | D11: 1006.8697
A12: =MONTH(EDATE(C12,-1))&YEAR(EDATE(C12,-1))&F12 -> 62000 | B12: 760199 | C12: 36738 | D12: 1007.636
A13: =MONTH(EDATE(C13,-1))&YEAR(EDATE(C13,-1))&F13 -> 72000 | B13: 760199 | C13: 36739 | D13: 1008.4027
... A252: =MONTH(EDATE(C252,-1))&YEAR(EDATE(C252,-1))&F252 -> 62001 | B252: 760199 | C252: 37089 | D252: 1074.1048
A253: =MONTH(EDATE(C253,-1))&YEAR(EDATE(C253,-1))&F253 -> 62001 | B253: 760199 | C253: 37090 | D253: 1074.75 | H253: =WORKDAY(WORKDAY(DATEVALUE("15/"&MONTH(EDATE(C253,0))&"/"&YEAR(EDATE(C253,0))),-1,Feriados!$A$1:$A$936),1,Feriados!$A$1:$A$936) -> 37088 | I253: =WORKDAY(WORKDAY(DATEVALUE("15/"&MONTH(EDATE(C253,-1))&"/"&YEAR(EDATE(C253,-1))),-1,Feriados!$A$1:$A$936),1,Feriados!$A$1:$A$936) -> 37057 | J253: =WORKDAY(WORKDAY(DATEVALUE("15/"&MONTH(EDATE(C253,0))&"/"&YEAR(EDATE(C253,0))-1),-1,Feriados!$A$1:$A$936),1,Feriados!$A$1:$A$936) -> 36724 | K253: =+(VLOOKUP(H253,C:D,2,FALSE)/VLOOKUP(J253,C:D,2,FALSE)-1)*100 -> 7.3460009
A254: =MONTH(EDATE(C254,-1))&YEAR(EDATE(C254,-1))&F254 -> 62001 | B254: 760199 | C254: 37091 | D254: 1075.3956 | H254: =WORKDAY(WORKDAY(DATEVALUE("15/"&MONTH(EDATE(C254,0))&"/"&YEAR(EDATE(C254,0))),-1,Feriados!$A$1:$A$936),1,Feriados!$A$1:$A$936) -> 37088 | I254: =WORKDAY(WORKDAY(DATEVALUE("15/"&MONTH(EDATE(C254,-1))&"/"&YEAR(EDATE(C254,-1))),-1,Feriados!$A$1:$A$936),1,Feriados!$A$1:$A$936) -> 37057 | J254: =WORKDAY(WORKDAY(DATEVALUE("15/"&MONTH(EDATE(C254,0))&"/"&YEAR(EDATE(C254,0))-1),-1,Feriados!$A$1:$A$936),1,Feriados!$A$1:$A$936) -> 36724 | K254: =+(VLOOKUP(H254,C:D,2,FALSE)/VLOOKUP(J254,C:D,2,FALSE)-1)*100 -> 7.3460009
A255: =MONTH(EDATE(C255,-1))&YEAR(EDATE(C255,-1))&F255 -> 62001 | B255: 760199 | C255: 37092 | D255: 1076.0416 | H255: =WORKDAY(WORKDAY(DATEVALUE("15/"&MONTH(EDATE(C255,0))&"/"&YEAR(EDATE(C255,0))),-1,Feriados!$A$1:$A$936),1,Feriados!$A$1:$A$936) -> 37088 | I255: =WORKDAY(WORKDAY(DATEVALUE("15/"&MONTH(EDATE(C255,-1))&"/"&YEAR(EDATE(C255,-1))),-1,Feriados!$A$1:$A$936),1,Feriados!$A$1:$A$936) -> 37057 | J255: =WORKDAY(WORKDAY(DATEVALUE("15/"&MONTH(EDATE(C255,0))&"/"&YEAR(EDATE(C255,0))-1),-1,Feriados!$A$1:$A$936),1,Feriados!$A$1:$A$936) -> 36724 | K255: =+(VLOOKUP(H255,C:D,2,FALSE)/VLOOKUP(J255,C:D,2,FALSE)-1)*100 -> 7.3460009
A256: =MONTH(EDATE(C256,-1))&YEAR(EDATE(C256,-1))&F256 -> 62001 | B256: 760199 | C256: 37095 | D256: 1076.688 | H256: =WORKDAY(WORKDAY(DATEVALUE("15/"&MONTH(EDATE(C256,0))&"/"&YEAR(EDATE(C256,0))),-1,Feriados!$A$1:$A$936),1,Feriados!$A$1:$A$936) -> 37088 | I256: =WORKDAY(WORKDAY(DATEVALUE("15/"&MONTH(EDATE(C256,-1))&"/"&YEAR(EDATE(C256,-1))),-1,Feriados!$A$1:$A$936),1,Feriados!$A$1:$A$936) -> 37057 | J256: =WORKDAY(WORKDAY(DATEVALUE("15/"&MONTH(EDATE(C256,0))&"/"&YEAR(EDATE(C256,0))-1),-1,Feriados!$A$1:$A$936),1,Feriados!$A$1:$A$936) -> 36724 | K256: =+(VLOOKUP(H256,C:D,2,FALSE)/VLOOKUP(J256,C:D,2,FALSE)-1)*100 -> 7.3460009
A257: =MONTH(EDATE(C257,-1))&YEAR(EDATE(C257,-1))&F257 -> 62001 | B257: 760199 | C257: 37096 | D257: 1077.3347 | H257: =WORKDAY(WORKDAY(DATEVALUE("15/"&MONTH(EDATE(C257,0))&"/"&YEAR(EDATE(C257,0))),-1,Feriados!$A$1:$A$936),1,Feriados!$A$1:$A$936) -> 37088 | I257: =WORKDAY(WORKDAY(DATEVALUE("15/"&MONTH(EDATE(C257,-1))&"/"&YEAR(EDATE(C257,-1))),-1,Feriados!$A$1:$A$936),1,Feriados!$A$1:$A$936) -> 37057 | J257: =WORKDAY(WORKDAY(DATEVALUE("15/"&MONTH(EDATE(C257,0))&"/"&YEAR(EDATE(C257,0))-1),-1,Feriados!$A$1:$A$936),1,Feriados!$A$1:$A$936) -> 36724 | K257: =+(VLOOKUP(H257,C:D,2,FALSE)/VLOOKUP(J257,C:D,2,FALSE)-1)*100 -> 7.3460009
A258: =MONTH(EDATE(C258,-1))&YEAR(EDATE(C258,-1))&F258 -> 62001 | B258: 760199 | C258: 37097 | D258: 1077.9819 | H258: =WORKDAY(WORKDAY(DATEVALUE("15/"&MONTH(EDATE(C258,0))&"/"&YEAR(EDATE(C258,0))),-1,Feriados!$A$1:$A$936),1,Feriados!$A$1:$A$936) -> 37088 | I258: =WORKDAY(WORKDAY(DATEVALUE("15/"&MONTH(EDATE(C258,-1))&"/"&YEAR(EDATE(C258,-1))),-1,Feriados!$A$1:$A$936),1,Feriados!$A$1:$A$936) -> 37057 | J258: =WORKDAY(WORKDAY(DATEVALUE("15/"&MONTH(EDATE(C258,0))&"/"&YEAR(EDATE(C258,0))-1),-1,Feriados!$A$1:$A$936),1,Feriados!$A$1:$A$936) -> 36724 | K258: =+(VLOOKUP(H258,C:D,2,FALSE)/VLOOKUP(J258,C:D,2,FALSE)-1)*100 -> 7.3460009
A259: =MONTH(EDATE(C259,-1))&YEAR(EDATE(C259,-1))&F259 -> 62001 | B259: 760199 | C259: 37098 | D259: 1078.6294 | H259: =WORKDAY(WORKDAY(DATEVALUE("15/"&MONTH(EDATE(C259,0))&"/"&YEAR(EDATE(C259,0))),-1,Feriados!$A$1:$A$936),1,Feriados!$A$1:$A$936) -> 37088 | I259: =WORKDAY(WORKDAY(DATEVALUE("15/"&MONTH(EDATE(C259,-1))&"/"&YEAR(EDATE(C259,-1))),-1,Feriados!$A$1:$A$936),1,Feriados!$A$1:$A$936) -> 37057 | J259: =WORKDAY(WORKDAY(DATEVALUE("15/"&MONTH(EDATE(C259,0))&"/"&YEAR(EDATE(C259,0))-1),-1,Feriados!$A$1:$A$936),1,Feriados!$A$1:$A$936) -> 36724 | K259: =+(VLOOKUP(H259,C:D,2,FALSE)/VLOOKUP(J259,C:D,2,FALSE)-1)*100 -> 7.3460009
A260: =MONTH(EDATE(C260,-1))&YEAR(EDATE(C260,-1))&F260 -> 62001 | B260: 760199 | C260: 37099 | D260: 1079.2773 | H260: =WORKDAY(WORKDAY(DATEVALUE("15/"&MONTH(EDATE(C260,0))&"/"&YEAR(EDATE(C260,0))),-1,Feriados!$A$1:$A$936),1,Feriados!$A$1:$A$936) -> 37088 | I260: =WORKDAY(WORKDAY(DATEVALUE("15/"&MONTH(EDATE(C260,-1))&"/"&YEAR(EDATE(C260,-1))),-1,Feriados!$A$1:$A$936),1,Feriados!$A$1:$A$936) -> 37057 | J260: =WORKDAY(WORKDAY(DATEVALUE("15/"&MONTH(EDATE(C260,0))&"/"&YEAR(EDATE(C260,0))-1),-1,Feriados!$A$1:$A$936),1,Feriados!$A$1:$A$936) -> 36724 | K260: =+(VLOOKUP(H260,C:D,2,FALSE)/VLOOKUP(J260,C:D,2,FALSE)-1)*100 -> 7.3460009
A261: =MONTH(EDATE(C261,-1))&YEAR(EDATE(C261,-1))&F261 -> 62001 | B261: 760199 | C261: 37102 | D261: 1079.9256 | H261: =WORKDAY(WORKDAY(DATEVALUE("15/"&MONTH(EDATE(C261,0))&"/"&YEAR(EDATE(C261,0))),-1,Feriados!$A$1:$A$936),1,Feriados!$A$1:$A$936) -> 37088 | I261: =WORKDAY(WORKDAY(DATEVALUE("15/"&MONTH(EDATE(C261,-1))&"/"&YEAR(EDATE(C261,-1))),-1,Feriados!$A$1:$A$936),1,Feriados!$A$1:$A$936) -> 37057 | J261: =WORKDAY(WORKDAY(DATEVALUE("15/"&MONTH(EDATE(C261,0))&"/"&YEAR(EDATE(C261,0))-1),-1,Feriados!$A$1:$A$936),1,Feriados!$A$1:$A$936) -> 36724 | K261: =+(VLOOKUP(H261,C:D,2,FALSE)/VLOOKUP(J261,C:D,2,FALSE)-1)*100 -> 7.3460009
A262: =MONTH(EDATE(C262,-1))&YEAR(EDATE(C262,-1))&F262 -> 62001 | B262: 760199 | C262: 37103 | D262: 1080.5743 | H262: =WORKDAY(WORKDAY(DATEVALUE("15/"&MONTH(EDATE(C262,0))&"/"&YEAR(EDATE(C262,0))),-1,Feriados!$A$1:$A$936),1,Feriados!$A$1:$A$936) -> 37088 | I262: =WORKDAY(WORKDAY(DATEVALUE("15/"&MONTH(EDATE(C262,-1))&"/"&YEAR(EDATE(C262,-1))),-1,Feriados!$A$1:$A$936),1,Feriados!$A$1:$A$936) -> 37057 | J262: =WORKDAY(WORKDAY(DATEVALUE("15/"&MONTH(EDATE(C262,0))&"/"&YEAR(EDATE(C262,0))-1),-1,Feriados!$A$1:$A$936),1,Feriados!$A$1:$A$936) -> 36724 | K262: =+(VLOOKUP(H262,C:D,2,FALSE)/VLOOKUP(J262,C:D,2,FALSE)-1)*100 -> 7.3460009
A263: =MONTH(EDATE(C263,-1))&YEAR(EDATE(C263,-1))&F263 -> 72001 | B263: 760199 | C263: 37104 | D263: 1081.2234 | H263: =WORKDAY(WORKDAY(DATEVALUE("15/"&MONTH(EDATE(C263,0))&"/"&YEAR(EDATE(C263,0))),-1,Feriados!$A$1:$A$936),1,Feriados!$A$1:$A$936) -> 37118 | I263: =WORKDAY(WORKDAY(DATEVALUE("15/"&MONTH(EDATE(C263,-1))&"/"&YEAR(EDATE(C263,-1))),-1,Feriados!$A$1:$A$936),1,Feriados!$A$1:$A$936) -> 37088 | J263: =WORKDAY(WORKDAY(DATEVALUE("15/"&MONTH(EDATE(C263,0))&"/"&YEAR(EDATE(C263,0))-1),-1,Feriados!$A$1:$A$936),1,Feriados!$A$1:$A$936) -> 36753 | K263: =+(VLOOKUP(H263,C:D,2,FALSE)/VLOOKUP(J263,C:D,2,FALSE)-1)*100 -> 7.0497739
A264: =MONTH(EDATE(C264,-1))&YEAR(EDATE(C264,-1))&F264 -> 72001 | B264: 760199 | C264: 37105 | D264: 1081.8729 | H264: =WORKDAY(WORKDAY(DATEVALUE("15/"&MONTH(EDATE(C264,0))&"/"&YEAR(EDATE(C264,0))),-1,Feriados!$A$1:$A$936),1,Feriados!$A$1:$A$936) -> 37118 | I264: =WORKDAY(WORKDAY(DATEVALUE("15/"&MONTH(EDATE(C264,-1))&"/"&YEAR(EDATE(C264,-1))),-1,Feriados!$A$1:$A$936),1,Feriados!$A$1:$A$936) -> 37088 | J264: =WORKDAY(WORKDAY(DATEVALUE("15/"&MONTH(EDATE(C264,0))&"/"&YEAR(EDATE(C264,0))-1),-1,Feriados!$A$1:$A$936),1,Feriados!$A$1:$A$936) -> 36753 | K264: =+(VLOOKUP(H264,C:D,2,FALSE)/VLOOKUP(J264,C:D,2,FALSE)-1)*100 -> 7.0497739
... A1962: =MONTH(EDATE(C1962,-1))&YEAR(EDATE(C1962,-1))&F1962 -> 42008 | B1962: 760199 | C1962: 39577 | D1962: 1725.0333 | H1962: =WORKDAY(WORKDAY(DATEVALUE("15/"&MONTH(EDATE(C1962,0))&"/"&YEAR(EDATE(C1962,0))),-1,Feriados!$A$1:$A$936),1,Feriados!$A$1:$A$936) -> 39583 | I1962: =WORKDAY(WORKDAY(DATEVALUE("15/"&MONTH(EDATE(C1962,-1))&"/"&YEAR(EDATE(C1962,-1))),-1,Feriados!$A$1:$A$936),1,Feriados!$A$1:$A$936) -> 39553 | J1962: =WORKDAY(WORKDAY(DATEVALUE("15/"&MONTH(EDATE(C1962,0))&"/"&YEAR(EDATE(C1962,0))-1),-1,Feriados!$A$1:$A$936),1,Feriados!$A$1:$A$936) -> 39217 | K1962: =+(VLOOKUP(H1962,C:D,2,FALSE)/VLOOKUP(J1962,C:D,2,FALSE)-1)*100 -> 5.0416274
A1963: =MONTH(EDATE(C1963,-1))&YEAR(EDATE(C1963,-1))&F1963 -> 42008F | B1963: 760199 | C1963: 39580 | D1963: 1725.5064 | E1963: 0.55 | F1963: F | G1963: 39577 | H1963: =WORKDAY(WORKDAY(DATEVALUE("15/"&MONTH(EDATE(C1963,0))&"/"&YEAR(EDATE(C1963,0))),-1,Feriados!$A$1:$A$936),1,Feriados!$A$1:$A$936) -> 39583 | I1963: =WORKDAY(WORKDAY(DATEVALUE("15/"&MONTH(EDATE(C1963,-1))&"/"&YEAR(EDATE(C1963,-1))),-1,Feriados!$A$1:$A$936),1,Feriados!$A$1:$A$936) -> 39553 | J1963: =WORKDAY(WORKDAY(DATEVALUE("15/"&MONTH(EDATE(C1963,0))&"/"&YEAR(EDATE(C1963,0))-1),-1,Feriados!$A$1:$A$936),1,Feriados!$A$1:$A$936) -> 39217 | K1963: =+(VLOOKUP(H1963,C:D,2,FALSE)/VLOOKUP(J1963,C:D,2,FALSE)-1)*100 -> 5.0416274
A1964: =MONTH(EDATE(C1964,-1))&YEAR(EDATE(C1964,-1))&F1964 -> 42008F | B1964: 760199 | C1964: 39581 | D1964: 1725.9796 | E1964: 0.55 | F1964: F | G1964: 39577 | H1964: =WORKDAY(WORKDAY(DATEVALUE("15/"&MONTH(EDATE(C1964,0))&"/"&YEAR(EDATE(C1964,0))),-1,Feriados!$A$1:$A$936),1,Feriados!$A$1:$A$936) -> 39583 | I1964: =WORKDAY(WORKDAY(DATEVALUE("15/"&MONTH(EDATE(C1964,-1))&"/"&YEAR(EDATE(C1964,-1))),-1,Feriados!$A$1:$A$936),1,Feriados!$A$1:$A$936) -> 39553 | J1964: =WORKDAY(WORKDAY(DATEVALUE("15/"&MONTH(EDATE(C1964,0))&"/"&YEAR(EDATE(C1964,0))-1),-1,Feriados!$A$1:$A$936),1,Feriados!$A$1:$A$936) -> 39217 | K1964: =+(VLOOKUP(H1964,C:D,2,FALSE)/VLOOKUP(J1964,C:D,2,FALSE)-1)*100 -> 5.0416274
A1965: =MONTH(EDATE(C1965,-1))&YEAR(EDATE(C1965,-1))&F1965 -> 42008F | B1965: 760199 | C1965: 39582 | D1965: 1726.453 | E1965: 0.55 | F1965: F | G1965: 39577 | H1965: =WORKDAY(WORKDAY(DATEVALUE("15/"&MONTH(EDATE(C1965,0))&"/"&YEAR(EDATE(C1965,0))),-1,Feriados!$A$1:$A$936),1,Feriados!$A$1:$A$936) -> 39583 | I1965: =WORKDAY(WORKDAY(DATEVALUE("15/"&MONTH(EDATE(C1965,-1))&"/"&YEAR(EDATE(C1965,-1))),-1,Feriados!$A$1:$A$936),1,Feriados!$A$1:$A$936) -> 39553 | J1965: =WORKDAY(WORKDAY(DATEVALUE("15/"&MONTH(EDATE(C1965,0))&"/"&YEAR(EDATE(C1965,0))-1),-1,Feriados!$A$1:$A$936),1,Feriados!$A$1:$A$936) -> 39217 | K1965: =+(VLOOKUP(H1965,C:D,2,FALSE)/VLOOKUP(J1965,C:D,2,FALSE)-1)*100 -> 5.0416274
A1966: =MONTH(EDATE(C1966,-1))&YEAR(EDATE(C1966,-1))&F1966 -> 42008F | B1966: 760199 | C1966: 39583 | D1966: 1726.9265 | E1966: 0.55 | F1966: F | G1966: 39577 | H1966: =WORKDAY(WORKDAY(DATEVALUE("15/"&MONTH(EDATE(C1966,0))&"/"&YEAR(EDATE(C1966,0))),-1,Feriados!$A$1:$A$936),1,Feriados!$A$1:$A$936) -> 39583 | I1966: =WORKDAY(WORKDAY(DATEVALUE("15/"&MONTH(EDATE(C1966,-1))&"/"&YEAR(EDATE(C1966,-1))),-1,Feriados!$A$1:$A$936),1,Feriados!$A$1:$A$936) -> 39553 | J1966: =WORKDAY(WORKDAY(DATEVALUE("15/"&MONTH(EDATE(C1966,0))&"/"&YEAR(EDATE(C1966,0))-1),-1,Feriados!$A$1:$A$936),1,Feriados!$A$1:$A$936) -> 39217 | K1966: =+(VLOOKUP(H1966,C:D,2,FALSE)/VLOOKUP(J1966,C:D,2,FALSE)-1)*100 -> 5.0416274
A1967: =MONTH(EDATE(C1967,-1))&YEAR(EDATE(C1967,-1))&F1967 -> 42008P | B1967: 760199 | C1967: 39584 | D1967: 1727.3039 | E1967: 0.46 | F1967: P | G1967: 39584 | H1967: =WORKDAY(WORKDAY(DATEVALUE("15/"&MONTH(EDATE(C1967,0))&"/"&YEAR(EDATE(C1967,0))),-1,Feriados!$A$1:$A$936),1,Feriados!$A$1:$A$936) -> 39583 | I1967: =WORKDAY(WORKDAY(DATEVALUE("15/"&MONTH(EDATE(C1967,-1))&"/"&YEAR(EDATE(C1967,-1))),-1,Feriados!$A$1:$A$936),1,Feriados!$A$1:$A$936) -> 39553 | J1967: =WORKDAY(WORKDAY(DATEVALUE("15/"&MONTH(EDATE(C1967,0))&"/"&YEAR(EDATE(C1967,0))-1),-1,Feriados!$A$1:$A$936),1,Feriados!$A$1:$A$936) -> 39217 | K1967: =+(VLOOKUP(H1967,C:D,2,FALSE)/VLOOKUP(J1967,C:D,2,FALSE)-1)*100 -> 5.0416274
A1968: =MONTH(EDATE(C1968,-1))&YEAR(EDATE(C1968,-1))&F1968 -> 42008P | B1968: 760199 | C1968: 39587 | D1968: 1727.6814 | E1968: 0.46 | F1968: P | G1968: 39584 | H1968: =WORKDAY(WORKDAY(DATEVALUE("15/"&MONTH(EDATE(C1968,0))&"/"&YEAR(EDATE(C1968,0))),-1,Feriados!$A$1:$A$936),1,Feriados!$A$1:$A$936) -> 39583 | I1968: =WORKDAY(WORKDAY(DATEVALUE("15/"&MONTH(EDATE(C1968,-1))&"/"&YEAR(EDATE(C1968,-1))),-1,Feriados!$A$1:$A$936),1,Feriados!$A$1:$A$936) -> 39553 | J1968: =WORKDAY(WORKDAY(DATEVALUE("15/"&MONTH(EDATE(C1968,0))&"/"&YEAR(EDATE(C1968,0))-1),-1,Feriados!$A$1:$A$936),1,Feriados!$A$1:$A$936) -> 39217 | K1968: =+(VLOOKUP(H1968,C:D,2,FALSE)/VLOOKUP(J1968,C:D,2,FALSE)-1)*100 -> 5.0416274
A1969: =MONTH(EDATE(C1969,-1))&YEAR(EDATE(C1969,-1))&F1969 -> 42008P | B1969: 760199 | C1969: 39588 | D1969: 1728.0591 | E1969: 0.46 | F1969: P | G1969: 39584 | H1969: =WORKDAY(WORKDAY(DATEVALUE("15/"&MONTH(EDATE(C1969,0))&"/"&YEAR(EDATE(C1969,0))),-1,Feriados!$A$1:$A$936),1,Feriados!$A$1:$A$936) -> 39583 | I1969: =WORKDAY(WORKDAY(DATEVALUE("15/"&MONTH(EDATE(C1969,-1))&"/"&YEAR(EDATE(C1969,-1))),-1,Feriados!$A$1:$A$936),1,Feriados!$A$1:$A$936) -> 39553 | J1969: =WORKDAY(WORKDAY(DATEVALUE("15/"&MONTH(EDATE(C1969,0))&"/"&YEAR(EDATE(C1969,0))-1),-1,Feriados!$A$1:$A$936),1,Feriados!$A$1:$A$936) -> 39217 | K1969: =+(VLOOKUP(H1969,C:D,2,FALSE)/VLOOKUP(J1969,C:D,2,FALSE)-1)*100 -> 5.0416274
A1970: =MONTH(EDATE(C1970,-1))&YEAR(EDATE(C1970,-1))&F1970 -> 42008P | B1970: 760199 | C1970: 39589 | D1970: 1728.4368 | E1970: 0.46 | F1970: P | G1970: 39584 | H1970: =WORKDAY(WORKDAY(DATEVALUE("15/"&MONTH(EDATE(C1970,0))&"/"&YEAR(EDATE(C1970,0))),-1,Feriados!$A$1:$A$936),1,Feriados!$A$1:$A$936) -> 39583 | I1970: =WORKDAY(WORKDAY(DATEVALUE("15/"&MONTH(EDATE(C1970,-1))&"/"&YEAR(EDATE(C1970,-1))),-1,Feriados!$A$1:$A$936),1,Feriados!$A$1:$A$936) -> 39553 | J1970: =WORKDAY(WORKDAY(DATEVALUE("15/"&MONTH(EDATE(C1970,0))&"/"&YEAR(EDATE(C1970,0))-1),-1,Feriados!$A$1:$A$936),1,Feriados!$A$1:$A$936) -> 39217 | K1970: =+(VLOOKUP(H1970,C:D,2,FALSE)/VLOOKUP(J1970,C:D,2,FALSE)-1)*100 -> 5.0416274
A1971: =MONTH(EDATE(C1971,-1))&YEAR(EDATE(C1971,-1))&F1971 -> 42008P | B1971: 760199 | C1971: 39591 | D1971: 1728.8145 | E1971: 0.46 | F1971: P | G1971: 39584 | H1971: =WORKDAY(WORKDAY(DATEVALUE("15/"&MONTH(EDATE(C1971,0))&"/"&YEAR(EDATE(C1971,0))),-1,Feriados!$A$1:$A$936),1,Feriados!$A$1:$A$936) -> 39583 | I1971: =WORKDAY(WORKDAY(DATEVALUE("15/"&MONTH(EDATE(C1971,-1))&"/"&YEAR(EDATE(C1971,-1))),-1,Feriados!$A$1:$A$936),1,Feriados!$A$1:$A$936) -> 39553 | J1971: =WORKDAY(WORKDAY(DATEVALUE("15/"&MONTH(EDATE(C1971,0))&"/"&YEAR(EDATE(C1971,0))-1),-1,Feriados!$A$1:$A$936),1,Feriados!$A$1:$A$936) -> 39217 | K1971: =+(VLOOKUP(H1971,C:D,2,FALSE)/VLOOKUP(J1971,C:D,2,FALSE)-1)*100 -> 5.0416274
A1972: =MONTH(EDATE(C1972,-1))&YEAR(EDATE(C1972,-1))&F1972 -> 42008P | B1972: 760199 | C1972: 39594 | D1972: 1729.1924 | E1972: 0.46 | F1972: P | G1972: 39584 | H1972: =WORKDAY(WORKDAY(DATEVALUE("15/"&MONTH(EDATE(C1972,0))&"/"&YEAR(EDATE(C1972,0))),-1,Feriados!$A$1:$A$936),1,Feriados!$A$1:$A$936) -> 39583 | I1972: =WORKDAY(WORKDAY(DATEVALUE("15/"&MONTH(EDATE(C1972,-1))&"/"&YEAR(EDATE(C1972,-1))),-1,Feriados!$A$1:$A$936),1,Feriados!$A$1:$A$936) -> 39553 | J1972: =WORKDAY(WORKDAY(DATEVALUE("15/"&MONTH(EDATE(C1972,0))&"/"&YEAR(EDATE(C1972,0))-1),-1,Feriados!$A$1:$A$936),1,Feriados!$A$1:$A$936) -> 39217 | K1972: =+(VLOOKUP(H1972,C:D,2,FALSE)/VLOOKUP(J1972,C:D,2,FALSE)-1)*100 -> 5.0416274
A1973: =MONTH(EDATE(C1973,-1))&YEAR(EDATE(C1973,-1))&F1973 -> 42008P | B1973: 760199 | C1973: 39595 | D1973: 1729.5704 | E1973: 0.46 | F1973: P | G1973: 39584 | H1973: =WORKDAY(WORKDAY(DATEVALUE("15/"&MONTH(EDATE(C1973,0))&"/"&YEAR(EDATE(C1973,0))),-1,Feriados!$A$1:$A$936),1,Feriados!$A$1:$A$936) -> 39583 | I1973: =WORKDAY(WORKDAY(DATEVALUE("15/"&MONTH(EDATE(C1973,-1))&"/"&YEAR(EDATE(C1973,-1))),-1,Feriados!$A$1:$A$936),1,Feriados!$A$1:$A$936) -> 39553 | J1973: =WORKDAY(WORKDAY(DATEVALUE("15/"&MONTH(EDATE(C1973,0))&"/"&YEAR(EDATE(C1973,0))-1),-1,Feriados!$A$1:$A$936),1,Feriados!$A$1:$A$936) -> 39217 | K1973: =+(VLOOKUP(H1973,C:D,2,FALSE)/VLOOKUP(J1973,C:D,2,FALSE)-1)*100 -> 5.0416274
A1974: =MONTH(EDATE(C1974,-1))&YEAR(EDATE(C1974,-1))&F1974 -> 42008P | B1974: 760199 | C1974: 39596 | D1974: 1729.9484 | E1974: 0.46 | F1974: P | G1974: 39584 | H1974: =WORKDAY(WORKDAY(DATEVALUE("15/"&MONTH(EDATE(C1974,0))&"/"&YEAR(EDATE(C1974,0))),-1,Feriados!$A$1:$A$936),1,Feriados!$A$1:$A$936) -> 39583 | I1974: =WORKDAY(WORKDAY(DATEVALUE("15/"&MONTH(EDATE(C1974,-1))&"/"&YEAR(EDATE(C1974,-1))),-1,Feriados!$A$1:$A$936),1,Feriados!$A$1:$A$936) -> 39553 | J1974: =WORKDAY(WORKDAY(DATEVALUE("15/"&MONTH(EDATE(C1974,0))&"/"&YEAR(EDATE(C1974,0))-1),-1,Feriados!$A$1:$A$936),1,Feriados!$A$1:$A$936) -> 39217 | K1974: =+(VLOOKUP(H1974,C:D,2,FALSE)/VLOOKUP(J1974,C:D,2,FALSE)-1)*100 -> 5.0416274
... A5732: =MONTH(EDATE(C5732,-1))&YEAR(EDATE(C5732,-1))&F5732 -> 42023P | B5732: 760199 | C5732: 45057 | D5732: 4113.6454 | E5732: 0.55 | F5732: P | G5732: 45043 | H5732: =WORKDAY(WORKDAY(DATEVALUE("15/"&MONTH(EDATE(C5732,0))&"/"&YEAR(EDATE(C5732,0))),-1,Feriados!$A$1:$A$936),1,Feriados!$A$1:$A$936) -> 45061 | I5732: =WORKDAY(WORKDAY(DATEVALUE("15/"&MONTH(EDATE(C5732,-1))&"/"&YEAR(EDATE(C5732,-1))),-1,Feriados!$A$1:$A$936),1,Feriados!$A$1:$A$936) -> 45033 | J5732: =WORKDAY(WORKDAY(DATEVALUE("15/"&MONTH(EDATE(C5732,0))&"/"&YEAR(EDATE(C5732,0))-1),-1,Feriados!$A$1:$A$936),1,Feriados!$A$1:$A$936) -> 44697 | K5732: =+(VLOOKUP(H5732,C:D,2,FALSE)/VLOOKUP(J5732,C:D,2,FALSE)-1)*100 -> #N/A

Sheet Mediana Mensal IPCA TOP 5 LP
A1: IPCA - variação % - Mediana - Período de 02/01/2022 a 11/05/2023 - Base: Top 5 longo prazo
A2: Data | B2: 44531 | C2: 44562 | D2: 44593 | E2: 44621 | F2: 44652 | G2: 44682 | H2: 44713 | I2: 44743 | J2: 44774 | K2: 44805 | L2: 44835 | M2: 44866 | N2: 44896 | O2: 44927 | P2: 44958 | Q2: 44986 | R2: 45017 | S2: 45047 | T2: 45078 | U2: 45108 | V2: 45139 | W2: 45170 | X2: 45200 | Y2: 45231 | Z2: 45261 | AA2: 45292 | AB2: 45323 | AC2: 45352 | AD2: 45383 | AE2: 45413 | AF2: 45444 | AG2: 45474 | AH2: 45505 | AI2: 45536 | AJ2: 45566 | AK2: 45597 | AL2: 45627 | AM2: 45658 | AN2: 45689 | AO2: 45717 | AP2: 45748
A3: 44564 | B3: 0.6388 | C3: 0.638 | D3: 0.53 | E3: 0.4015 | F3: 0.4332 | G3: 0.3845 | H3: 0.34 | I3: 0.3953 | J3: 0.2608 | K3: 0.29 | L3: 0.43 | M3: 0.5043 | N3: 0.51 | O3: 0.408 | P3: 0.3862 | Q3: 0.29 | R3: 0.3 | S3: 0.22 | T3: 0.26 | U3: 0.21 | V3: 0.27 | W3: 0.31 | X3: 0.31 | Y3: 0.36 | Z3: 0.7562
A4: 44565 | B4: 0.6388 | C4: 0.638 | D4: 0.53 | E4: 0.4015 | F4: 0.4332 | G4: 0.3845 | H4: 0.34 | I4: 0.3953 | J4: 0.2608 | K4: 0.29 | L4: 0.43 | M4: 0.5043 | N4: 0.51 | O4: 0.408 | P4: 0.3862 | Q4: 0.29 | R4: 0.3 | S4: 0.22 | T4: 0.26 | U4: 0.21 | V4: 0.27 | W4: 0.31 | X4: 0.31 | Y4: 0.36 | Z4: 0.7562
A5: 44566 | B5: 0.6388 | C5: 0.638 | D5: 0.53 | E5: 0.4015 | F5: 0.4332 | G5: 0.3845 | H5: 0.34 | I5: 0.3953 | J5: 0.2608 | K5: 0.29 | L5: 0.43 | M5: 0.5043 | N5: 0.51 | O5: 0.408 | P5: 0.3862 | Q5: 0.29 | R5: 0.3 | S5: 0.22 | T5: 0.26 | U5: 0.21 | V5: 0.27 | W5: 0.31 | X5: 0.31 | Y5: 0.36 | Z5: 0.7562
A6: 44567 | B6: 0.6388 | C6: 0.638 | D6: 0.53 | E6: 0.4015 | F6: 0.4332 | G6: 0.3845 | H6: 0.34 | I6: 0.3953 | J6: 0.2608 | K6: 0.29 | L6: 0.43 | M6: 0.5043 | N6: 0.51 | O6: 0.408 | P6: 0.3862 | Q6: 0.29 | R6: 0.3 | S6: 0.22 | T6: 0.26 | U6: 0.21 | V6: 0.27 | W6: 0.31 | X6: 0.31 | Y6: 0.36 | Z6: 0.7562
A7: 44568 | B7: 0.6388 | C7: 0.638 | D7: 0.53 | E7: 0.4015 | F7: 0.4332 | G7: 0.3845 | H7: 0.34 | I7: 0.3953 | J7: 0.2608 | K7: 0.29 | L7: 0.43 | M7: 0.5043 | N7: 0.51 | O7: 0.408 | P7: 0.3862 | Q7: 0.29 | R7: 0.3 | S7: 0.22 | T7: 0.26 | U7: 0.21 | V7: 0.27 | W7: 0.31 | X7: 0.31 | Y7: 0.36 | Z7: 0.7562
A8: 44571 | B8: 0.6388 | C8: 0.638 | D8: 0.53 | E8: 0.4015 | F8: 0.4332 | G8: 0.3845 | H8: 0.34 | I8: 0.3953 | J8: 0.2608 | K8: 0.29 | L8: 0.43 | M8: 0.5043 | N8: 0.51 | O8: 0.408 | P8: 0.3862 | Q8: 0.29 | R8: 0.3 | S8: 0.22 | T8: 0.26 | U8: 0.21 | V8: 0.27 | W8: 0.31 | X8: 0.31 | Y8: 0.36 | Z8: 0.7562
A9: 44572 | C9: 0.638 | D9: 0.53 | E9: 0.4015 | F9: 0.4332 | G9: 0.3845 | H9: 0.34 | I9: 0.3953 | J9: 0.2608 | K9: 0.29 | L9: 0.43 | M9: 0.5043 | N9: 0.51 | O9: 0.408 | P9: 0.3862 | Q9: 0.29 | R9: 0.3 | S9: 0.22 | T9: 0.26 | U9: 0.21 | V9: 0.27 | W9: 0.31 | X9: 0.31 | Y9: 0.36 | Z9: 0.7562
A10: 44573 | C10: 0.638 | D10: 0.53 | E10: 0.4015 | F10: 0.4332 | G10: 0.3845 | H10: 0.34 | I10: 0.3953 | J10: 0.2608 | K10: 0.29 | L10: 0.43 | M10: 0.5043 | N10: 0.51 | O10: 0.408 | P10: 0.3862 | Q10: 0.29 | R10: 0.3 | S10: 0.22 | T10: 0.26 | U10: 0.21 | V10: 0.27 | W10: 0.31 | X10: 0.31 | Y10: 0.36 | Z10: 0.7562
A11: 44574 | C11: 0.6419 | D11: 0.5915 | E11: 0.4208 | F11: 0.4383 | G11: 0.4088 | H11: 0.3951 | I11: 0.3577 | J11: 0.2604 | K11: 0.2798 | L11: 0.3591 | M11: 0.4522 | N11: 0.5968 | O11: 0.354 | P11: 0.3581 | Q11: 0.3091 | R11: 0.2545 | S11: 0.253 | T11: 0.2234 | U11: 0.1961 | V11: 0.2138 | W11: 0.2662 | X11: 0.3599 | Y11: 0.455 | Z11: 0.7599
A12: 44575 | C12: 0.575 | D12: 0.7065 | E12: 0.4654 | F12: 0.4383 | G12: 0.4088 | H12: 0.3301 | I12: 0.3577 | J12: 0.2904 | K12: 0.3548 | L12: 0.4 | M12: 0.5122 | N12: 0.5505 | O12: 0.354 | P12: 0.3581 | Q12: 0.3091 | R12: 0.2545 | S12: 0.253 | T12: 0.2234 | U12: 0.1961 | V12: 0.2138 | W12: 0.2662 | X12: 0.3599 | Y12: 0.455 | Z12: 0.7599 | AA12: 0.3532
A13: 44578 | C13: 0.575 | D13: 0.7065 | E13: 0.4654 | F13: 0.4383 | G13: 0.4088 | H13: 0.3301 | I13: 0.3577 | J13: 0.2904 | K13: 0.3548 | L13: 0.4 | M13: 0.5122 | N13: 0.5505 | O13: 0.354 | P13: 0.3581 | Q13: 0.3091 | R13: 0.2545 | S13: 0.253 | T13: 0.2234 | U13: 0.1961 | V13: 0.2138 | W13: 0.2662 | X13: 0.3599 | Y13: 0.455 | Z13: 0.7599 | AA13: 0.3532
A14: 44579 | C14: 0.52 | D14: 0.6529 | E14: 0.44 | F14: 0.4332 | G14: 0.3845 | H14: 0.35 | I14: 0.3953 | J14: 0.32 | K14: 0.44 | L14: 0.46 | M14: 0.5043 | N14: 0.6 | O14: 0.3 | P14: 0.33 | Q14: 0.29 | R14: 0.26 | S14: 0.26 | T14: 0.26 | U14: 0.21 | V14: 0.26 | W14: 0.26 | X14: 0.2898 | Y14: 0.36 | Z14: 0.7562 | AA14: 0.34
A15: 44580 | C15: 0.52 | D15: 0.6529 | E15: 0.44 | F15: 0.4332 | G15: 0.3845 | H15: 0.35 | I15: 0.3953 | J15: 0.32 | K15: 0.44 | L15: 0.46 | M15: 0.5043 | N15: 0.6 | O15: 0.3 | P15: 0.33 | Q15: 0.29 | R15: 0.26 | S15: 0.26 | T15: 0.26 | U15: 0.21 | V15: 0.26 | W15: 0.26 | X15: 0.2898 | Y15: 0.36 | Z15: 0.7562 | AA15: 0.34
A16: 44581 | C16: 0.52 | D16: 0.6529 | E16: 0.44 | F16: 0.4332 | G16: 0.3845 | H16: 0.35 | I16: 0.3953 | J16: 0.32 | K16: 0.44 | L16: 0.46 | M16: 0.5043 | N16: 0.6 | O16: 0.3 | P16: 0.33 | Q16: 0.29 | R16: 0.26 | S16: 0.26 | T16: 0.26 | U16: 0.21 | V16: 0.26 | W16: 0.26 | X16: 0.2898 | Y16: 0.36 | Z16: 0.7562 | AA16: 0.34
A17: 44582 | C17: 0.52 | D17: 0.7311 | E17: 0.44 | F17: 0.42 | G17: 0.4044 | H17: 0.36 | I17: 0.3953 | J17: 0.2608 | K17: 0.35 | L17: 0.46 | M17: 0.5197 | N17: 0.6 | O17: 0.3 | P17: 0.3862 | Q17: 0.29 | R17: 0.27 | S17: 0.26 | T17: 0.26 | U17: 0.21 | V17: 0.26 | W17: 0.26 | X17: 0.2898 | Y17: 0.36 | Z17: 0.4111 | AA17: 0.34
A18: 44585 | C18: 0.5082 | D18: 0.7311 | E18: 0.46 | F18: 0.44 | G18: 0.4044 | H18: 0.36 | I18: 0.3953 | J18: 0.2608 | K18: 0.35 | L18: 0.46 | M18: 0.5197 | N18: 0.6 | O18: 0.3 | P18: 0.3862 | Q18: 0.29 | R18: 0.27 | S18: 0.26 | T18: 0.26 | U18: 0.21 | V18: 0.26 | W18: 0.26 | X18: 0.2898 | Y18: 0.36 | Z18: 0.4111 | AA18: 0.34
A19: 44586 | C19: 0.5082 | D19: 0.7311 | E19: 0.46 | F19: 0.44 | G19: 0.4044 | H19: 0.36 | I19: 0.3953 | J19: 0.2608 | K19: 0.35 | L19: 0.46 | M19: 0.5197 | N19: 0.6 | O19: 0.3 | P19: 0.3862 | Q19: 0.29 | R19: 0.27 | S19: 0.26 | T19: 0.26 | U19: 0.21 | V19: 0.26 | W19: 0.26 | X19: 0.2898 | Y19: 0.36 | Z19: 0.4111 | AA19: 0.34
A20: 44587 | C20: 0.5082 | D20: 0.7311 | E20: 0.46 | F20: 0.44 | G20: 0.4044 | H20: 0.36 | I20: 0.3953 | J20: 0.2608 | K20: 0.35 | L20: 0.46 | M20: 0.5197 | N20: 0.6 | O20: 0.3 | P20: 0.3862 | Q20: 0.29 | R20: 0.27 | S20: 0.26 | T20: 0.26 | U20: 0.21 | V20: 0.26 | W20: 0.26 | X20: 0.2898 | Y20: 0.36 | Z20: 0.4111 | AA20: 0.34
A21: 44588 | C21: 0.5082 | D21: 0.7311 | E21: 0.46 | F21: 0.44 | G21: 0.4044 | H21: 0.36 | I21: 0.3953 | J21: 0.2608 | K21: 0.35 | L21: 0.46 | M21: 0.5197 | N21: 0.6 | O21: 0.3 | P21: 0.3862 | Q21: 0.29 | R21: 0.27 | S21: 0.26 | T21: 0.26 | U21: 0.21 | V21: 0.26 | W21: 0.26 | X21: 0.2898 | Y21: 0.36 | Z21: 0.4111 | AA21: 0.34
A22: 44589 | C22: 0.52 | D22: 0.7311 | E22: 0.46 | F22: 0.44 | G22: 0.4044 | H22: 0.36 | I22: 0.3953 | J22: 0.2608 | K22: 0.35 | L22: 0.46 | M22: 0.5197 | N22: 0.6 | O22: 0.408 | P22: 0.41 | Q22: 0.29 | R22: 0.3087 | S22: 0.22 | T22: 0.31 | U22: 0.21 | V22: 0.26 | W22: 0.31 | X22: 0.31 | Y22: 0.36 | Z22: 0.4111 | AA22: 0.34
A23: 44592 | C23: 0.53 | D23: 0.83 | E23: 0.56 | F23: 0.36 | G23: -0.0351 | H23: 0.46 | I23: 0.5124 | J23: 0.27 | K23: 0.37 | L23: 0.52 | M23: 0.4594 | N23: 0.69 | O23: 0.53 | P23: 0.41 | Q23: 0.35 | R23: 0.38 | S23: 0.27 | T23: 0.31 | U23: 0.2321 | V23: 0.11 | W23: 0.24 | X23: 0.28 | Y23: 0.18 | Z23: 0.44 | AA23: 0.52
... A29: 44600 | C29: 0.52 | D29: 0.79 | E29: 0.59 | F29: 0.45 | G29: 0.07 | H29: 0.46 | I29: 0.57 | J29: 0.39 | K29: 0.37 | L29: 0.52 | M29: 0.46 | N29: 0.69 | O29: 0.53 | P29: 0.43 | Q29: 0.35 | R29: 0.38 | S29: 0.27 | T29: 0.31 | U29: 0.2321 | V29: 0.11 | W29: 0.24 | X29: 0.28 | Y29: 0.18 | Z29: 0.44 | AA29: 0.52
A30: 44601 | D30: 0.81 | E30: 0.6 | F30: 0.45 | G30: 0.07 | H30: 0.46 | I30: 0.57 | J30: 0.35 | K30: 0.37 | L30: 0.52 | M30: 0.46 | N30: 0.69 | O30: 0.53 | P30: 0.43 | Q30: 0.35 | R30: 0.38 | S30: 0.27 | T30: 0.31 | U30: 0.2321 | V30: 0.11 | W30: 0.24 | X30: 0.3 | Y30: 0.18 | Z30: 0.45 | AA30: 0.52
A31: 44602 | D31: 0.81 | E31: 0.6 | F31: 0.45 | G31: 0.07 | H31: 0.46 | I31: 0.57 | J31: 0.35 | K31: 0.37 | L31: 0.52 | M31: 0.46 | N31: 0.69 | O31: 0.53 | P31: 0.43 | Q31: 0.35 | R31: 0.38 | S31: 0.27 | T31: 0.31 | U31: 0.2321 | V31: 0.11 | W31: 0.24 | X31: 0.3 | Y31: 0.18 | Z31: 0.45 | AA31: 0.52
A32: 44603 | D32: 0.81 | E32: 0.57 | F32: 0.45 | G32: 0.07 | H32: 0.46 | I32: 0.57 | J32: 0.35 | K32: 0.43 | L32: 0.52 | M32: 0.46 | N32: 0.69 | O32: 0.53 | P32: 0.43 | Q32: 0.35 | R32: 0.38 | S32: 0.27 | T32: 0.32 | U32: 0.2321 | V32: 0.11 | W32: 0.24 | X32: 0.3 | Y32: 0.21 | Z32: 0.45 | AA32: 0.52
A33: 44606 | D33: 0.81 | E33: 0.57 | F33: 0.45 | G33: 0.07 | H33: 0.46 | I33: 0.57 | J33: 0.35 | K33: 0.43 | L33: 0.52 | M33: 0.46 | N33: 0.69 | O33: 0.53 | P33: 0.43 | Q33: 0.35 | R33: 0.38 | S33: 0.27 | T33: 0.32 | U33: 0.2321 | V33: 0.11 | W33: 0.24 | X33: 0.3 | Y33: 0.21 | Z33: 0.45 | AA33: 0.52
A34: 44607 | D34: 0.81 | E34: 0.57 | F34: 0.45 | G34: 0.07 | H34: 0.46 | I34: 0.57 | J34: 0.35 | K34: 0.43 | L34: 0.52 | M34: 0.46 | N34: 0.69 | O34: 0.53 | P34: 0.43 | Q34: 0.35 | R34: 0.38 | S34: 0.27 | T34: 0.32 | U34: 0.2321 | V34: 0.11 | W34: 0.24 | X34: 0.3 | Y34: 0.21 | Z34: 0.45 | AA34: 0.52
A35: 44608 | D35: 0.81 | E35: 0.57 | F35: 0.45 | G35: 0.07 | H35: 0.46 | I35: 0.57 | J35: 0.35 | K35: 0.43 | L35: 0.52 | M35: 0.46 | N35: 0.69 | O35: 0.53 | P35: 0.43 | Q35: 0.35 | R35: 0.38 | S35: 0.27 | T35: 0.32 | U35: 0.2321 | V35: 0.11 | W35: 0.24 | X35: 0.3 | Y35: 0.21 | Z35: 0.45 | AA35: 0.52
A36: 44609 | D36: 0.81 | E36: 0.57 | F36: 0.45 | G36: 0.07 | H36: 0.46 | I36: 0.57 | J36: 0.35 | K36: 0.43 | L36: 0.52 | M36: 0.46 | N36: 0.69 | O36: 0.53 | P36: 0.43 | Q36: 0.35 | R36: 0.38 | S36: 0.27 | T36: 0.32 | U36: 0.2321 | V36: 0.11 | W36: 0.24 | X36: 0.3 | Y36: 0.21 | Z36: 0.45 | AA36: 0.52
A37: 44610 | D37: 0.88 | E37: 0.55 | F37: 0.68 | G37: -0.09 | H37: 0.47 | I37: 0.5 | J37: 0.34 | K37: 0.43 | L37: 0.52 | M37: 0.45 | N37: 0.69 | O37: 0.53 | P37: 0.46 | Q37: 0.36 | R37: 0.38 | S37: 0.27 | T37: 0.3 | U37: 0.2321 | V37: 0.12 | W37: 0.24 | X37: 0.28 | Y37: 0.23 | Z37: 0.45 | AA37: 0.6 | AB37: 0.5
A38: 44613 | D38: 0.88 | E38: 0.55 | F38: 0.68 | G38: -0.09 | H38: 0.47 | I38: 0.5 | J38: 0.34 | K38: 0.43 | L38: 0.52 | M38: 0.45 | N38: 0.69 | O38: 0.53 | P38: 0.46 | Q38: 0.36 | R38: 0.38 | S38: 0.27 | T38: 0.3 | U38: 0.2321 | V38: 0.12 | W38: 0.24 | X38: 0.28 | Y38: 0.23 | Z38: 0.45 | AA38: 0.6 | AB38: 0.5
A39: 44614 | D39: 0.88 | E39: 0.55 | F39: 0.68 | G39: -0.09 | H39: 0.47 | I39: 0.5 | J39: 0.34 | K39: 0.43 | L39: 0.52 | M39: 0.45 | N39: 0.69 | O39: 0.53 | P39: 0.46 | Q39: 0.36 | R39: 0.38 | S39: 0.27 | T39: 0.3 | U39: 0.2321 | V39: 0.12 | W39: 0.24 | X39: 0.28 | Y39: 0.23 | Z39: 0.45 | AA39: 0.6 | AB39: 0.5
A40: 44615 | D40: 0.88 | E40: 0.55 | F40: 0.68 | G40: -0.09 | H40: 0.47 | I40: 0.5 | J40: 0.34 | K40: 0.43 | L40: 0.52 | M40: 0.45 | N40: 0.69 | O40: 0.53 | P40: 0.46 | Q40: 0.36 | R40: 0.38 | S40: 0.27 | T40: 0.3 | U40: 0.2321 | V40: 0.12 | W40: 0.24 | X40: 0.28 | Y40: 0.23 | Z40: 0.45 | AA40: 0.6 | AB40: 0.5
A41: 44616 | D41: 0.88 | E41: 0.55 | F41: 0.68 | G41: -0.09 | H41: 0.47 | I41: 0.5 | J41: 0.34 | K41: 0.43 | L41: 0.52 | M41: 0.45 | N41: 0.69 | O41: 0.53 | P41: 0.46 | Q41: 0.36 | R41: 0.38 | S41: 0.27 | T41: 0.3 | U41: 0.2321 | V41: 0.12 | W41: 0.24 | X41: 0.28 | Y41: 0.23 | Z41: 0.45 | AA41: 0.6 | AB41: 0.5
A42: 44617 | D42: 0.88 | E42: 0.55 | F42: 0.68 | G42: -0.09 | H42: 0.47 | I42: 0.5 | J42: 0.34 | K42: 0.43 | L42: 0.52 | M42: 0.45 | N42: 0.69 | O42: 0.53 | P42: 0.46 | Q42: 0.36 | R42: 0.38 | S42: 0.27 | T42: 0.3 | U42: 0.2321 | V42: 0.12 | W42: 0.24 | X42: 0.28 | Y42: 0.23 | Z42: 0.45 | AA42: 0.6 | AB42: 0.5
A43: 44622 | D43: 0.88 | E43: 0.55 | F43: 0.68 | G43: -0.09 | H43: 0.47 | I43: 0.5 | J43: 0.34 | K43: 0.43 | L43: 0.52 | M43: 0.45 | N43: 0.69 | O43: 0.53 | P43: 0.46 | Q43: 0.36 | R43: 0.38 | S43: 0.27 | T43: 0.3 | U43: 0.2321 | V43: 0.12 | W43: 0.24 | X43: 0.28 | Y43: 0.23 | Z43: 0.45 | AA43: 0.6 | AB43: 0.5
A44: 44623 | D44: 0.88 | E44: 0.55 | F44: 0.68 | G44: -0.09 | H44: 0.47 | I44: 0.5 | J44: 0.34 | K44: 0.43 | L44: 0.52 | M44: 0.45 | N44: 0.69 | O44: 0.53 | P44: 0.46 | Q44: 0.36 | R44: 0.38 | S44: 0.27 | T44: 0.3 | U44: 0.2321 | V44: 0.12 | W44: 0.24 | X44: 0.28 | Y44: 0.23 | Z44: 0.45 | AA44: 0.6 | AB44: 0.5
A45: 44624 | D45: 0.88 | E45: 0.55 | F45: 0.68 | G45: -0.09 | H45: 0.47 | I45: 0.5 | J45: 0.34 | K45: 0.43 | L45: 0.52 | M45: 0.45 | N45: 0.69 | O45: 0.53 | P45: 0.46 | Q45: 0.36 | R45: 0.38 | S45: 0.27 | T45: 0.3 | U45: 0.2321 | V45: 0.12 | W45: 0.24 | X45: 0.28 | Y45: 0.23 | Z45: 0.45 | AA45: 0.6 | AB45: 0.5
...

Sheet Análises Mês IPCA Proj x Real
A1: Data | B1: 45017 | C1: =MONTH(EDATE(B1,0))&YEAR(EDATE(B1,0))&"F" -> 42023F
A2: 44564 | B2: =IF(VLOOKUP(A2,'Mediana Mensal IPCA TOP 5 LP'!$A$2:$XFC$10000,MATCH(B$1,'Mediana Mensal IPCA TOP 5 LP'!$A$2:$XDF$2,0),FALSE)=0,NA(),VLOOKUP(A2,'Mediana Mensal IPCA TOP 5 LP'!$A$2:$XFC$10000,MATCH(B$1,'Mediana Mensal IPCA TOP 5 LP'!$A$2:$XDF$2,0),FALSE)) -> 0.3 | C2: =IF(VLOOKUP(A2,'Mediana Mensal IPCA TOP 5 LP'!$A$2:$XFC$10000,MATCH(B$1,'Mediana Mensal IPCA TOP 5 LP'!$A$2:$XDF$2,0),FALSE)=0,NA(),VLOOKUP($C$1,'VNA IPCA'!A:G,5,FALSE)) -> #N/A
A3: 44565 | B3: =IF(VLOOKUP(A3,'Mediana Mensal IPCA TOP 5 LP'!$A$2:$XFC$10000,MATCH(B$1,'Mediana Mensal IPCA TOP 5 LP'!$A$2:$XDF$2,0),FALSE)=0,NA(),VLOOKUP(A3,'Mediana Mensal IPCA TOP 5 LP'!$A$2:$XFC$10000,MATCH(B$1,'Mediana Mensal IPCA TOP 5 LP'!$A$2:$XDF$2,0),FALSE)) -> 0.3 | C3: =IF(VLOOKUP(A3,'Mediana Mensal IPCA TOP 5 LP'!$A$2:$XFC$10000,MATCH(B$1,'Mediana Mensal IPCA TOP 5 LP'!$A$2:$XDF$2,0),FALSE)=0,NA(),VLOOKUP($C$1,'VNA IPCA'!A:G,5,FALSE)) -> #N/A
A4: 44566 | B4: =IF(VLOOKUP(A4,'Mediana Mensal IPCA TOP 5 LP'!$A$2:$XFC$10000,MATCH(B$1,'Mediana Mensal IPCA TOP 5 LP'!$A$2:$XDF$2,0),FALSE)=0,NA(),VLOOKUP(A4,'Mediana Mensal IPCA TOP 5 LP'!$A$2:$XFC$10000,MATCH(B$1,'Mediana Mensal IPCA TOP 5 LP'!$A$2:$XDF$2,0),FALSE)) -> 0.3 | C4: =IF(VLOOKUP(A4,'Mediana Mensal IPCA TOP 5 LP'!$A$2:$XFC$10000,MATCH(B$1,'Mediana Mensal IPCA TOP 5 LP'!$A$2:$XDF$2,0),FALSE)=0,NA(),VLOOKUP($C$1,'VNA IPCA'!A:G,5,FALSE)) -> #N/A
A5: 44567 | B5: =IF(VLOOKUP(A5,'Mediana Mensal IPCA TOP 5 LP'!$A$2:$XFC$10000,MATCH(B$1,'Mediana Mensal IPCA TOP 5 LP'!$A$2:$XDF$2,0),FALSE)=0,NA(),VLOOKUP(A5,'Mediana Mensal IPCA TOP 5 LP'!$A$2:$XFC$10000,MATCH(B$1,'Mediana Mensal IPCA TOP 5 LP'!$A$2:$XDF$2,0),FALSE)) -> 0.3 | C5: =IF(VLOOKUP(A5,'Mediana Mensal IPCA TOP 5 LP'!$A$2:$XFC$10000,MATCH(B$1,'Mediana Mensal IPCA TOP 5 LP'!$A$2:$XDF$2,0),FALSE)=0,NA(),VLOOKUP($C$1,'VNA IPCA'!A:G,5,FALSE)) -> #N/A
A6: 44568 | B6: =IF(VLOOKUP(A6,'Mediana Mensal IPCA TOP 5 LP'!$A$2:$XFC$10000,MATCH(B$1,'Mediana Mensal IPCA TOP 5 LP'!$A$2:$XDF$2,0),FALSE)=0,NA(),VLOOKUP(A6,'Mediana Mensal IPCA TOP 5 LP'!$A$2:$XFC$10000,MATCH(B$1,'Mediana Mensal IPCA TOP 5 LP'!$A$2:$XDF$2,0),FALSE)) -> 0.3 | C6: =IF(VLOOKUP(A6,'Mediana Mensal IPCA TOP 5 LP'!$A$2:$XFC$10000,MATCH(B$1,'Mediana Mensal IPCA TOP 5 LP'!$A$2:$XDF$2,0),FALSE)=0,NA(),VLOOKUP($C$1,'VNA IPCA'!A:G,5,FALSE)) -> #N/A
A7: 44571 | B7: =IF(VLOOKUP(A7,'Mediana Mensal IPCA TOP 5 LP'!$A$2:$XFC$10000,MATCH(B$1,'Mediana Mensal IPCA TOP 5 LP'!$A$2:$XDF$2,0),FALSE)=0,NA(),VLOOKUP(A7,'Mediana Mensal IPCA TOP 5 LP'!$A$2:$XFC$10000,MATCH(B$1,'Mediana Mensal IPCA TOP 5 LP'!$A$2:$XDF$2,0),FALSE)) -> 0.3 | C7: =IF(VLOOKUP(A7,'Mediana Mensal IPCA TOP 5 LP'!$A$2:$XFC$10000,MATCH(B$1,'Mediana Mensal IPCA TOP 5 LP'!$A$2:$XDF$2,0),FALSE)=0,NA(),VLOOKUP($C$1,'VNA IPCA'!A:G,5,FALSE)) -> #N/A
A8: 44572 | B8: =IF(VLOOKUP(A8,'Mediana Mensal IPCA TOP 5 LP'!$A$2:$XFC$10000,MATCH(B$1,'Mediana Mensal IPCA TOP 5 LP'!$A$2:$XDF$2,0),FALSE)=0,NA(),VLOOKUP(A8,'Mediana Mensal IPCA TOP 5 LP'!$A$2:$XFC$10000,MATCH(B$1,'Mediana Mensal IPCA TOP 5 LP'!$A$2:$XDF$2,0),FALSE)) -> 0.3 | C8: =IF(VLOOKUP(A8,'Mediana Mensal IPCA TOP 5 LP'!$A$2:$XFC$10000,MATCH(B$1,'Mediana Mensal IPCA TOP 5 LP'!$A$2:$XDF$2,0),FALSE)=0,NA(),VLOOKUP($C$1,'VNA IPCA'!A:G,5,FALSE)) -> #N/A
A9: 44573 | B9: =IF(VLOOKUP(A9,'Mediana Mensal IPCA TOP 5 LP'!$A$2:$XFC$10000,MATCH(B$1,'Mediana Mensal IPCA TOP 5 LP'!$A$2:$XDF$2,0),FALSE)=0,NA(),VLOOKUP(A9,'Mediana Mensal IPCA TOP 5 LP'!$A$2:$XFC$10000,MATCH(B$1,'Mediana Mensal IPCA TOP 5 LP'!$A$2:$XDF$2,0),FALSE)) -> 0.3 | C9: =IF(VLOOKUP(A9,'Mediana Mensal IPCA TOP 5 LP'!$A$2:$XFC$10000,MATCH(B$1,'Mediana Mensal IPCA TOP 5 LP'!$A$2:$XDF$2,0),FALSE)=0,NA(),VLOOKUP($C$1,'VNA IPCA'!A:G,5,FALSE)) -> #N/A
A10: 44574 | B10: =IF(VLOOKUP(A10,'Mediana Mensal IPCA TOP 5 LP'!$A$2:$XFC$10000,MATCH(B$1,'Mediana Mensal IPCA TOP 5 LP'!$A$2:$XDF$2,0),FALSE)=0,NA(),VLOOKUP(A10,'Mediana Mensal IPCA TOP 5 LP'!$A$2:$XFC$10000,MATCH(B$1,'Mediana Mensal IPCA TOP 5 LP'!$A$2:$XDF$2,0),FALSE)) -> 0.2545 | C10: =IF(VLOOKUP(A10,'Mediana Mensal IPCA TOP 5 LP'!$A$2:$XFC$10000,MATCH(B$1,'Mediana Mensal IPCA TOP 5 LP'!$A$2:$XDF$2,0),FALSE)=0,NA(),VLOOKUP($C$1,'VNA IPCA'!A:G,5,FALSE)) -> #N/A
A11: 44575 | B11: =IF(VLOOKUP(A11,'Mediana Mensal IPCA TOP 5 LP'!$A$2:$XFC$10000,MATCH(B$1,'Mediana Mensal IPCA TOP 5 LP'!$A$2:$XDF$2,0),FALSE)=0,NA(),VLOOKUP(A11,'Mediana Mensal IPCA TOP 5 LP'!$A$2:$XFC$10000,MATCH(B$1,'Mediana Mensal IPCA TOP 5 LP'!$A$2:$XDF$2,0),FALSE)) -> 0.2545 | C11: =IF(VLOOKUP(A11,'Mediana Mensal IPCA TOP 5 LP'!$A$2:$XFC$10000,MATCH(B$1,'Mediana Mensal IPCA TOP 5 LP'!$A$2:$XDF$2,0),FALSE)=0,NA(),VLOOKUP($C$1,'VNA IPCA'!A:G,5,FALSE)) -> #N/A
A12: 44578 | B12: =IF(VLOOKUP(A12,'Mediana Mensal IPCA TOP 5 LP'!$A$2:$XFC$10000,MATCH(B$1,'Mediana Mensal IPCA TOP 5 LP'!$A$2:$XDF$2,0),FALSE)=0,NA(),VLOOKUP(A12,'Mediana Mensal IPCA TOP 5 LP'!$A$2:$XFC$10000,MATCH(B$1,'Mediana Mensal IPCA TOP 5 LP'!$A$2:$XDF$2,0),FALSE)) -> 0.2545 | C12: =IF(VLOOKUP(A12,'Mediana Mensal IPCA TOP 5 LP'!$A$2:$XFC$10000,MATCH(B$1,'Mediana Mensal IPCA TOP 5 LP'!$A$2:$XDF$2,0),FALSE)=0,NA(),VLOOKUP($C$1,'VNA IPCA'!A:G,5,FALSE)) -> #N/A
A13: 44579 | B13: =IF(VLOOKUP(A13,'Mediana Mensal IPCA TOP 5 LP'!$A$2:$XFC$10000,MATCH(B$1,'Mediana Mensal IPCA TOP 5 LP'!$A$2:$XDF$2,0),FALSE)=0,NA(),VLOOKUP(A13,'Mediana Mensal IPCA TOP 5 LP'!$A$2:$XFC$10000,MATCH(B$1,'Mediana Mensal IPCA TOP 5 LP'!$A$2:$XDF$2,0),FALSE)) -> 0.26 | C13: =IF(VLOOKUP(A13,'Mediana Mensal IPCA TOP 5 LP'!$A$2:$XFC$10000,MATCH(B$1,'Mediana Mensal IPCA TOP 5 LP'!$A$2:$XDF$2,0),FALSE)=0,NA(),VLOOKUP($C$1,'VNA IPCA'!A:G,5,FALSE)) -> #N/A
... A337: 45051 | B337: =IF(VLOOKUP(A337,'Mediana Mensal IPCA TOP 5 LP'!$A$2:$XFC$10000,MATCH(B$1,'Mediana Mensal IPCA TOP 5 LP'!$A$2:$XDF$2,0),FALSE)=0,NA(),VLOOKUP(A337,'Mediana Mensal IPCA TOP 5 LP'!$A$2:$XFC$10000,MATCH(B$1,'Mediana Mensal IPCA TOP 5 LP'!$A$2:$XDF$2,0),FALSE)) -> 0.57 | C337: =IF(VLOOKUP(A337,'Mediana Mensal IPCA TOP 5 LP'!$A$2:$XFC$10000,MATCH(B$1,'Mediana Mensal IPCA TOP 5 LP'!$A$2:$XDF$2,0),FALSE)=0,NA(),VLOOKUP($C$1,'VNA IPCA'!A:G,5,FALSE)) -> #N/A

Sheet Análises Mês IPCA
A1: Data | B1: 45017 | C1: 45047 | D1: 45078 | E1: 45108 | F1: 45139
A2: 44564 | B2: =IF(VLOOKUP(A2,'Mediana Mensal IPCA TOP 5 LP'!$A$2:$XFC$10000,MATCH(B$1,'Mediana Mensal IPCA TOP 5 LP'!$A$2:$XDF$2,0),FALSE)=0,NA(),VLOOKUP(A2,'Mediana Mensal IPCA TOP 5 LP'!$A$2:$XFC$10000,MATCH(B$1,'Mediana Mensal IPCA TOP 5 LP'!$A$2:$XDF$2,0),FALSE)) -> 0.3 | C2: =IF(VLOOKUP(A2,'Mediana Mensal IPCA TOP 5 LP'!$A$2:$XFC$10000,MATCH(C$1,'Mediana Mensal IPCA TOP 5 LP'!$A$2:$XDF$2,0),FALSE)=0,NA(),VLOOKUP(A2,'Mediana Mensal IPCA TOP 5 LP'!$A$2:$XFC$10000,MATCH(C$1,'Mediana Mensal IPCA TOP 5 LP'!$A$2:$XDF$2,0),FALSE)) -> 0.22 | D2: =IF(VLOOKUP(A2,'Mediana Mensal IPCA TOP 5 LP'!$A$2:$XFC$10000,MATCH(D$1,'Mediana Mensal IPCA TOP 5 LP'!$A$2:$XDF$2,0),FALSE)=0,NA(),VLOOKUP(A2,'Mediana Mensal IPCA TOP 5 LP'!$A$2:$XFC$10000,MATCH(D$1,'Mediana Mensal IPCA TOP 5 LP'!$A$2:$XDF$2,0),FALSE)) -> 0.26 | E2: =IF(VLOOKUP(A2,'Mediana Mensal IPCA TOP 5 LP'!$A$2:$XFC$10000,MATCH(E$1,'Mediana Mensal IPCA TOP 5 LP'!$A$2:$XDF$2,0),FALSE)=0,NA(),VLOOKUP(A2,'Mediana Mensal IPCA TOP 5 LP'!$A$2:$XFC$10000,MATCH(E$1,'Mediana Mensal IPCA TOP 5 LP'!$A$2:$XDF$2,0),FALSE)) -> 0.21 | F2: =IF(VLOOKUP(A2,'Mediana Mensal IPCA TOP 5 LP'!$A$2:$XFC$10000,MATCH(F$1,'Mediana Mensal IPCA TOP 5 LP'!$A$2:$XDF$2,0),FALSE)=0,NA(),VLOOKUP(A2,'Mediana Mensal IPCA TOP 5 LP'!$A$2:$XFC$10000,MATCH(F$1,'Mediana Mensal IPCA TOP 5 LP'!$A$2:$XDF$2,0),FALSE)) -> 0.27
A3: 44565 | B3: =IF(VLOOKUP(A3,'Mediana Mensal IPCA TOP 5 LP'!$A$2:$XFC$10000,MATCH(B$1,'Mediana Mensal IPCA TOP 5 LP'!$A$2:$XDF$2,0),FALSE)=0,NA(),VLOOKUP(A3,'Mediana Mensal IPCA TOP 5 LP'!$A$2:$XFC$10000,MATCH(B$1,'Mediana Mensal IPCA TOP 5 LP'!$A$2:$XDF$2,0),FALSE)) -> 0.3 | C3: =IF(VLOOKUP(A3,'Mediana Mensal IPCA TOP 5 LP'!$A$2:$XFC$10000,MATCH(C$1,'Mediana Mensal IPCA TOP 5 LP'!$A$2:$XDF$2,0),FALSE)=0,NA(),VLOOKUP(A3,'Mediana Mensal IPCA TOP 5 LP'!$A$2:$XFC$10000,MATCH(C$1,'Mediana Mensal IPCA TOP 5 LP'!$A$2:$XDF$2,0),FALSE)) -> 0.22 | D3: =IF(VLOOKUP(A3,'Mediana Mensal IPCA TOP 5 LP'!$A$2:$XFC$10000,MATCH(D$1,'Mediana Mensal IPCA TOP 5 LP'!$A$2:$XDF$2,0),FALSE)=0,NA(),VLOOKUP(A3,'Mediana Mensal IPCA TOP 5 LP'!$A$2:$XFC$10000,MATCH(D$1,'Mediana Mensal IPCA TOP 5 LP'!$A$2:$XDF$2,0),FALSE)) -> 0.26 | E3: =IF(VLOOKUP(A3,'Mediana Mensal IPCA TOP 5 LP'!$A$2:$XFC$10000,MATCH(E$1,'Mediana Mensal IPCA TOP 5 LP'!$A$2:$XDF$2,0),FALSE)=0,NA(),VLOOKUP(A3,'Mediana Mensal IPCA TOP 5 LP'!$A$2:$XFC$10000,MATCH(E$1,'Mediana Mensal IPCA TOP 5 LP'!$A$2:$XDF$2,0),FALSE)) -> 0.21 | F3: =IF(VLOOKUP(A3,'Mediana Mensal IPCA TOP 5 LP'!$A$2:$XFC$10000,MATCH(F$1,'Mediana Mensal IPCA TOP 5 LP'!$A$2:$XDF$2,0),FALSE)=0,NA(),VLOOKUP(A3,'Mediana Mensal IPCA TOP 5 LP'!$A$2:$XFC$10000,MATCH(F$1,'Mediana Mensal IPCA TOP 5 LP'!$A$2:$XDF$2,0),FALSE)) -> 0.27
A4: 44566 | B4: =IF(VLOOKUP(A4,'Mediana Mensal IPCA TOP 5 LP'!$A$2:$XFC$10000,MATCH(B$1,'Mediana Mensal IPCA TOP 5 LP'!$A$2:$XDF$2,0),FALSE)=0,NA(),VLOOKUP(A4,'Mediana Mensal IPCA TOP 5 LP'!$A$2:$XFC$10000,MATCH(B$1,'Mediana Mensal IPCA TOP 5 LP'!$A$2:$XDF$2,0),FALSE)) -> 0.3 | C4: =IF(VLOOKUP(A4,'Mediana Mensal IPCA TOP 5 LP'!$A$2:$XFC$10000,MATCH(C$1,'Mediana Mensal IPCA TOP 5 LP'!$A$2:$XDF$2,0),FALSE)=0,NA(),VLOOKUP(A4,'Mediana Mensal IPCA TOP 5 LP'!$A$2:$XFC$10000,MATCH(C$1,'Mediana Mensal IPCA TOP 5 LP'!$A$2:$XDF$2,0),FALSE)) -> 0.22 | D4: =IF(VLOOKUP(A4,'Mediana Mensal IPCA TOP 5 LP'!$A$2:$XFC$10000,MATCH(D$1,'Mediana Mensal IPCA TOP 5 LP'!$A$2:$XDF$2,0),FALSE)=0,NA(),VLOOKUP(A4,'Mediana Mensal IPCA TOP 5 LP'!$A$2:$XFC$10000,MATCH(D$1,'Mediana Mensal IPCA TOP 5 LP'!$A$2:$XDF$2,0),FALSE)) -> 0.26 | E4: =IF(VLOOKUP(A4,'Mediana Mensal IPCA TOP 5 LP'!$A$2:$XFC$10000,MATCH(E$1,'Mediana Mensal IPCA TOP 5 LP'!$A$2:$XDF$2,0),FALSE)=0,NA(),VLOOKUP(A4,'Mediana Mensal IPCA TOP 5 LP'!$A$2:$XFC$10000,MATCH(E$1,'Mediana Mensal IPCA TOP 5 LP'!$A$2:$XDF$2,0),FALSE)) -> 0.21 | F4: =IF(VLOOKUP(A4,'Mediana Mensal IPCA TOP 5 LP'!$A$2:$XFC$10000,MATCH(F$1,'Mediana Mensal IPCA TOP 5 LP'!$A$2:$XDF$2,0),FALSE)=0,NA(),VLOOKUP(A4,'Mediana Mensal IPCA TOP 5 LP'!$A$2:$XFC$10000,MATCH(F$1,'Mediana Mensal IPCA TOP 5 LP'!$A$2:$XDF$2,0),FALSE)) -> 0.27
A5: 44567 | B5: =IF(VLOOKUP(A5,'Mediana Mensal IPCA TOP 5 LP'!$A$2:$XFC$10000,MATCH(B$1,'Mediana Mensal IPCA TOP 5 LP'!$A$2:$XDF$2,0),FALSE)=0,NA(),VLOOKUP(A5,'Mediana Mensal IPCA TOP 5 LP'!$A$2:$XFC$10000,MATCH(B$1,'Mediana Mensal IPCA TOP 5 LP'!$A$2:$XDF$2,0),FALSE)) -> 0.3 | C5: =IF(VLOOKUP(A5,'Mediana Mensal IPCA TOP 5 LP'!$A$2:$XFC$10000,MATCH(C$1,'Mediana Mensal IPCA TOP 5 LP'!$A$2:$XDF$2,0),FALSE)=0,NA(),VLOOKUP(A5,'Mediana Mensal IPCA TOP 5 LP'!$A$2:$XFC$10000,MATCH(C$1,'Mediana Mensal IPCA TOP 5 LP'!$A$2:$XDF$2,0),FALSE)) -> 0.22 | D5: =IF(VLOOKUP(A5,'Mediana Mensal IPCA TOP 5 LP'!$A$2:$XFC$10000,MATCH(D$1,'Mediana Mensal IPCA TOP 5 LP'!$A$2:$XDF$2,0),FALSE)=0,NA(),VLOOKUP(A5,'Mediana Mensal IPCA TOP 5 LP'!$A$2:$XFC$10000,MATCH(D$1,'Mediana Mensal IPCA TOP 5 LP'!$A$2:$XDF$2,0),FALSE)) -> 0.26 | E5: =IF(VLOOKUP(A5,'Mediana Mensal IPCA TOP 5 LP'!$A$2:$XFC$10000,MATCH(E$1,'Mediana Mensal IPCA TOP 5 LP'!$A$2:$XDF$2,0),FALSE)=0,NA(),VLOOKUP(A5,'Mediana Mensal IPCA TOP 5 LP'!$A$2:$XFC$10000,MATCH(E$1,'Mediana Mensal IPCA TOP 5 LP'!$A$2:$XDF$2,0),FALSE)) -> 0.21 | F5: =IF(VLOOKUP(A5,'Mediana Mensal IPCA TOP 5 LP'!$A$2:$XFC$10000,MATCH(F$1,'Mediana Mensal IPCA TOP 5 LP'!$A$2:$XDF$2,0),FALSE)=0,NA(),VLOOKUP(A5,'Mediana Mensal IPCA TOP 5 LP'!$A$2:$XFC$10000,MATCH(F$1,'Mediana Mensal IPCA TOP 5 LP'!$A$2:$XDF$2,0),FALSE)) -> 0.27
A6: 44568 | B6: =IF(VLOOKUP(A6,'Mediana Mensal IPCA TOP 5 LP'!$A$2:$XFC$10000,MATCH(B$1,'Mediana Mensal IPCA TOP 5 LP'!$A$2:$XDF$2,0),FALSE)=0,NA(),VLOOKUP(A6,'Mediana Mensal IPCA TOP 5 LP'!$A$2:$XFC$10000,MATCH(B$1,'Mediana Mensal IPCA TOP 5 LP'!$A$2:$XDF$2,0),FALSE)) -> 0.3 | C6: =IF(VLOOKUP(A6,'Mediana Mensal IPCA TOP 5 LP'!$A$2:$XFC$10000,MATCH(C$1,'Mediana Mensal IPCA TOP 5 LP'!$A$2:$XDF$2,0),FALSE)=0,NA(),VLOOKUP(A6,'Mediana Mensal IPCA TOP 5 LP'!$A$2:$XFC$10000,MATCH(C$1,'Mediana Mensal IPCA TOP 5 LP'!$A$2:$XDF$2,0),FALSE)) -> 0.22 | D6: =IF(VLOOKUP(A6,'Mediana Mensal IPCA TOP 5 LP'!$A$2:$XFC$10000,MATCH(D$1,'Mediana Mensal IPCA TOP 5 LP'!$A$2:$XDF$2,0),FALSE)=0,NA(),VLOOKUP(A6,'Mediana Mensal IPCA TOP 5 LP'!$A$2:$XFC$10000,MATCH(D$1,'Mediana Mensal IPCA TOP 5 LP'!$A$2:$XDF$2,0),FALSE)) -> 0.26 | E6: =IF(VLOOKUP(A6,'Mediana Mensal IPCA TOP 5 LP'!$A$2:$XFC$10000,MATCH(E$1,'Mediana Mensal IPCA TOP 5 LP'!$A$2:$XDF$2,0),FALSE)=0,NA(),VLOOKUP(A6,'Mediana Mensal IPCA TOP 5 LP'!$A$2:$XFC$10000,MATCH(E$1,'Mediana Mensal IPCA TOP 5 LP'!$A$2:$XDF$2,0),FALSE)) -> 0.21 | F6: =IF(VLOOKUP(A6,'Mediana Mensal IPCA TOP 5 LP'!$A$2:$XFC$10000,MATCH(F$1,'Mediana Mensal IPCA TOP 5 LP'!$A$2:$XDF$2,0),FALSE)=0,NA(),VLOOKUP(A6,'Mediana Mensal IPCA TOP 5 LP'!$A$2:$XFC$10000,MATCH(F$1,'Mediana Mensal IPCA TOP 5 LP'!$A$2:$XDF$2,0),FALSE)) -> 0.27
A7: 44571 | B7: =IF(VLOOKUP(A7,'Mediana Mensal IPCA TOP 5 LP'!$A$2:$XFC$10000,MATCH(B$1,'Mediana Mensal IPCA TOP 5 LP'!$A$2:$XDF$2,0),FALSE)=0,NA(),VLOOKUP(A7,'Mediana Mensal IPCA TOP 5 LP'!$A$2:$XFC$10000,MATCH(B$1,'Mediana Mensal IPCA TOP 5 LP'!$A$2:$XDF$2,0),FALSE)) -> 0.3 | C7: =IF(VLOOKUP(A7,'Mediana Mensal IPCA TOP 5 LP'!$A$2:$XFC$10000,MATCH(C$1,'Mediana Mensal IPCA TOP 5 LP'!$A$2:$XDF$2,0),FALSE)=0,NA(),VLOOKUP(A7,'Mediana Mensal IPCA TOP 5 LP'!$A$2:$XFC$10000,MATCH(C$1,'Mediana Mensal IPCA TOP 5 LP'!$A$2:$XDF$2,0),FALSE)) -> 0.22 | D7: =IF(VLOOKUP(A7,'Mediana Mensal IPCA TOP 5 LP'!$A$2:$XFC$10000,MATCH(D$1,'Mediana Mensal IPCA TOP 5 LP'!$A$2:$XDF$2,0),FALSE)=0,NA(),VLOOKUP(A7,'Mediana Mensal IPCA TOP 5 LP'!$A$2:$XFC$10000,MATCH(D$1,'Mediana Mensal IPCA TOP 5 LP'!$A$2:$XDF$2,0),FALSE)) -> 0.26 | E7: =IF(VLOOKUP(A7,'Mediana Mensal IPCA TOP 5 LP'!$A$2:$XFC$10000,MATCH(E$1,'Mediana Mensal IPCA TOP 5 LP'!$A$2:$XDF$2,0),FALSE)=0,NA(),VLOOKUP(A7,'Mediana Mensal IPCA TOP 5 LP'!$A$2:$XFC$10000,MATCH(E$1,'Mediana Mensal IPCA TOP 5 LP'!$A$2:$XDF$2,0),FALSE)) -> 0.21 | F7: =IF(VLOOKUP(A7,'Mediana Mensal IPCA TOP 5 LP'!$A$2:$XFC$10000,MATCH(F$1,'Mediana Mensal IPCA TOP 5 LP'!$A$2:$XDF$2,0),FALSE)=0,NA(),VLOOKUP(A7,'Mediana Mensal IPCA TOP 5 LP'!$A$2:$XFC$10000,MATCH(F$1,'Mediana Mensal IPCA TOP 5 LP'!$A$2:$XDF$2,0),FALSE)) -> 0.27
A8: 44572 | B8: =IF(VLOOKUP(A8,'Mediana Mensal IPCA TOP 5 LP'!$A$2:$XFC$10000,MATCH(B$1,'Mediana Mensal IPCA TOP 5 LP'!$A$2:$XDF$2,0),FALSE)=0,NA(),VLOOKUP(A8,'Mediana Mensal IPCA TOP 5 LP'!$A$2:$XFC$10000,MATCH(B$1,'Mediana Mensal IPCA TOP 5 LP'!$A$2:$XDF$2,0),FALSE)) -> 0.3 | C8: =IF(VLOOKUP(A8,'Mediana Mensal IPCA TOP 5 LP'!$A$2:$XFC$10000,MATCH(C$1,'Mediana Mensal IPCA TOP 5 LP'!$A$2:$XDF$2,0),FALSE)=0,NA(),VLOOKUP(A8,'Mediana Mensal IPCA TOP 5 LP'!$A$2:$XFC$10000,MATCH(C$1,'Mediana Mensal IPCA TOP 5 LP'!$A$2:$XDF$2,0),FALSE)) -> 0.22 | D8: =IF(VLOOKUP(A8,'Mediana Mensal IPCA TOP 5 LP'!$A$2:$XFC$10000,MATCH(D$1,'Mediana Mensal IPCA TOP 5 LP'!$A$2:$XDF$2,0),FALSE)=0,NA(),VLOOKUP(A8,'Mediana Mensal IPCA TOP 5 LP'!$A$2:$XFC$10000,MATCH(D$1,'Mediana Mensal IPCA TOP 5 LP'!$A$2:$XDF$2,0),FALSE)) -> 0.26 | E8: =IF(VLOOKUP(A8,'Mediana Mensal IPCA TOP 5 LP'!$A$2:$XFC$10000,MATCH(E$1,'Mediana Mensal IPCA TOP 5 LP'!$A$2:$XDF$2,0),FALSE)=0,NA(),VLOOKUP(A8,'Mediana Mensal IPCA TOP 5 LP'!$A$2:$XFC$10000,MATCH(E$1,'Mediana Mensal IPCA TOP 5 LP'!$A$2:$XDF$2,0),FALSE)) -> 0.21 | F8: =IF(VLOOKUP(A8,'Mediana Mensal IPCA TOP 5 LP'!$A$2:$XFC$10000,MATCH(F$1,'Mediana Mensal IPCA TOP 5 LP'!$A$2:$XDF$2,0),FALSE)=0,NA(),VLOOKUP(A8,'Mediana Mensal IPCA TOP 5 LP'!$A$2:$XFC$10000,MATCH(F$1,'Mediana Mensal IPCA TOP 5 LP'!$A$2:$XDF$2,0),FALSE)) -> 0.27
A9: 44573 | B9: =IF(VLOOKUP(A9,'Mediana Mensal IPCA TOP 5 LP'!$A$2:$XFC$10000,MATCH(B$1,'Mediana Mensal IPCA TOP 5 LP'!$A$2:$XDF$2,0),FALSE)=0,NA(),VLOOKUP(A9,'Mediana Mensal IPCA TOP 5 LP'!$A$2:$XFC$10000,MATCH(B$1,'Mediana Mensal IPCA TOP 5 LP'!$A$2:$XDF$2,0),FALSE)) -> 0.3 | C9: =IF(VLOOKUP(A9,'Mediana Mensal IPCA TOP 5 LP'!$A$2:$XFC$10000,MATCH(C$1,'Mediana Mensal IPCA TOP 5 LP'!$A$2:$XDF$2,0),FALSE)=0,NA(),VLOOKUP(A9,'Mediana Mensal IPCA TOP 5 LP'!$A$2:$XFC$10000,MATCH(C$1,'Mediana Mensal IPCA TOP 5 LP'!$A$2:$XDF$2,0),FALSE)) -> 0.22 | D9: =IF(VLOOKUP(A9,'Mediana Mensal IPCA TOP 5 LP'!$A$2:$XFC$10000,MATCH(D$1,'Mediana Mensal IPCA TOP 5 LP'!$A$2:$XDF$2,0),FALSE)=0,NA(),VLOOKUP(A9,'Mediana Mensal IPCA TOP 5 LP'!$A$2:$XFC$10000,MATCH(D$1,'Mediana Mensal IPCA TOP 5 LP'!$A$2:$XDF$2,0),FALSE)) -> 0.26 | E9: =IF(VLOOKUP(A9,'Mediana Mensal IPCA TOP 5 LP'!$A$2:$XFC$10000,MATCH(E$1,'Mediana Mensal IPCA TOP 5 LP'!$A$2:$XDF$2,0),FALSE)=0,NA(),VLOOKUP(A9,'Mediana Mensal IPCA TOP 5 LP'!$A$2:$XFC$10000,MATCH(E$1,'Mediana Mensal IPCA TOP 5 LP'!$A$2:$XDF$2,0),FALSE)) -> 0.21 | F9: =IF(VLOOKUP(A9,'Mediana Mensal IPCA TOP 5 LP'!$A$2:$XFC$10000,MATCH(F$1,'Mediana Mensal IPCA TOP 5 LP'!$A$2:$XDF$2,0),FALSE)=0,NA(),VLOOKUP(A9,'Mediana Mensal IPCA TOP 5 LP'!$A$2:$XFC$10000,MATCH(F$1,'Mediana Mensal IPCA TOP 5 LP'!$A$2:$XDF$2,0),FALSE)) -> 0.27
A10: 44574 | B10: =IF(VLOOKUP(A10,'Mediana Mensal IPCA TOP 5 LP'!$A$2:$XFC$10000,MATCH(B$1,'Mediana Mensal IPCA TOP 5 LP'!$A$2:$XDF$2,0),FALSE)=0,NA(),VLOOKUP(A10,'Mediana Mensal IPCA TOP 5 LP'!$A$2:$XFC$10000,MATCH(B$1,'Mediana Mensal IPCA TOP 5 LP'!$A$2:$XDF$2,0),FALSE)) -> 0.2545 | C10: =IF(VLOOKUP(A10,'Mediana Mensal IPCA TOP 5 LP'!$A$2:$XFC$10000,MATCH(C$1,'Mediana Mensal IPCA TOP 5 LP'!$A$2:$XDF$2,0),FALSE)=0,NA(),VLOOKUP(A10,'Mediana Mensal IPCA TOP 5 LP'!$A$2:$XFC$10000,MATCH(C$1,'Mediana Mensal IPCA TOP 5 LP'!$A$2:$XDF$2,0),FALSE)) -> 0.253 | D10: =IF(VLOOKUP(A10,'Mediana Mensal IPCA TOP 5 LP'!$A$2:$XFC$10000,MATCH(D$1,'Mediana Mensal IPCA TOP 5 LP'!$A$2:$XDF$2,0),FALSE)=0,NA(),VLOOKUP(A10,'Mediana Mensal IPCA TOP 5 LP'!$A$2:$XFC$10000,MATCH(D$1,'Mediana Mensal IPCA TOP 5 LP'!$A$2:$XDF$2,0),FALSE)) -> 0.2234 | E10: =IF(VLOOKUP(A10,'Mediana Mensal IPCA TOP 5 LP'!$A$2:$XFC$10000,MATCH(E$1,'Mediana Mensal IPCA TOP 5 LP'!$A$2:$XDF$2,0),FALSE)=0,NA(),VLOOKUP(A10,'Mediana Mensal IPCA TOP 5 LP'!$A$2:$XFC$10000,MATCH(E$1,'Mediana Mensal IPCA TOP 5 LP'!$A$2:$XDF$2,0),FALSE)) -> 0.1961 | F10: =IF(VLOOKUP(A10,'Mediana Mensal IPCA TOP 5 LP'!$A$2:$XFC$10000,MATCH(F$1,'Mediana Mensal IPCA TOP 5 LP'!$A$2:$XDF$2,0),FALSE)=0,NA(),VLOOKUP(A10,'Mediana Mensal IPCA TOP 5 LP'!$A$2:$XFC$10000,MATCH(F$1,'Mediana Mensal IPCA TOP 5 LP'!$A$2:$XDF$2,0),FALSE)) -> 0.2138
A11: 44575 | B11: =IF(VLOOKUP(A11,'Mediana Mensal IPCA TOP 5 LP'!$A$2:$XFC$10000,MATCH(B$1,'Mediana Mensal IPCA TOP 5 LP'!$A$2:$XDF$2,0),FALSE)=0,NA(),VLOOKUP(A11,'Mediana Mensal IPCA TOP 5 LP'!$A$2:$XFC$10000,MATCH(B$1,'Mediana Mensal IPCA TOP 5 LP'!$A$2:$XDF$2,0),FALSE)) -> 0.2545 | C11: =IF(VLOOKUP(A11,'Mediana Mensal IPCA TOP 5 LP'!$A$2:$XFC$10000,MATCH(C$1,'Mediana Mensal IPCA TOP 5 LP'!$A$2:$XDF$2,0),FALSE)=0,NA(),VLOOKUP(A11,'Mediana Mensal IPCA TOP 5 LP'!$A$2:$XFC$10000,MATCH(C$1,'Mediana Mensal IPCA TOP 5 LP'!$A$2:$XDF$2,0),FALSE)) -> 0.253 | D11: =IF(VLOOKUP(A11,'Mediana Mensal IPCA TOP 5 LP'!$A$2:$XFC$10000,MATCH(D$1,'Mediana Mensal IPCA TOP 5 LP'!$A$2:$XDF$2,0),FALSE)=0,NA(),VLOOKUP(A11,'Mediana Mensal IPCA TOP 5 LP'!$A$2:$XFC$10000,MATCH(D$1,'Mediana Mensal IPCA TOP 5 LP'!$A$2:$XDF$2,0),FALSE)) -> 0.2234 | E11: =IF(VLOOKUP(A11,'Mediana Mensal IPCA TOP 5 LP'!$A$2:$XFC$10000,MATCH(E$1,'Mediana Mensal IPCA TOP 5 LP'!$A$2:$XDF$2,0),FALSE)=0,NA(),VLOOKUP(A11,'Mediana Mensal IPCA TOP 5 LP'!$A$2:$XFC$10000,MATCH(E$1,'Mediana Mensal IPCA TOP 5 LP'!$A$2:$XDF$2,0),FALSE)) -> 0.1961 | F11: =IF(VLOOKUP(A11,'Mediana Mensal IPCA TOP 5 LP'!$A$2:$XFC$10000,MATCH(F$1,'Mediana Mensal IPCA TOP 5 LP'!$A$2:$XDF$2,0),FALSE)=0,NA(),VLOOKUP(A11,'Mediana Mensal IPCA TOP 5 LP'!$A$2:$XFC$10000,MATCH(F$1,'Mediana Mensal IPCA TOP 5 LP'!$A$2:$XDF$2,0),FALSE)) -> 0.2138
A12: 44578 | B12: =IF(VLOOKUP(A12,'Mediana Mensal IPCA TOP 5 LP'!$A$2:$XFC$10000,MATCH(B$1,'Mediana Mensal IPCA TOP 5 LP'!$A$2:$XDF$2,0),FALSE)=0,NA(),VLOOKUP(A12,'Mediana Mensal IPCA TOP 5 LP'!$A$2:$XFC$10000,MATCH(B$1,'Mediana Mensal IPCA TOP 5 LP'!$A$2:$XDF$2,0),FALSE)) -> 0.2545 | C12: =IF(VLOOKUP(A12,'Mediana Mensal IPCA TOP 5 LP'!$A$2:$XFC$10000,MATCH(C$1,'Mediana Mensal IPCA TOP 5 LP'!$A$2:$XDF$2,0),FALSE)=0,NA(),VLOOKUP(A12,'Mediana Mensal IPCA TOP 5 LP'!$A$2:$XFC$10000,MATCH(C$1,'Mediana Mensal IPCA TOP 5 LP'!$A$2:$XDF$2,0),FALSE)) -> 0.253 | D12: =IF(VLOOKUP(A12,'Mediana Mensal IPCA TOP 5 LP'!$A$2:$XFC$10000,MATCH(D$1,'Mediana Mensal IPCA TOP 5 LP'!$A$2:$XDF$2,0),FALSE)=0,NA(),VLOOKUP(A12,'Mediana Mensal IPCA TOP 5 LP'!$A$2:$XFC$10000,MATCH(D$1,'Mediana Mensal IPCA TOP 5 LP'!$A$2:$XDF$2,0),FALSE)) -> 0.2234 | E12: =IF(VLOOKUP(A12,'Mediana Mensal IPCA TOP 5 LP'!$A$2:$XFC$10000,MATCH(E$1,'Mediana Mensal IPCA TOP 5 LP'!$A$2:$XDF$2,0),FALSE)=0,NA(),VLOOKUP(A12,'Mediana Mensal IPCA TOP 5 LP'!$A$2:$XFC$10000,MATCH(E$1,'Mediana Mensal IPCA TOP 5 LP'!$A$2:$XDF$2,0),FALSE)) -> 0.1961 | F12: =IF(VLOOKUP(A12,'Mediana Mensal IPCA TOP 5 LP'!$A$2:$XFC$10000,MATCH(F$1,'Mediana Mensal IPCA TOP 5 LP'!$A$2:$XDF$2,0),FALSE)=0,NA(),VLOOKUP(A12,'Mediana Mensal IPCA TOP 5 LP'!$A$2:$XFC$10000,MATCH(F$1,'Mediana Mensal IPCA TOP 5 LP'!$A$2:$XDF$2,0),FALSE)) -> 0.2138
A13: 44579 | B13: =IF(VLOOKUP(A13,'Mediana Mensal IPCA TOP 5 LP'!$A$2:$XFC$10000,MATCH(B$1,'Mediana Mensal IPCA TOP 5 LP'!$A$2:$XDF$2,0),FALSE)=0,NA(),VLOOKUP(A13,'Mediana Mensal IPCA TOP 5 LP'!$A$2:$XFC$10000,MATCH(B$1,'Mediana Mensal IPCA TOP 5 LP'!$A$2:$XDF$2,0),FALSE)) -> 0.26 | C13: =IF(VLOOKUP(A13,'Mediana Mensal IPCA TOP 5 LP'!$A$2:$XFC$10000,MATCH(C$1,'Mediana Mensal IPCA TOP 5 LP'!$A$2:$XDF$2,0),FALSE)=0,NA(),VLOOKUP(A13,'Mediana Mensal IPCA TOP 5 LP'!$A$2:$XFC$10000,MATCH(C$1,'Mediana Mensal IPCA TOP 5 LP'!$A$2:$XDF$2,0),FALSE)) -> 0.26 | D13: =IF(VLOOKUP(A13,'Mediana Mensal IPCA TOP 5 LP'!$A$2:$XFC$10000,MATCH(D$1,'Mediana Mensal IPCA TOP 5 LP'!$A$2:$XDF$2,0),FALSE)=0,NA(),VLOOKUP(A13,'Mediana Mensal IPCA TOP 5 LP'!$A$2:$XFC$10000,MATCH(D$1,'Mediana Mensal IPCA TOP 5 LP'!$A$2:$XDF$2,0),FALSE)) -> 0.26 | E13: =IF(VLOOKUP(A13,'Mediana Mensal IPCA TOP 5 LP'!$A$2:$XFC$10000,MATCH(E$1,'Mediana Mensal IPCA TOP 5 LP'!$A$2:$XDF$2,0),FALSE)=0,NA(),VLOOKUP(A13,'Mediana Mensal IPCA TOP 5 LP'!$A$2:$XFC$10000,MATCH(E$1,'Mediana Mensal IPCA TOP 5 LP'!$A$2:$XDF$2,0),FALSE)) -> 0.21 | F13: =IF(VLOOKUP(A13,'Mediana Mensal IPCA TOP 5 LP'!$A$2:$XFC$10000,MATCH(F$1,'Mediana Mensal IPCA TOP 5 LP'!$A$2:$XDF$2,0),FALSE)=0,NA(),VLOOKUP(A13,'Mediana Mensal IPCA TOP 5 LP'!$A$2:$XFC$10000,MATCH(F$1,'Mediana Mensal IPCA TOP 5 LP'!$A$2:$XDF$2,0),FALSE)) -> 0.26
... A337: 45051 | B337: =IF(VLOOKUP(A337,'Mediana Mensal IPCA TOP 5 LP'!$A$2:$XFC$10000,MATCH(B$1,'Mediana Mensal IPCA TOP 5 LP'!$A$2:$XDF$2,0),FALSE)=0,NA(),VLOOKUP(A337,'Mediana Mensal IPCA TOP 5 LP'!$A$2:$XFC$10000,MATCH(B$1,'Mediana Mensal IPCA TOP 5 LP'!$A$2:$XDF$2,0),FALSE)) -> 0.57 | C337: =IF(VLOOKUP(A337,'Mediana Mensal IPCA TOP 5 LP'!$A$2:$XFC$10000,MATCH(C$1,'Mediana Mensal IPCA TOP 5 LP'!$A$2:$XDF$2,0),FALSE)=0,NA(),VLOOKUP(A337,'Mediana Mensal IPCA TOP 5 LP'!$A$2:$XFC$10000,MATCH(C$1,'Mediana Mensal IPCA TOP 5 LP'!$A$2:$XDF$2,0),FALSE)) -> 0.48 | D337: =IF(VLOOKUP(A337,'Mediana Mensal IPCA TOP 5 LP'!$A$2:$XFC$10000,MATCH(D$1,'Mediana Mensal IPCA TOP 5 LP'!$A$2:$XDF$2,0),FALSE)=0,NA(),VLOOKUP(A337,'Mediana Mensal IPCA TOP 5 LP'!$A$2:$XFC$10000,MATCH(D$1,'Mediana Mensal IPCA TOP 5 LP'!$A$2:$XDF$2,0),FALSE)) -> 0.5 | E337: =IF(VLOOKUP(A337,'Mediana Mensal IPCA TOP 5 LP'!$A$2:$XFC$10000,MATCH(E$1,'Mediana Mensal IPCA TOP 5 LP'!$A$2:$XDF$2,0),FALSE)=0,NA(),VLOOKUP(A337,'Mediana Mensal IPCA TOP 5 LP'!$A$2:$XFC$10000,MATCH(E$1,'Mediana Mensal IPCA TOP 5 LP'!$A$2:$XDF$2,0),FALSE)) -> 0.36 | F337: =IF(VLOOKUP(A337,'Mediana Mensal IPCA TOP 5 LP'!$A$2:$XFC$10000,MATCH(F$1,'Mediana Mensal IPCA TOP 5 LP'!$A$2:$XDF$2,0),FALSE)=0,NA(),VLOOKUP(A337,'Mediana Mensal IPCA TOP 5 LP'!$A$2:$XFC$10000,MATCH(F$1,'Mediana Mensal IPCA TOP 5 LP'!$A$2:$XDF$2,0),FALSE)) -> 0.3

Sheet Mediana Anual IPCA TOP 5 LP
A1: IPCA - variação % - Mediana - Período de 02/01/2022 a 11/05/2023 - Base: Top 5 longo prazo
A2: Data | B2: 2021 | C2: 2022 | D2: 2023 | E2: 2024 | F2: 2025 | G2: 2026 | H2: 2027
A3: 44564 | B3: 9.9614 | C3: 4.9512 | D3: 3.8 | E3: 3.5 | F3: 3.5
A4: 44565 | B4: 9.9614 | C4: 4.9512 | D4: 3.8 | E4: 3.5 | F4: 3.5
A5: 44566 | B5: 9.9614 | C5: 4.9512 | D5: 3.8 | E5: 3.5 | F5: 3.5
A6: 44567 | B6: 9.9614 | C6: 4.9512 | D6: 3.8 | E6: 3.5 | F6: 3.5
A7: 44568 | B7: 9.9614 | C7: 5.0249 | D7: 3.8 | E7: 3.5 | F7: 3.5
A8: 44571 | B8: 9.9614 | C8: 5.0249 | D8: 3.8 | E8: 3.5 | F8: 3.5
A9: 44572 | C9: 5.0249 | D9: 3.8 | E9: 3.5 | F9: 3.5
A10: 44573 | C10: 5.0249 | D10: 3.8 | E10: 3.5 | F10: 3.5
A11: 44574 | C11: 4.8469 | D11: 3.835 | E11: 3.675 | F11: 3.65
A12: 44575 | C12: 5.0277 | D12: 3.835 | E12: 3.675 | F12: 3.65 | G12: 3.4
A13: 44578 | C13: 5.0277 | D13: 3.835 | E13: 3.675 | F13: 3.65 | G13: 3.4
A14: 44579 | C14: 5.1278 | D14: 3.8 | E14: 3.5 | F14: 3.5 | G14: 3
A15: 44580 | C15: 5.1972 | D15: 3.8 | E15: 3.5 | F15: 3.5 | G15: 3
A16: 44581 | C16: 5.1972 | D16: 3.8 | E16: 3.5 | F16: 3.5 | G16: 3
A17: 44582 | C17: 5.1972 | D17: 3.8 | E17: 3.5 | F17: 3.5 | G17: 3.35
A18: 44585 | C18: 5.1972 | D18: 3.8 | E18: 3.5 | F18: 3.5 | G18: 3.35
A19: 44586 | C19: 5.1972 | D19: 3.8 | E19: 3.5 | F19: 3.5 | G19: 3.35
A20: 44587 | C20: 5.1972 | D20: 3.8 | E20: 3.5 | F20: 3.5 | G20: 3.35
A21: 44588 | C21: 5.1972 | D21: 3.8 | E21: 3.5 | F21: 3.5 | G21: 3.35
A22: 44589 | C22: 5.4174 | D22: 3.87 | E22: 3.5 | F22: 3.5 | G22: 3.35
A23: 44592 | C23: 5.7827 | D23: 3.84 | E23: 3.5 | F23: 3.5 | G23: 4
... A259: 44935 | C259: 5.6064 | D259: 5.4384 | E259: 4.1 | F259: 4 | G259: 4
A260: 44936 | D260: 5.4384 | E260: 4.1 | F260: 4 | G260: 4
A261: 44937 | D261: 5.4384 | E261: 4.1 | F261: 4 | G261: 4
A262: 44938 | D262: 5.4384 | E262: 4.1 | F262: 4 | G262: 4
A263: 44939 | D263: 5.4384 | E263: 4.1 | F263: 4 | G263: 4
A264: 44942 | D264: 5.4384 | E264: 4.1 | F264: 4 | G264: 4
A265: 44943 | D265: 5.4384 | E265: 4.1 | F265: 4 | G265: 4
A266: 44944 | D266: 5.4384 | E266: 4.1 | F266: 4 | G266: 4
A267: 44945 | D267: 5.4384 | E267: 4.1 | F267: 4.2 | G267: 4.3 | H267: 5.5
A268: 44946 | D268: 5.6897 | E268: 4.1 | F268: 4.2 | G268: 4.3 | H268: 4.75
A269: 44949 | D269: 5.6897 | E269: 4.1 | F269: 4.2 | G269: 4.3 | H269: 4.75
A270: 44950 | D270: 5.6897 | E270: 4.1 | F270: 4.2 | G270: 4.3 | H270: 4.75
A271: 44951 | D271: 5.6897 | E271: 4.1 | F271: 4.2 | G271: 4.3 | H271: 4.75
A272: 44952 | D272: 5.6897 | E272: 4.1 | F272: 4.2 | G272: 4.3 | H272: 4.75
A273: 44953 | D273: 6.0394 | E273: 4.1 | F273: 4.45 | G273: 4.55 | H273: 5
A274: 44956 | D274: 6.0394 | E274: 4.1 | F274: 4.45 | G274: 4.55 | H274: 5
A275: 44957 | D275: 6.0084 | E275: 4.26 | F275: 3.45 | G275: 3.25 | H275: 3.5
...

Sheet Análises IPCA Anual
A1: Data | B1: 2023 | C1: 2024 | D1: 2025 | E1: 2026
A2: 44564 | B2: =IF(VLOOKUP(A2,'Mediana Anual IPCA TOP 5 LP'!$A$2:$XFC$10000,MATCH(B$1,'Mediana Anual IPCA TOP 5 LP'!$A$2:$XDF$2,0),FALSE)=0,NA(),VLOOKUP(A2,'Mediana Anual IPCA TOP 5 LP'!$A$2:$XFC$10000,MATCH(B$1,'Mediana Anual IPCA TOP 5 LP'!$A$2:$XDF$2,0),FALSE)) -> 3.8 | C2: =IF(VLOOKUP(A2,'Mediana Anual IPCA TOP 5 LP'!$A$2:$XFC$10000,MATCH(C$1,'Mediana Anual IPCA TOP 5 LP'!$A$2:$XDF$2,0),FALSE)=0,NA(),VLOOKUP(A2,'Mediana Anual IPCA TOP 5 LP'!$A$2:$XFC$10000,MATCH(C$1,'Mediana Anual IPCA TOP 5 LP'!$A$2:$XDF$2,0),FALSE)) -> 3.5 | D2: =IF(VLOOKUP(A2,'Mediana Anual IPCA TOP 5 LP'!$A$2:$XFC$10000,MATCH(D$1,'Mediana Anual IPCA TOP 5 LP'!$A$2:$XDF$2,0),FALSE)=0,NA(),VLOOKUP(A2,'Mediana Anual IPCA TOP 5 LP'!$A$2:$XFC$10000,MATCH(D$1,'Mediana Anual IPCA TOP 5 LP'!$A$2:$XDF$2,0),FALSE)) -> 3.5 | E2: =IF(VLOOKUP(A2,'Mediana Anual IPCA TOP 5 LP'!$A$2:$XFC$10000,MATCH(E$1,'Mediana Anual IPCA TOP 5 LP'!$A$2:$XDF$2,0),FALSE)=0,NA(),VLOOKUP(A2,'Mediana Anual IPCA TOP 5 LP'!$A$2:$XFC$10000,MATCH(E$1,'Mediana Anual IPCA TOP 5 LP'!$A$2:$XDF$2,0),FALSE)) -> #N/A
