Workbook

Sheet VNA IPCA
A1: Mês/Ano IPCA | B1: Código Selic | C1: Data Referência | D1: VNA | E1: IPCA | F1: P/F | G1: Válido a partir de | H1: 15 Mês | I1: 15 Mês Ant. | J1: 15 Mês Ano Ant | K1: IPCA 12M Janela Móvel
A2: =MONTH(EDATE(C2,-1))&YEAR(EDATE(C2,-1))&F2 -> 62000 | B2: 760199 | C2: 36724 | D2: 1000
A3: =MONTH(EDATE(C3,-1))&YEAR(EDATE(C3,-1))&F3 -> 62000 | B3: 760199 | C3: 36725 | D3: 1000.761
A4: =MONTH(EDATE(C4,-1))&YEAR(EDATE(C4,-1))&F4 -> 62000 | B4: 760199 | C4: 36726 | D4: 1001.5225
A5: =MONTH(EDATE(C5,-1))&YEAR(EDATE(C5,-1))&F5 -> 62000 | B5: 760199 | C5: 36727 | D5: 1002.2847
A6: =MONTH(EDATE(C6,-1))&YEAR(EDATE(C6,-1))&F6 -> 62000 | B6: 760199 | C6: 36728 | D6: 1003.0474
A7: =MONTH(EDATE(C7,-1))&YEAR(EDATE(C7,-1))&F7 -> 62000 | B7: 760199 | C7: 36731 | D7: 1003.8107
A8: =MONTH(EDATE(C8,-1))&YEAR(EDATE(C8,-1))&F8 -> 62000 | B8: 760199 | C8: 36732 | D8: 1004.5746
A9: =MONTH(EDATE(C9,-1))&YEAR(EDATE(C9,-1))&F9 -> 62000 | B9: 760199 | C9: 36733 | D9: 1005.3391
A10: =MONTH(EDATE(C10,-1))&YEAR(EDATE(C10,-1))&F10 -> 62000 | B10: 760199 | C10: 36734 | D10: 1006.1041
A11: =MONTH(EDATE(C11,-1))&YEAR(EDATE(C11,-1))&F11 -> 62000 | B11: 760199 | C11: 36735 | D11: 1006.8697
A12: =MONTH(EDATE(C12,-1))&YEAR(EDATE(C12,-1))&F12 -> 62000 | B12: 760199 | C12: 36738 | D12: 1007.636
A13: =MONTH(EDATE(C13,-1))&YEAR(EDATE(C13,-1))&F13 -> 72000 | B13: 760199 | C13: 36739 | D13: 1008.4027
... A252: =MONTH(EDATE(C252,-1))&YEAR(EDATE(C252,-1))&F252 -> 62001 | B252: 760199 | C252: 37089 | D252: 1074.1048
A253: =MONTH(EDATE(C253,-1))&YEAR(EDATE(C253,-1))&F253 -> 62001 | B253: 760199 | C253: 37090 | D253: 1074.75 | H253: =WORKDAY(WORKDAY(DATEVALUE("15/"&MONTH(EDATE(C253,0))&"/"&YEAR(EDATE(C253,0))),-1,Feriados!$A$1:$A$936),1,Feriados!$A$1:$A$936) -> 37088 | I253: =WORKDAY(WORKDAY(DATEVALUE("15/"&MONTH(EDATE(C253,-1))&"/"&YEAR(EDATE(C253,-1))),-1,Feriados!$A$1:$A$936),1,Feriados!$A$1:$A$936) -> 37057 | J253: =WORKDAY(WORKDAY(DATEVALUE("15/"&MONTH(EDATE(C253,0))&"/"&YEAR(EDATE(C253,0))-1),-1,Feriados!$A$1:$A$936),1,Feriados!$A$1:$A$936) -> 36724 | K253: =+(VLOOKUP(H253,C:D,2,FALSE)/VLOOKUP(J253,C:D,2,FALSE)-1)*100 -> 7.3460009
A254: =MONTH(EDATE(C254,-1))&YEAR(EDATE(C254,-1))&F254 -> 62001 | B254: 760199 | C254: 37091 | D254: 1075.3956 | H254: =WORKDAY(WORKDAY(DATEVALUE("15/"&MONTH(EDATE(C254,0))&"/"&YEAR(EDATE(C254,0))),-1,Feriados!$A$1:$A$936),1,Feriados!$A$1:$A$936) -> 37088 | I254: =WORKDAY(WORKDAY(DATEVALUE("15/"&MONTH(EDATE(C254,-1))&"/"&YEAR(EDATE(C254,-1))),-1,Feriados!$A$1:$A$936),1,Feriados!$A$1:$A$936) -> 37057 | J254: =WORKDAY(WORKDAY(DATEVALUE("15/"&MONTH(EDATE(C254,0))&"/"&YEAR(EDATE(C254,0))-1),-1,Feriados!$A$1:$A$936),1,Feriados!$A$1:$A$936) -> 36724 | K254: =+(VLOOKUP(H254,C:D,2,FALSE)/VLOOKUP(J254,C:D,2,FALSE)-1)*100 -> 7.3460009
A255: =MONTH(EDATE(C255,-1))&YEAR(EDATE(C255,-1))&F255 -> 62001 | B255: 760199 | C255: 37092 | D255: 1076.0416 | H255: =WORKDAY(WORKDAY(DATEVALUE("15/"&MONTH(EDATE(C255,0))&"/"&YEAR(EDATE(C255,0))),-1,Feriados!$A$1:$A$936),1,Feriados!$A$1:$A$936) -> 37088 | I255: =WORKDAY(WORKDAY(DATEVALUE("15/"&MONTH(EDATE(C255,-1))&"/"&YEAR(EDATE(C255,-1))),-1,Feriados!$A$1:$A$936),1,Feriados!$A$1:$A$936) -> 37057 | J255: =WORKDAY(WORKDAY(DATEVALUE("15/"&MONTH(EDATE(C255,0))&"/"&YEAR(EDATE(C255,0))-1),-1,Feriados!$A$1:$A$936),1,Feriados!$A$1:$A$936) -> 36724 | K255: =+(VLOOKUP(H255,C:D,2,FALSE)/VLOOKUP(J255,C:D,2,FALSE)-1)*100 -> 7.3460009
A256: =MONTH(EDATE(C256,-1))&YEAR(EDATE(C256,-1))&F256 -> 62001 | B256: 760199 | C256: 37095 | D256: 1076.688 | H256: =WORKDAY(WORKDAY(DATEVALUE("15/"&MONTH(EDATE(C256,0))&"/"&YEAR(EDATE(C256,0))),-1,Feriados!$A$1:$A$936),1,Feriados!$A$1:$A$936) -> 37088 | I256: =WORKDAY(WORKDAY(DATEVALUE("15/"&MONTH(EDATE(C256,-1))&"/"&YEAR(EDATE(C256,-1))),-1,Feriados!$A$1:$A$936),1,Feriados!$A$1:$A$936) -> 37057 | J256: =WORKDAY(WORKDAY(DATEVALUE("15/"&MONTH(EDATE(C256,0))&"/"&YEAR(EDATE(C256,0))-1),-1,Feriados!$A$1:$A$936),1,Feriados!$A$1:$A$936) -> 36724 | K256: =+(VLOOKUP(H256,C:D,2,FALSE)/VLOOKUP(J256,C:D,2,FALSE)-1)*100 -> 7.3460009
A257: =MONTH(EDATE(C257,-1))&YEAR(EDATE(C257,-1))&F257 -> 62001 | B257: 760199 | C257: 37096 | D257: 1077.3347 | H257: =WORKDAY(WORKDAY(DATEVALUE("15/"&MONTH(EDATE(C257,0))&"/"&YEAR(EDATE(C257,0))),-1,Feriados!$A$1:$A$936),1,Feriados!$A$1:$A$936) -> 37088 | I257: =WORKDAY(WORKDAY(DATEVALUE("15/"&MONTH(EDATE(C257,-1))&"/"&YEAR(EDATE(C257,-1))),-1,Feriados!$A$1:$A$936),1,Feriados!$A$1:$A$936) -> 37057 | J257: =WORKDAY(WORKDAY(DATEVALUE("15/"&MONTH(EDATE(C257,0))&"/"&YEAR(EDATE(C257,0))-1),-1,Feriados!$A$1:$A$936),1,Feriados!$A$1:$A$936) -> 36724 | K257: =+(VLOOKUP(H257,C:D,2,FALSE)/VLOOKUP(J257,C:D,2,FALSE)-1)*100 -> 7.3460009
A258: =MONTH(EDATE(C258,-1))&YEAR(EDATE(C258,-1))&F258 -> 62001 | B258: 760199 | C258: 37097 | D258: 1077.9819 | H258: =WORKDAY(WORKDAY(DATEVALUE("15/"&MONTH(EDATE(C258,0))&"/"&YEAR(EDATE(C258,0))),-1,Feriados!$A$1:$A$936),1,Feriados!$A$1:$A$936) -> 37088 | I258: =WORKDAY(WORKDAY(DATEVALUE("15/"&MONTH(EDATE(C258,-1))&"/"&YEAR(EDATE(C258,-1))),-1,Feriados!$A$1:$A$936),1,Feriados!$A$1:$A$936) -> 37057 | J258: =WORKDAY(WORKDAY(DATEVALUE("15/"&MONTH(EDATE(C258,0))&"/"&YEAR(EDATE(C258,0))-1),-1,Feriados!$A$1:$A$936),1,Feriados!$A$1:$A$936) -> 36724 | K258: =+(VLOOKUP(H258,C:D,2,FALSE)/VLOOKUP(J258,C:D,2,FALSE)-1)*100 -> 7.3460009
A259: =MONTH(EDATE(C259,-1))&YEAR(EDATE(C259,-1))&F259 -> 62001 | B259: 760199 | C259: 37098 | D259: 1078.6294 | H259: =WORKDAY(WORKDAY(DATEVALUE("15/"&MONTH(EDATE(C259,0))&"/"&YEAR(EDATE(C259,0))),-1,Feriados!$A$1:$A$936),1,Feriados!$A$1:$A$936) -> 37088 | I259: =WORKDAY(WORKDAY(DATEVALUE("15/"&MONTH(EDATE(C259,-1))&"/"&YEAR(EDATE(C259,-1))),-1,Feriados!$A$1:$A$936),1,Feriados!$A$1:$A$936) -> 37057 | J259: =WORKDAY(WORKDAY(DATEVALUE("15/"&MONTH(EDATE(C259,0))&"/"&YEAR(EDATE(C259,0))-1),-1,Feriados!$A$1:$A$936),1,Feriados!$A$1:$A$936) -> 36724 | K259: =+(VLOOKUP(H259,C:D,2,FALSE)/VLOOKUP(J259,C:D,2,FALSE)-1)*100 -> 7.3460009
A260: =MONTH(EDATE(C260,-1))&YEAR(EDATE(C260,-1))&F260 -> 62001 | B260: 760199 | C260: 37099 | D260: 1079.2773 | H260: =WORKDAY(WORKDAY(DATEVALUE("15/"&MONTH(EDATE(C260,0))&"/"&YEAR(EDATE(C260,0))),-1,Feriados!$A$1:$A$936),1,Feriados!$A$1:$A$936) -> 37088 | I260: =WORKDAY(WORKDAY(DATEVALUE("15/"&MONTH(EDATE(C260,-1))&"/"&YEAR(EDATE(C260,-1))),-1,Feriados!$A$1:$A$936),1,Feriados!$A$1:$A$936) -> 37057 | J260: =WORKDAY(WORKDAY(DATEVALUE("15/"&MONTH(EDATE(C260,0))&"/"&YEAR(EDATE(C260,0))-1),-1,Feriados!$A$1:$A$936),1,Feriados!$A$1:$A$936) -> 36724 | K260: =+(VLOOKUP(H260,C:D,2,FALSE)/VLOOKUP(J260,C:D,2,FALSE)-1)*100 -> 7.3460009
A261: =MONTH(EDATE(C261,-1))&YEAR(EDATE(C261,-1))&F261 -> 62001 | B261: 760199 | C261: 37102 | D261: 1079.9256 | H261: =WORKDAY(WORKDAY(DATEVALUE("15/"&MONTH(EDATE(C261,0))&"/"&YEAR(EDATE(C261,0))),-1,Feriados!$A$1:$A$936),1,Feriados!$A$1:$A$936) -> 37088 | I261: =WORKDAY(WORKDAY(DATEVALUE("15/"&MONTH(EDATE(C261,-1))&"/"&YEAR(EDATE(C261,-1))),-1,Feriados!$A$1:$A$936),1,Feriados!$A$1:$A$936) -> 37057 | J261: =WORKDAY(WORKDAY(DATEVALUE("15/"&MONTH(EDATE(C261,0))&"/"&YEAR(EDATE(C261,0))-1),-1,Feriados!$A$1:$A$936),1,Feriados!$A$1:$A$936) -> 36724 | K261: =+(VLOOKUP(H261,C:D,2,FALSE)/VLOOKUP(J261,C:D,2,FALSE)-1)*100 -> 7.3460009
A262: =MONTH(EDATE(C262,-1))&YEAR(EDATE(C262,-1))&F262 -> 62001 | B262: 760199 | C262: 37103 | D262: 1080.5743 | H262: =WORKDAY(WORKDAY(DATEVALUE("15/"&MONTH(EDATE(C262,0))&"/"&YEAR(EDATE(C262,0))),-1,Feriados!$A$1:$A$936),1,Feriados!$A$1:$A$936) -> 37088 | I262: =WORKDAY(WORKDAY(DATEVALUE("15/"&MONTH(EDATE(C262,-1))&"/"&YEAR(EDATE(C262,-1))),-1,Feriados!$A$1:$A$936),1,Feriados!$A$1:$A$936) -> 37057 | J262: =WORKDAY(WORKDAY(DATEVALUE("15/"&MONTH(EDATE(C262,0))&"/"&YEAR(EDATE(C262,0))-1),-1,Feriados!$A$1:$A$936),1,Feriados!$A$1:$A$936) -> 36724 | K262: =+(VLOOKUP(H262,C:D,2,FALSE)/VLOOKUP(J262,C:D,2,FALSE)-1)*100 -> 7.3460009
A263: =MONTH(EDATE(C263,-1))&YEAR(EDATE(C263,-1))&F263 -> 72001 | B263: 760199 | C263: 37104 | D263: 1081.2234 | H263: =WORKDAY(WORKDAY(DATEVALUE("15/"&MONTH(EDATE(C263,0))&"/"&YEAR(EDATE(C263,0))),-1,Feriados!$A$1:$A$936),1,Feriados!$A$1:$A$936) -> 37118 | I263: =WORKDAY(WORKDAY(DATEVALUE("15/"&MONTH(EDATE(C263,-1))&"/"&YEAR(EDATE(C263,-1))),-1,Feriados!$A$1:$A$936),1,Feriados!$A$1:$A$936) -> 37088 | J263: =WORKDAY(WORKDAY(DATEVALUE("15/"&MONTH(EDATE(C263,0))&"/"&YEAR(EDATE(C263,0))-1),-1,Feriados!$A$1:$A$936),1,Feriados!$A$1:$A$936) -> 36753 | K263: =+(VLOOKUP(H263,C:D,2,FALSE)/VLOOKUP(J263,C:D,2,FALSE)-1)*100 -> 7.0497739
A264: =MONTH(EDATE(C264,-1))&YEAR(EDATE(C264,-1))&F264 -> 72001 | B264: 760199 | C264: 37105 | D264: 1081.8729 | H264: =WORKDAY(WORKDAY(DATEVALUE("15/"&MONTH(EDATE(C264,0))&"/"&YEAR(EDATE(C264,0))),-1,Feriados!$A$1:$A$936),1,Feriados!$A$1:$A$936) -> 37118 | I264: =WORKDAY(WORKDAY(DATEVALUE("15/"&MONTH(EDATE(C264,-1))&"/"&YEAR(EDATE(C264,-1))),-1,Feriados!$A$1:$A$936),1,Feriados!$A$1:$A$936) -> 37088 | J264: =WORKDAY(WORKDAY(DATEVALUE("15/"&MONTH(EDATE(C264,0))&"/"&YEAR(EDATE(C264,0))-1),-1,Feriados!$A$1:$A$936),1,Feriados!$A$1:$A$936) -> 36753 | K264: =+(VLOOKUP(H264,C:D,2,FALSE)/VLOOKUP(J264,C:D,2,FALSE)-1)*100 -> 7.0497739
... A1962: =MONTH(EDATE(C1962,-1))&YEAR(EDATE(C1962,-1))&F1962 -> 42008 | B1962: 760199 | C1962: 39577 | D1962: 1725.0333 | H1962: =WORKDAY(WORKDAY(DATEVALUE("15/"&MONTH(EDATE(C1962,0))&"/"&YEAR(EDATE(C1962,0))),-1,Feriados!$A$1:$A$936),1,Feriados!$A$1:$A$936) -> 39583 | I1962: =WORKDAY(WORKDAY(DATEVALUE("15/"&MONTH(EDATE(C1962,-1))&"/"&YEAR(EDATE(C1962,-1))),-1,Feriados!$A$1:$A$936),1,Feriados!$A$1:$A$936) -> 39553 | J1962: =WORKDAY(WORKDAY(DATEVALUE("15/"&MONTH(EDATE(C1962,0))&"/"&YEAR(EDATE(C1962,0))-1),-1,Feriados!$A$1:$A$936),1,Feriados!$A$1:$A$936) -> 39217 | K1962: =+(VLOOKUP(H1962,C:D,2,FALSE)/VLOOKUP(J1962,C:D,2,FALSE)-1)*100 -> 5.0416274
A1963: =MONTH(EDATE(C1963,-1))&YEAR(EDATE(C1963,-1))&F1963 -> 42008F | B1963: 760199 | C1963: 39580 | D1963: 1725.5064 | E1963: 0.55 | F1963: F | G1963: 39577 | H1963: =WORKDAY(WORKDAY(DATEVALUE("15/"&MONTH(EDATE(C1963,0))&"/"&YEAR(EDATE(C1963,0))),-1,Feriados!$A$1:$A$936),1,Feriados!$A$1:$A$936) -> 39583 | I1963: =WORKDAY(WORKDAY(DATEVALUE("15/"&MONTH(EDATE(C1963,-1))&"/"&YEAR(EDATE(C1963,-1))),-1,Feriados!$A$1:$A$936),1,Feriados!$A$1:$A$936) -> 39553 | J1963: =WORKDAY(WORKDAY(DATEVALUE("15/"&MONTH(EDATE(C1963,0))&"/"&YEAR(EDATE(C1963,0))-1),-1,Feriados!$A$1:$A$936),1,Feriados!$A$1:$A$936) -> 39217 | K1963: =+(VLOOKUP(H1963,C:D,2,FALSE)/VLOOKUP(J1963,C:D,2,FALSE)-1)*100 -> 5.0416274
A1964: =MONTH(EDATE(C1964,-1))&YEAR(EDATE(C1964,-1))&F1964 -> 42008F | B1964: 760199 | C1964: 39581 | D1964: 1725.9796 | E1964: 0.55 | F1964: F | G1964: 39577 | H1964: =WORKDAY(WORKDAY(DATEVALUE("15/"&MONTH(EDATE(C1964,0))&"/"&YEAR(EDATE(C1964,0))),-1,Feriados!$A$1:$A$936),1,Feriados!$A$1:$A$936) -> 39583 | I1964: =WORKDAY(WORKDAY(DATEVALUE("15/"&MONTH(EDATE(C1964,-1))&"/"&YEAR(EDATE(C1964,-1))),-1,Feriados!$A$1:$A$936),1,Feriados!$A$1:$A$936) -> 39553 | J1964: =WORKDAY(WORKDAY(DATEVALUE("15/"&MONTH(EDATE(C1964,0))&"/"&YEAR(EDATE(C1964,0))-1),-1,Feriados!$A$1:$A$936),1,Feriados!$A$1:$A$936) -> 39217 | K1964: =+(VLOOKUP(H1964,C:D,2,FALSE)/VLOOKUP(J1964,C:D,2,FALSE)-1)*100 -> 5.0416274
A1965: =MONTH(EDATE(C1965,-1))&YEAR(EDATE(C1965,-1))&F1965 -> 42008F | B1965: 760199 | C1965: 39582 | D1965: 1726.453 | E1965: 0.55 | F1965: F | G1965: 39577 | H1965: =WORKDAY(WORKDAY(DATEVALUE("15/"&MONTH(EDATE(C1965,0))&"/"&YEAR(EDATE(C1965,0))),-1,Feriados!$A$1:$A$936),1,Feriados!$A$1:$A$936) -> 39583 | I1965: =WORKDAY(WORKDAY(DATEVALUE("15/"&MONTH(EDATE(C1965,-1))&"/"&YEAR(EDATE(C1965,-1))),-1,Feriados!$A$1:$A$936),1,Feriados!$A$1:$A$936) -> 39553 | J1965: =WORKDAY(WORKDAY(DATEVALUE("15/"&MONTH(EDATE(C1965,0))&"/"&YEAR(EDATE(C1965,0))-1),-1,Feriados!$A$1:$A$936),1,Feriados!$A$1:$A$936) -> 39217 | K1965: =+(VLOOKUP(H1965,C:D,2,FALSE)/VLOOKUP(J1965,C:D,2,FALSE)-1)*100 -> 5.0416274
A1966: =MONTH(EDATE(C1966,-1))&YEAR(EDATE(C1966,-1))&F1966 -> 42008F | B1966: 760199 | C1966: 39583 | D1966: 1726.9265 | E1966: 0.55 | F1966: F | G1966: 39577 | H1966: =WORKDAY(WORKDAY(DATEVALUE("15/"&MONTH(EDATE(C1966,0))&"/"&YEAR(EDATE(C1966,0))),-1,Feriados!$A$1:$A$936),1,Feriados!$A$1:$A$936) -> 39583 | I1966: =WORKDAY(WORKDAY(DATEVALUE("15/"&MONTH(EDATE(C1966,-1))&"/"&YEAR(EDATE(C1966,-1))),-1,Feriados!$A$1:$A$936),1,Feriados!$A$1:$A$936) -> 39553 | J1966: =WORKDAY(WORKDAY(DATEVALUE("15/"&MONTH(EDATE(C1966,0))&"/"&YEAR(EDATE(C1966,0))-1),-1,Feriados!$A$1:$A$936),1,Feriados!$A$1:$A$936) -> 39217 | K1966: =+(VLOOKUP(H1966,C:D,2,FALSE)/VLOOKUP(J1966,C:D,2,FALSE)-1)*100 -> 5.0416274
A1967: =MONTH(EDATE(C1967,-1))&YEAR(EDATE(C1967,-1))&F1967 -> 42008P | B1967: 760199 | C1967: 39584 | D1967: 1727.3039 | E1967: 0.46 | F1967: P | G1967: 39584 | H1967: =WORKDAY(WORKDAY(DATEVALUE("15/"&MONTH(EDATE(C1967,0))&"/"&YEAR(EDATE(C1967,0))),-1,Feriados!$A$1:$A$936),1,Feriados!$A$1:$A$936) -> 39583 | I1967: =WORKDAY(WORKDAY(DATEVALUE("15/"&MONTH(EDATE(C1967,-1))&"/"&YEAR(EDATE(C1967,-1))),-1,Feriados!$A$1:$A$936),1,Feriados!$A$1:$A$936) -> 39553 | J1967: =WORKDAY(WORKDAY(DATEVALUE("15/"&MONTH(EDATE(C1967,0))&"/"&YEAR(EDATE(C1967,0))-1),-1,Feriados!$A$1:$A$936),1,Feriados!$A$1:$A$936) -> 39217 | K1967: =+(VLOOKUP(H1967,C:D,2,FALSE)/VLOOKUP(J1967,C:D,2,FALSE)-1)*100 -> 5.0416274
A1968: =MONTH(EDATE(C1968,-1))&YEAR(EDATE(C1968,-1))&F1968 -> 42008P | B1968: 760199 | C1968: 39587 | D1968: 1727.6814 | E1968: 0.46 | F1968: P | G1968: 39584 | H1968: =WORKDAY(WORKDAY(DATEVALUE("15/"&MONTH(EDATE(C1968,0))&"/"&YEAR(EDATE(C1968,0))),-1,Feriados!$A$1:$A$936),1,Feriados!$A$1:$A$936) -> 39583 | I1968: =WORKDAY(WORKDAY(DATEVALUE("15/"&MONTH(EDATE(C1968,-1))&"/"&YEAR(EDATE(C1968,-1))),-1,Feriados!$A$1:$A$936),1,Feriados!$A$1:$A$936) -> 39553 | J1968: =WORKDAY(WORKDAY(DATEVALUE("15/"&MONTH(EDATE(C1968,0))&"/"&YEAR(EDATE(C1968,0))-1),-1,Feriados!$A$1:$A$936),1,Feriados!$A$1:$A$936) -> 39217 | K1968: =+(VLOOKUP(H1968,C:D,2,FALSE)/VLOOKUP(J1968,C:D,2,FALSE)-1)*100 -> 5.0416274
A1969: =MONTH(EDATE(C1969,-1))&YEAR(EDATE(C1969,-1))&F1969 -> 42008P | B1969: 760199 | C1969: 39588 | D1969: 1728.0591 | E1969: 0.46 | F1969: P | G1969: 39584 | H1969: =WORKDAY(WORKDAY(DATEVALUE("15/"&MONTH(EDATE(C1969,0))&"/"&YEAR(EDATE(C1969,0))),-1,Feriados!$A$1:$A$936),1,Feriados!$A$1:$A$936) -> 39583 | I1969: =WORKDAY(WORKDAY(DATEVALUE("15/"&MONTH(EDATE(C1969,-1))&"/"&YEAR(EDATE(C1969,-1))),-1,Feriados!$A$1:$A$936),1,Feriados!$A$1:$A$936) -> 39553 | J1969: =WORKDAY(WORKDAY(DATEVALUE("15/"&MONTH(EDATE(C1969,0))&"/"&YEAR(EDATE(C1969,0))-1),-1,Feriados!$A$1:$A$936),1,Feriados!$A$1:$A$936) -> 39217 | K1969: =+(VLOOKUP(H1969,C:D,2,FALSE)/VLOOKUP(J1969,C:D,2,FALSE)-1)*100 -> 5.0416274
A1970: =MONTH(EDATE(C1970,-1))&YEAR(EDATE(C1970,-1))&F1970 -> 42008P | B1970: 760199 | C1970: 39589 | D1970: 1728.4368 | E1970: 0.46 | F1970: P | G1970: 39584 | H1970: =WORKDAY(WORKDAY(DATEVALUE("15/"&MONTH(EDATE(C1970,0))&"/"&YEAR(EDATE(C1970,0))),-1,Feriados!$A$1:$A$936),1,Feriados!$A$1:$A$936) -> 39583 | I1970: =WORKDAY(WORKDAY(DATEVALUE("15/"&MONTH(EDATE(C1970,-1))&"/"&YEAR(EDATE(C1970,-1))),-1,Feriados!$A$1:$A$936),1,Feriados!$A$1:$A$936) -> 39553 | J1970: =WORKDAY(WORKDAY(DATEVALUE("15/"&MONTH(EDATE(C1970,0))&"/"&YEAR(EDATE(C1970,0))-1),-1,Feriados!$A$1:$A$936),1,Feriados!$A$1:$A$936) -> 39217 | K1970: =+(VLOOKUP(H1970,C:D,2,FALSE)/VLOOKUP(J1970,C:D,2,FALSE)-1)*100 -> 5.0416274
A1971: =MONTH(EDATE(C1971,-1))&YEAR(EDATE(C1971,-1))&F1971 -> 42008P | B1971: 760199 | C1971: 39591 | D1971: 1728.8145 | E1971: 0.46 | F1971: P | G1971: 39584 | H1971: =WORKDAY(WORKDAY(DATEVALUE("15/"&MONTH(EDATE(C1971,0))&"/"&YEAR(EDATE(C1971,0))),-1,Feriados!$A$1:$A$936),1,Feriados!$A$1:$A$936) -> 39583 | I1971: =WORKDAY(WORKDAY(DATEVALUE("15/"&MONTH(EDATE(C1971,-1))&"/"&YEAR(EDATE(C1971,-1))),-1,Feriados!$A$1:$A$936),1,Feriados!$A$1:$A$936) -> 39553 | J1971: =WORKDAY(WORKDAY(DATEVALUE("15/"&MONTH(EDATE(C1971,0))&"/"&YEAR(EDATE(C1971,0))-1),-1,Feriados!$A$1:$A$936),1,Feriados!$A$1:$A$936) -> 39217 | K1971: =+(VLOOKUP(H1971,C:D,2,FALSE)/VLOOKUP(J1971,C:D,2,FALSE)-1)*100 -> 5.0416274
A1972: =MONTH(EDATE(C1972,-1))&YEAR(EDATE(C1972,-1))&F1972 -> 42008P | B1972: 760199 | C1972: 39594 | D1972: 1729.1924 | E1972: 0.46 | F1972: P | G1972: 39584 | H1972: =WORKDAY(WORKDAY(DATEVALUE("15/"&MONTH(EDATE(C1972,0))&"/"&YEAR(EDATE(C1972,0))),-1,Feriados!$A$1:$A$936),1,Feriados!$A$1:$A$936) -> 39583 | I1972: =WORKDAY(WORKDAY(DATEVALUE("15/"&MONTH(EDATE(C1972,-1))&"/"&YEAR(EDATE(C1972,-1))),-1,Feriados!$A$1:$A$936),1,Feriados!$A$1:$A$936) -> 39553 | J1972: =WORKDAY(WORKDAY(DATEVALUE("15/"&MONTH(EDATE(C1972,0))&"/"&YEAR(EDATE(C1972,0))-1),-1,Feriados!$A$1:$A$936),1,Feriados!$A$1:$A$936) -> 39217 | K1972: =+(VLOOKUP(H1972,C:D,2,FALSE)/VLOOKUP(J1972,C:D,2,FALSE)-1)*100 -> 5.0416274
A1973: =MONTH(EDATE(C1973,-1))&YEAR(EDATE(C1973,-1))&F1973 -> 42008P | B1973: 760199 | C1973: 39595 | D1973: 1729.5704 | E1973: 0.46 | F1973: P | G1973: 39584 | H1973: =WORKDAY(WORKDAY(DATEVALUE("15/"&MONTH(EDATE(C1973,0))&"/"&YEAR(EDATE(C1973,0))),-1,Feriados!$A$1:$A$936),1,Feriados!$A$1:$A$936) -> 39583 | I1973: =WORKDAY(WORKDAY(DATEVALUE("15/"&MONTH(EDATE(C1973,-1))&"/"&YEAR(EDATE(C1973,-1))),-1,Feriados!$A$1:$A$936),1,Feriados!$A$1:$A$936) -> 39553 | J1973: =WORKDAY(WORKDAY(DATEVALUE("15/"&MONTH(EDATE(C1973,0))&"/"&YEAR(EDATE(C1973,0))-1),-1,Feriados!$A$1:$A$936),1,Feriados!$A$1:$A$936) -> 39217 | K1973: =+(VLOOKUP(H1973,C:D,2,FALSE)/VLOOKUP(J1973,C:D,2,FALSE)-1)*100 -> 5.0416274
A1974: =MONTH(EDATE(C1974,-1))&YEAR(EDATE(C1974,-1))&F1974 -> 42008P | B1974: 760199 | C1974: 39596 | D1974: 1729.9484 | E1974: 0.46 | F1974: P | G1974: 39584 | H1974: =WORKDAY(WORKDAY(DATEVALUE("15/"&MONTH(EDATE(C1974,0))&"/"&YEAR(EDATE(C1974,0))),-1,Feriados!$A$1:$A$936),1,Feriados!$A$1:$A$936) -> 39583 | I1974: =WORKDAY(WORKDAY(DATEVALUE("15/"&MONTH(EDATE(C1974,-1))&"/"&YEAR(EDATE(C1974,-1))),-1,Feriados!$A$1:$A$936),1,Feriados!$A$1:$A$936) -> 39553 | J1974: =WORKDAY(WORKDAY(DATEVALUE("15/"&MONTH(EDATE(C1974,0))&"/"&YEAR(EDATE(C1974,0))-1),-1,Feriados!$A$1:$A$936),1,Feriados!$A$1:$A$936) -> 39217 | K1974: =+(VLOOKUP(H1974,C:D,2,FALSE)/VLOOKUP(J1974,C:D,2,FALSE)-1)*100 -> 5.0416274
... A5732: =MONTH(EDATE(C5732,-1))&YEAR(EDATE(C5732,-1))&F5732 -> 42023P | B5732: 760199 | C5732: 45057 | D5732: 4113.6454 | E5732: 0.55 | F5732: P | G5732: 45043 | H5732: =WORKDAY(WORKDAY(DATEVALUE("15/"&MONTH(EDATE(C5732,0))&"/"&YEAR(EDATE(C5732,0))),-1,Feriados!$A$1:$A$936),1,Feriados!$A$1:$A$936) -> 45061 | I5732: =WORKDAY(WORKDAY(DATEVALUE("15/"&MONTH(EDATE(C5732,-1))&"/"&YEAR(EDATE(C5732,-1))),-1,Feriados!$A$1:$A$936),1,Feriados!$A$1:$A$936) -> 45033 | J5732: =WORKDAY(WORKDAY(DATEVALUE("15/"&MONTH(EDATE(C5732,0))&"/"&YEAR(EDATE(C5732,0))-1),-1,Feriados!$A$1:$A$936),1,Feriados!$A$1:$A$936) -> 44697 | K5732: =+(VLOOKUP(H5732,C:D,2,FALSE)/VLOOKUP(J5732,C:D,2,FALSE)-1)*100 -> #N/A

Sheet Mediana Mensal IPCA TOP 5 LP
A1: IPCA - variação % - Mediana - Período de 02/01/2022 a 11/05/2023 - Base: Top 5 longo prazo
A2: Data | B2: 44531 | C2: 44562 | D2: 44593 | E2: 44621 | F2: 44652 | G2: 44682 | H2: 44713 | I2: 44743 | J2: 44774 | K2: 44805 | L2: 44835 | M2: 44866 | N2: 44896 | O2: 44927 | P2: 44958 | Q2: 44986 | R2: 45017 | S2: 45047 | T2: 45078 | U2: 45108 | V2: 45139 | W2: 45170 | X2: 45200 | Y2: 45231 | Z2: 45261 | AA2: 45292 | AB2: 45323 | AC2: 45352 | AD2: 45383 | AE2: 45413 | AF2: 45444 | AG2: 45474 | AH2: 45505 | AI2: 45536 | AJ2: 45566 | AK2: 45597 | AL2: 45627 | AM2: 45658 | AN2: 45689 | AO2: 45717 | AP2: 45748
A3: 44564 | B3: 0.6388 | C3: 0.638 | D3: 0.53 | E3: 0.4015 | F3: 0.4332 | G3: 0.3845 | H3: 0.34 | I3: 0.3953 | J3: 0.2608 | K3: 0.29 | L3: 0.43 | M3: 0.5043 | N3: 0.51 | O3: 0.408 | P3: 0.3862 | Q3: 0.29 | R3: 0.3 | S3: 0.22 | T3: 0.26 | U3: 0.21 | V3: 0.27 | W3: 0.31 | X3: 0.31 | Y3: 0.36 | Z3: 0.7562
A4: 44565 | B4: 0.6388 | C4: 0.638 | D4: 0.53 | E4: 0.4015 | F4: 0.4332 | G4: 0.3845 | H4: 0.34 | I4: 0.3953 | J4: 0.2608 | K4: 0.29 | L4: 0.43 | M4: 0.5043 | N4: 0.51 | O4: 0.408 | P4: 0.3862 | Q4: 0.29 | R4: 0.3 | S4: 0.22 | T4: 0.26 | U4: 0.21 | V4: 0.27 | W4: 0.31 | X4: 0.31 | Y4: 0.36 | Z4: 0.7562
A5: 44566 | B5: 0.6388 | C5: 0.638 | D5: 0.53 | E5: 0.4015 | F5: 0.4332 | G5: 0.3845 | H5: 0.34 | I5: 0.3953 | J5: 0.2608 | K5: 0.29 | L5: 0.43 | M5: 0.5043 | N5: 0.51 | O5: 0.408 | P5: 0.3862 | Q5: 0.29 | R5: 0.3 | S5: 0.22 | T5: 0.26 | U5: 0.21 | V5: 0.27 | W5: 0.31 | X5: 0.31 | Y5: 0.36 | Z5: 0.7562
A6: 44567 | B6: 0.6388 | C6: 0.638 | D6: 0.53 | E6: 0.4015 | F6: 0.4332 | G6: 0.3845 | H6: 0.34 | I6: 0.3953 | J6: 0.2608 | K6: 0.29 | L6: 0.43 | M6: 0.5043 | N6: 0.51 | O6: 0.408 | P6: 0.3862 | Q6: 0.29 | R6: 0.3 | S6: 0.22 | T6: 0.26 | U6: 0.21 | V6: 0.27 | W6: 0.31 | X6: 0.31 | Y6: 0.36 | Z6: 0.7562
A7: 44568 | B7: 0.6388 | C7: 0.638 | D7: 0.53 | E7: 0.4015 | F7: 0.4332 | G7: 0.3845 | H7: 0.34 | I7: 0.3953 | J7: 0.2608 | K7: 0.29 | L7: 0.43 | M7: 0.5043 | N7: 0.51 | O7: 0.408 | P7: 0.3862 | Q7: 0.29 | R7: 0.3 | S7: 0.22 | T7: 0.26 | U7: 0.21 | V7: 0.27 | W7: 0.31 | X7: 0.31 | Y7: 0.36 | Z7: 0.7562
A8: 44571 | B8: 0.6388 | C8: 0.638 | D8: 0.53 | E8: 0.4015 | F8: 0.4332 | G8: 0.3845 | H8: 0.34 | I8: 0.3953 | J8: 0.2608 | K8: 0.29 | L8: 0.43 | M8: 0.5043 | N8: 0.51 | O8: 0.408 | P8: 0.3862 | Q8: 0.29 | R8: 0.3 | S8: 0.22 | T8: 0.26 | U8: 0.21 | V8: 0.27 | W8: 0.31 | X8: 0.31 | Y8: 0.36 | Z8: 0.7562
A9: 44572 | C9: 0.638 | D9: 0.53 | E9: 0.4015 | F9: 0.4332 | G9: 0.3845 | H9: 0.34 | I9: 0.3953 | J9: 0.2608 | K9: 0.29 | L9: 0.43 | M9: 0.5043 | N9: 0.51 | O9: 0.408 | P9: 0.3862 | Q9: 0.29 | R9: 0.3 | S9: 0.22 | T9: 0.26 | U9: 0.21 | V9: 0.27 | W9: 0.31 | X9: 0.31 | Y9: 0.36 | Z9: 0.7562
A10: 44573 | C10: 0.638 | D10: 0.53 | E10: 0.4015 | F10: 0.4332 | G10: 0.3845 | H10: 0.34 | I10: 0.3953 | J10: 0.2608 | K10: 0.29 | L10: 0.43 | M10: 0.5043 | N10: 0.51 | O10: 0.408 | P10: 0.3862 | Q10: 0.29 | R10: 0.3 | S10: 0.22 | T10: 0.26 | U10: 0.21 | V10: 0.27 | W10: 0.31 | X10: 0.31 | Y10: 0.36 | Z10: 0.7562
A11: 44574 | C11: 0.6419 | D11: 0.5915 | E11: 0.4208 | F11: 0.4383 | G11: 0.4088 | H11: 0.3951 | I11: 0.3577 | J11: 0.2604 | K11: 0.2798 | L11: 0.3591 | M11: 0.4522 | N11: 0.5968 | O11: 0.354 | P11: 0.3581 | Q11: 0.3091 | R11: 0.2545 | S11: 0.253 | T11: 0.2234 | U11: 0.1961 | V11: 0.2138 | W11: 0.2662 | X11: 0.3599 | Y11: 0.455 | Z11: 0.7599
A12: 44575 | C12: 0.575 | D12: 0.7065 | E12: 0.4654 | F12: 0.4383 | G12: 0.4088 | H12: 0.3301 | I12: 0.3577 | J12: 0.2904 | K12: 0.3548 | L12: 0.4 | M12: 0.5122 | N12: 0.5505 | O12: 0.354 | P12: 0.3581 | Q12: 0.3091 | R12: 0.2545 | S12: 0.253 | T12: 0.2234 | U12: 0.1961 | V12: 0.2138 | W12: 0.2662 | X12: 0.3599 | Y12: 0.455 | Z12: 0.7599 | AA12: 0.3532
A13: 44578 | C13: 0.575 | D13: 0.7065 | E13: 0.4654 | F13: 0.4383 | G13: 0.4088 | H13: 0.3301 | I13: 0.3577 | J13: 0.2904 | K13: 0.3548 | L13: 0.4 | M13: 0.5122 | N13: 0.5505 | O13: 0.354 | P13: 0.3581 | Q13: 0.3091 | R13: 0.2545 | S13: 0.253 | T13: 0.2234 | U13: 0.1961 | V13: 0.2138 | W13: 0.2662 | X13: 0.3599 | Y13: 0.455 | Z13: 0.7599 | AA13: 0.3532
A14: 44579 | C14: 0.52 | D14: 0.6529 | E14: 0.44 | F14: 0.4332 | G14: 0.3845 | H14: 0.35 | I14: 0.3953 | J14: 0.32 | K14: 0.44 | L14: 0.46 | M14: 0.5043 | N14: 0.6 | O14: 0.3 | P14: 0.33 | Q14: 0.29 | R14: 0.26 | S14: 0.26 | T14: 0.26 | U14: 0.21 | V14: 0.26 | W14: 0.26 | X14: 0.2898 | Y14: 0.36 | Z14: 0.7562 | AA14: 0.34
A15: 44580 | C15: 0.52 | D15: 0.6529 | E15: 0.44 | F15: 0.4332 | G15: 0.3845 | H15: 0.35 | I15: 0.3953 | J15: 0.32 | K15: 0.44 | L15: 0.46 | M15: 0.5043 | N15: 0.6 | O15: 0.3 | P15: 0.33 | Q15: 0.29 | R15: 0.26 | S15: 0.26 | T15: 0.26 | U15: 0.21 | V15: 0.26 | W15: 0.26 | X15: 0.2898 | Y15: 0.36 | Z15: 0.7562 | AA15: 0.34
A16: 44581 | C16: 0.52 | D16: 0.6529 | E16: 0.44 | F16: 0.4332 | G16: 0.3845 | H16: 0.35 | I16: 0.3953 | J16: 0.32 | K16: 0.44 | L16: 0.46 | M16: 0.5043 | N16: 0.6 | O16: 0.3 | P16: 0.33 | Q16: 0.29 | R16: 0.26 | S16: 0.26 | T16: 0.26 | U16: 0.21 | V16: 0.26 | W16: 0.26 | X16: 0.2898 | Y16: 0.36 | Z16: 0.7562 | AA16: 0.34
A17: 44582 | C17: 0.52 | D17: 0.7311 | E17: 0.44 | F17: 0.42 | G17: 0.4044 | H17: 0.36 | I17: 0.3953 | J17: 0.2608 | K17: 0.35 | L17: 0.46 | M17: 0.5197 | N17: 0.6 | O17: 0.3 | P17: 0.3862 | Q17: 0.29 | R17: 0.27 | S17: 0.26 | T17: 0.26 | U17: 0.21 | V17: 0.26 | W17: 0.26 | X17: 0.2898 | Y17: 0.36 | Z17: 0.4111 | AA17: 0.34
A18: 44585 | C18: 0.5082 | D18: 0.7311 | E18: 0.46 | F18: 0.44 | G18: 0.4044 | H18: 0.36 | I18: 0.3953 | J18: 0.2608 | K18: 0.35 | L18: 0.46 | M18: 0.5197 | N18: 0.6 | O18: 0.3 | P18: 0.3862 | Q18: 0.29 | R18: 0.27 | S18: 0.26 | T18: 0.26 | U18: 0.21 | V18: 0.26 | W18: 0.26 | X18: 0.2898 | Y18: 0.36 | Z18: 0.4111 | AA18: 0.34
A19: 44586 | C19: 0.5082 | D19: 0.7311 | E19: 0.46 | F19: 0.44 | G19: 0.4044 | H19: 0.36 | I19: 0.3953 | J19: 0.2608 | K19: 0.35 | L19: 0.46 | M19: 0.5197 | N19: 0.6 | O19: 0.3 | P19: 0.3862 | Q19: 0.29 | R19: 0.27 | S19: 0.26 | T19: 0.26 | U19: 0.21 | V19: 0.26 | W19: 0.26 | X19: 0.2898 | Y19: 0.36 | Z19: 0.4111 | AA19: 0.34
A20: 44587 | C20: 0.5082 | D20: 0.7311 | E20: 0.46 | F20: 0.44 | G20: 0.4044 | H20: 0.36 | I20: 0.3953 | J20: 0.2608 | K20: 0.35 | L20: 0.46 | M20: 0.5197 | N20: 0.6 | O20: 0.3 | P20: 0.3862 | Q20: 0.29 | R20: 0.27 | S20: 0.26 | T20: 0.26 | U20: 0.21 | V20: 0.26 | W20: 0.26 | X20: 0.2898 | Y20: 0.36 | Z20: 0.4111 | AA20: 0.34
A21: 44588 | C21: 0.5082 | D21: 0.7311 | E21: 0.46 | F21: 0.44 | G21: 0.4044 | H21: 0.36 | I21: 0.3953 | J21: 0.2608 | K21: 0.35 | L21: 0.46 | M21: 0.5197 | N21: 0.6 | O21: 0.3 | P21: 0.3862 | Q21: 0.29 | R21: 0.27 | S21: 0.26 | T21: 0.26 | U21: 0.21 | V21: 0.26 | W21: 0.26 | X21: 0.2898 | Y21: 0.36 | Z21: 0.4111 | AA21: 0.34
A22: 44589 | C22: 0.52 | D22: 0.7311 | E22: 0.46 | F22: 0.44 | G22: 0.4044 | H22: 0.36 | I22: 0.3953 | J22: 0.2608 | K22: 0.35 | L22: 0.46 | M22: 0.5197 | N22: 0.6 | O22: 0.408 | P22: 0.41 | Q22: 0.29 | R22: 0.3087 | S22: 0.22 | T22: 0.31 | U22: 0.21 | V22: 0.26 | W22: 0.31 | X22: 0.31 | Y22: 0.36 | Z22: 0.4111 | AA22: 0.34
A23: 44592 | C23: 0.53 | D23: 0.83 | E23: 0.56 | F23: 0.36 | G23: -0.0351 | H23: 0.46 | I23: 0.5124 | J23: 0.27 | K23: 0.37 | L23: 0.52 | M23: 0.4594 | N23: 0.69 | O23: 0.53 | P23: 0.41 | Q23: 0.35 | R23: 0.38 | S23: 0.27 | T23: 0.31 | U23: 0.2321 | V23: 0.11 | W23: 0.24 | X23: 0.28 | Y23: 0.18 | Z23: 0.44 | AA23: 0.52
... A29: 44600 | C29: 0.52 | D29: 0.79 | E29: 0.59 | F29: 0.45 | G29: 0.07 | H29: 0.46 | I29: 0.57 | J29: 0.39 | K29: 0.37 | L29: 0.52 | M29: 0.46 | N29: 0.69 | O29: 0.53 | P29: 0.43 | Q29: 0.35 | R29: 0.38 | S29: 0.27 | T29: 0.31 | U29: 0.2321 | V29: 0.11 | W29: 0.24 | X29: 0.28 | Y29: 0.18 | Z29: 0.44 | AA29: 0.52
A30: 44601 | D30: 0.81 | E30: 0.6 | F30: 0.45 | G30: 0.07 | H30: 0.46 | I30: 0.57 | J30: 0.35 | K30: 0.37 | L30: 0.52 | M30: 0.46 | N30: 0.69 | O30: 0.53 | P30: 0.43 | Q30: 0.35 | R30: 0.38 | S30: 0.27 | T30: 0.31 | U30: 0.2321 | V30: 0.11 | W30: 0.24 | X30: 0.3 | Y30: 0.18 | Z30: 0.45 | AA30: 0.52
A31: 44602 | D31: 0.81 | E31: 0.6 | F31: 0.45 | G31: 0.07 | H31: 0.46 | I31: 0.57 | J31: 0.35 | K31: 0.37 | L31: 0.52 | M31: 0.46 | N31: 0.69 | O31: 0.53 | P31: 0.43 | Q31: 0.35 | R31: 0.38 | S31: 0.27 | T31: 0.31 | U31: 0.2321 | V31: 0.11 | W31: 0.24 | X31: 0.3 | Y31: 0.18 | Z31: 0.45 | AA31: 0.52
A32: 44603 | D32: 0.81 | E32: 0.57 | F32: 0.45 | G32: 0.07 | H32: 0.46 | I32: 0.57 | J32: 0.35 | K32: 0.43 | L32: 0.52 | M32: 0.46 | N32: 0.69 | O32: 0.53 | P32: 0.43 | Q32: 0.35 | R32: 0.38 | S32: 0.27 | T32: 0.32 | U32: 0.2321 | V32: 0.11 | W32: 0.24 | X32: 0.3 | Y32: 0.21 | Z32: 0.45 | AA32: 0.52
A33: 44606 | D33: 0.81 | E33: 0.57 | F33: 0.45 | G33: 0.07 | H33: 0.46 | I33: 0.57 | J33: 0.35 | K33: 0.43 | L33: 0.52 | M33: 0.46 | N33: 0.69 | O33: 0.53 | P33: 0.43 | Q33: 0.35 | R33: 0.38 | S33: 0.27 | T33: 0.32 | U33: 0.2321 | V33: 0.11 | W33: 0.24 | X33: 0.3 | Y33: 0.21 | Z33: 0.45 | AA33: 0.52
A34: 44607 | D34: 0.81 | E34: 0.57 | F34: 0.45 | G34: 0.07 | H34: 0.46 | I34: 0.57 | J34: 0.35 | K34: 0.43 | L34: 0.52 | M34: 0.46 | N34: 0.69 | O34: 0.53 | P34: 0.43 | Q34: 0.35 | R34: 0.38 | S34: 0.27 | T34: 0.32 | U34: 0.2321 | V34: 0.11 | W34: 0.24 | X34: 0.3 | Y34: 0.21 | Z34: 0.45 | AA34: 0.52
A35: 44608 | D35: 0.81 | E35: 0.57 | F35: 0.45 | G35: 0.07 | H35: 0.46 | I35: 0.57 | J35: 0.35 | K35: 0.43 | L35: 0.52 | M35: 0.46 | N35: 0.69 | O35: 0.53 | P35: 0.43 | Q35: 0.35 | R35: 0.38 | S35: 0.27 | T35: 0.32 | U35: 0.2321 | V35: 0.11 | W35: 0.24 | X35: 0.3 | Y35: 0.21 | Z35: 0.45 | AA35: 0.52
A36: 44609 | D36: 0.81 | E36: 0.57 | F36: 0.45 | G36: 0.07 | H36: 0.46 | I36: 0.57 | J36: 0.35 | K36: 0.43 | L36: 0.52 | M36: 0.46 | N36: 0.69 | O36: 0.53 | P36: 0.43 | Q36: 0.35 | R36: 0.38 | S36: 0.27 | T36: 0.32 | U36: 0.2321 | V36: 0.11 | W36: 0.24 | X36: 0.3 | Y36: 0.21 | Z36: 0.45 | AA36: 0.52
A37: 44610 | D37: 0.88 | E37: 0.55 | F37: 0.68 | G37: -0.09 | H37: 0.47 | I37: 0.5 | J37: 0.34 | K37: 0.43 | L37: 0.52 | M37: 0.45 | N37: 0.69 | O37: 0.53 | P37: 0.46 | Q37: 0.36 | R37: 0.38 | S37: 0.27 | T37: 0.3 | U37: 0.2321 | V37: 0.12 | W37: 0.24 | X37: 0.28 | Y37: 0.23 | Z37: 0.45 | AA37: 0.6 | AB37: 0.5
A38: 44613 | D38: 0.88 | E38: 0.55 | F38: 0.68 | G38: -0.09 | H38: 0.47 | I38: 0.5 | J38: 0.34 | K38: 0.43 | L38: 0.52 | M38: 0.45 | N38: 0.69 | O38: 0.53 | P38: 0.46 | Q38: 0.36 | R38: 0.38 | S38: 0.27 | T38: 0.3 | U38: 0.2321 | V38: 0.12 | W38: 0.24 | X38: 0.28 | Y38: 0.23 | Z38: 0.45 | AA38: 0.6 | AB38: 0.5
A39: 44614 | D39: 0.88 | E39: 0.55 | F39: 0.68 | G39: -0.09 | H39: 0.47 | I39: 0.5 | J39: 0.34 | K39: 0.43 | L39: 0.52 | M39: 0.45 | N39: 0.69 | O39: 0.53 | P39: 0.46 | Q39: 0.36 | R39: 0.38 | S39: 0.27 | T39: 0.3 | U39: 0.2321 | V39: 0.12 | W39: 0.24 | X39: 0.28 | Y39: 0.23 | Z39: 0.45 | AA39: 0.6 | AB39: 0.5
A40: 44615 | D40: 0.88 | E40: 0.55 | F40: 0.68 | G40: -0.09 | H40: 0.47 | I40: 0.5 | J40: 0.34 | K40: 0.43 | L40: 0.52 | M40: 0.45 | N40: 0.69 | O40: 0.53 | P40: 0.46 | Q40: 0.36 | R40: 0.38 | S40: 0.27 | T40: 0.3 | U40: 0.2321 | V40: 0.12 | W40: 0.24 | X40: 0.28 | Y40: 0.23 | Z40: 0.45 | AA40: 0.6 | AB40: 0.5
A41: 44616 | D41: 0.88 | E41: 0.55 | F41: 0.68 | G41: -0.09 | H41: 0.47 | I41: 0.5 | J41: 0.34 | K41: 0.43 | L41: 0.52 | M41: 0.45 | N41: 0.69 | O41: 0.53 | P41: 0.46 | Q41: 0.36 | R41: 0.38 | S41: 0.27 | T41: 0.3 | U41: 0.2321 | V41: 0.12 | W41: 0.24 | X41: 0.28 | Y41: 0.23 | Z41: 0.45 | AA41: 0.6 | AB41: 0.5
A42: 44617 | D42: 0.88 | E42: 0.55 | F42: 0.68 | G42: -0.09 | H42: 0.47 | I42: 0.5 | J42: 0.34 | K42: 0.43 | L42: 0.52 | M42: 0.45 | N42: 0.69 | O42: 0.53 | P42: 0.46 | Q42: 0.36 | R42: 0.38 | S42: 0.27 | T42: 0.3 | U42: 0.2321 | V42: 0.12 | W42: 0.24 | X42: 0.28 | Y42: 0.23 | Z42: 0.45 | AA42: 0.6 | AB42: 0.5
A43: 44622 | D43: 0.88 | E43: 0.55 | F43: 0.68 | G43: -0.09 | H43: 0.47 | I43: 0.5 | J43: 0.34 | K43: 0.43 | L43: 0.52 | M43: 0.45 | N43: 0.69 | O43: 0.53 | P43: 0.46 | Q43: 0.36 | R43: 0.38 | S43: 0.27 | T43: 0.3 | U43: 0.2321 | V43: 0.12 | W43: 0.24 | X43: 0.28 | Y43: 0.23 | Z43: 0.45 | AA43: 0.6 | AB43: 0.5
A44: 44623 | D44: 0.88 | E44: 0.55 | F44: 0.68 | G44: -0.09 | H44: 0.47 | I44: 0.5 | J44: 0.34 | K44: 0.43 | L44: 0.52 | M44: 0.45 | N44: 0.69 | O44: 0.53 | P44: 0.46 | Q44: 0.36 | R44: 0.38 | S44: 0.27 | T44: 0.3 | U44: 0.2321 | V44: 0.12 | W44: 0.24 | X44: 0.28 | Y44: 0.23 | Z44: 0.45 | AA44: 0.6 | AB44: 0.5
A45: 44624 | D45: 0.88 | E45: 0.55 | F45: 0.68 | G45: -0.09 | H45: 0.47 | I45: 0.5 | J45: 0.34 | K45: 0.43 | L45: 0.52 | M45: 0.45 | N45: 0.69 | O45: 0.53 | P45: 0.46 | Q45: 0.36 | R45: 0.38 | S45: 0.27 | T45: 0.3 | U45: 0.2321 | V45: 0.12 | W45: 0.24 | X45: 0.28 | Y45: 0.23 | Z45: 0.45 | AA45: 0.6 | AB45: 0.5
A46: 44627 | D46: 0.88 | E46: 0.55 | F46: 0.68 | G46: -0.09 | H46: 0.47 | I46: 0.5 | J46: 0.34 | K46: 0.43 | L46: 0.52 | M46: 0.45 | N46: 0.69 | O46: 0.53 | P46: 0.46 | Q46: 0.36 | R46: 0.38 | S46: 0.27 | T46: 0.3 | U46: 0.2321 | V46: 0.12 | W46: 0.24 | X46: 0.28 | Y46: 0.23 | Z46: 0.45 | AA46: 0.6 | AB46: 0.5
A47: 44628 | D47: 0.88 | E47: 0.55 | F47: 0.68 | G47: -0.09 | H47: 0.47 | I47: 0.5 | J47: 0.34 | K47: 0.43 | L47: 0.52 | M47: 0.45 | N47: 0.69 | O47: 0.53 | P47: 0.46 | Q47: 0.36 | R47: 0.38 | S47: 0.27 | T47: 0.3 | U47: 0.2321 | V47: 0.12 | W47: 0.24 | X47: 0.28 | Y47: 0.23 | Z47: 0.45 | AA47: 0.6 | AB47: 0.5
A48: 44629 | D48: 0.88 | E48: 0.55 | F48: 0.68 | G48: -0.09 | H48: 0.47 | I48: 0.5 | J48: 0.34 | K48: 0.43 | L48: 0.52 | M48: 0.45 | N48: 0.69 | O48: 0.53 | P48: 0.46 | Q48: 0.36 | R48: 0.38 | S48: 0.27 | T48: 0.3 | U48: 0.2321 | V48: 0.12 | W48: 0.24 | X48: 0.28 | Y48: 0.23 | Z48: 0.45 | AA48: 0.6 | AB48: 0.5
A49: 44630 | D49: 0.88 | E49: 0.55 | F49: 0.68 | G49: -0.09 | H49: 0.47 | I49: 0.5 | J49: 0.34 | K49: 0.43 | L49: 0.52 | M49: 0.45 | N49: 0.69 | O49: 0.53 | P49: 0.46 | Q49: 0.36 | R49: 0.38 | S49: 0.27 | T49: 0.3 | U49: 0.2321 | V49: 0.12 | W49: 0.24 | X49: 0.28 | Y49: 0.23 | Z49: 0.45 | AA49: 0.6 | AB49: 0.5
A50: 44631 | E50: 1 | F50: 0.91 | G50: -0.24 | H50: 0.44 | I50: 0.51 | J50: 0.4 | K50: 0.47 | L50: 0.46 | M50: 0.45 | N50: 0.73 | O50: 0.53 | P50: 0.48 | Q50: 0.39 | R50: 0.42 | S50: 0.28 | T50: 0.34 | U50: 0.2321 | V50: 0.14 | W50: 0.24 | X50: 0.31 | Y50: 0.21 | Z50: 0.44 | AA50: 0.6 | AB50: 0.5 | AC50: 0.3
A51: 44634 | E51: 1 | F51: 0.91 | G51: -0.24 | H51: 0.44 | I51: 0.51 | J51: 0.4 | K51: 0.47 | L51: 0.46 | M51: 0.45 | N51: 0.73 | O51: 0.53 | P51: 0.48 | Q51: 0.39 | R51: 0.42 | S51: 0.28 | T51: 0.34 | U51: 0.2321 | V51: 0.14 | W51: 0.24 | X51: 0.31 | Y51: 0.21 | Z51: 0.44 | AA51: 0.6 | AB51: 0.5 | AC51: 0.3
A52: 44635 | E52: 1 | F52: 0.91 | G52: -0.24 | H52: 0.44 | I52: 0.51 | J52: 0.4 | K52: 0.47 | L52: 0.46 | M52: 0.45 | N52: 0.73 | O52: 0.53 | P52: 0.48 | Q52: 0.39 | R52: 0.42 | S52: 0.28 | T52: 0.34 | U52: 0.2321 | V52: 0.14 | W52: 0.24 | X52: 0.31 | Y52: 0.21 | Z52: 0.44 | AA52: 0.6 | AB52: 0.5 | AC52: 0.3
A53: 44636 | E53: 1 | F53: 0.91 | G53: -0.24 | H53: 0.44 | I53: 0.51 | J53: 0.4 | K53: 0.47 | L53: 0.46 | M53: 0.45 | N53: 0.73 | O53: 0.53 | P53: 0.48 | Q53: 0.39 | R53: 0.42 | S53: 0.28 | T53: 0.34 | U53: 0.2321 | V53: 0.14 | W53: 0.24 | X53: 0.31 | Y53: 0.21 | Z53: 0.44 | AA53: 0.6 | AB53: 0.5 | AC53: 0.3
A54: 44637 | E54: 1.03 | F54: 0.91 | G54: -0.24 | H54: 0.44 | I54: 0.51 | J54: 0.4 | K54: 0.5 | L54: 0.46 | M54: 0.45 | N54: 0.74 | O54: 0.53 | P54: 0.48 | Q54: 0.39 | R54: 0.42 | S54: 0.28 | T54: 0.34 | U54: 0.2321 | V54: 0.14 | W54: 0.24 | X54: 0.31 | Y54: 0.21 | Z54: 0.44 | AA54: 0.6 | AB54: 0.5 | AC54: 0.3
A55: 44638 | E55: 1.05 | F55: 1.03 | G55: -0.33 | H55: 0.44 | I55: 0.51 | J55: 0.39 | K55: 0.5 | L55: 0.48 | M55: 0.45 | N55: 0.74 | O55: 0.53 | P55: 0.48 | Q55: 0.4 | R55: 0.45 | S55: 0.27 | T55: 0.35 | U55: 0.2321 | V55: 0.13 | W55: 0.24 | X55: 0.31 | Y55: 0.22 | Z55: 0.46 | AA55: 0.6 | AB55: 0.5 | AC55: 0.3
A56: 44641 | E56: 1.05 | F56: 1.03 | G56: -0.33 | H56: 0.44 | I56: 0.51 | J56: 0.39 | K56: 0.5 | L56: 0.48 | M56: 0.45 | N56: 0.74 | O56: 0.53 | P56: 0.48 | Q56: 0.4 | R56: 0.45 | S56: 0.27 | T56: 0.35 | U56: 0.2321 | V56: 0.13 | W56: 0.24 | X56: 0.31 | Y56: 0.22 | Z56: 0.46 | AA56: 0.6 | AB56: 0.5 | AC56: 0.3
A57: 44642 | E57: 1.05 | F57: 1.03 | G57: -0.33 | H57: 0.44 | I57: 0.51 | J57: 0.39 | K57: 0.5 | L57: 0.48 | M57: 0.45 | N57: 0.74 | O57: 0.53 | P57: 0.48 | Q57: 0.4 | R57: 0.45 | S57: 0.27 | T57: 0.35 | U57: 0.2321 | V57: 0.13 | W57: 0.24 | X57: 0.31 | Y57: 0.22 | Z57: 0.46 | AA57: 0.6 | AB57: 0.5 | AC57: 0.3
A58: 44643 | E58: 1.05 | F58: 1.03 | G58: -0.33 | H58: 0.44 | I58: 0.51 | J58: 0.39 | K58: 0.5 | L58: 0.48 | M58: 0.45 | N58: 0.74 | O58: 0.53 | P58: 0.48 | Q58: 0.4 | R58: 0.45 | S58: 0.27 | T58: 0.35 | U58: 0.2321 | V58: 0.13 | W58: 0.24 | X58: 0.31 | Y58: 0.22 | Z58: 0.46 | AA58: 0.6 | AB58: 0.5 | AC58: 0.3
A59: 44644 | E59: 1.05 | F59: 1.04 | G59: -0.33 | H59: 0.44 | I59: 0.51 | J59: 0.39 | K59: 0.5 | L59: 0.48 | M59: 0.45 | N59: 0.74 | O59: 0.53 | P59: 0.48 | Q59: 0.4 | R59: 0.45 | S59: 0.27 | T59: 0.35 | U59: 0.2321 | V59: 0.13 | W59: 0.24 | X59: 0.31 | Y59: 0.22 | Z59: 0.46 | AA59: 0.6 | AB59: 0.5 | AC59: 0.3
A60: 44645 | E60: 1.27 | F60: 0.98 | G60: -0.3 | H60: 0.34 | I60: 0.51 | J60: 0.4 | K60: 0.5 | L60: 0.47 | M60: 0.45 | N60: 0.74 | O60: 0.53 | P60: 0.48 | Q60: 0.37 | R60: 0.43 | S60: 0.27 | T60: 0.35 | U60: 0.2321 | V60: 0.15 | W60: 0.24 | X60: 0.31 | Y60: 0.23 | Z60: 0.47 | AA60: 0.61 | AB60: 0.5 | AC60: 0.335
A61: 44648 | E61: 1.3 | F61: 1.03 | G61: -0.3 | H61: 0.34 | I61: 0.51 | J61: 0.4 | K61: 0.48 | L61: 0.47 | M61: 0.45 | N61: 0.76 | O61: 0.53 | P61: 0.48 | Q61: 0.37 | R61: 0.43 | S61: 0.27 | T61: 0.35 | U61: 0.2321 | V61: 0.15 | W61: 0.24 | X61: 0.31 | Y61: 0.23 | Z61: 0.47 | AA61: 0.61 | AB61: 0.5 | AC61: 0.335
... A69: 44658 | E69: 1.31 | F69: 1.03 | G69: -0.33 | H69: 0.34 | I69: 0.51 | J69: 0.4 | K69: 0.46 | L69: 0.47 | M69: 0.45 | N69: 0.76 | O69: 0.53 | P69: 0.48 | Q69: 0.37 | R69: 0.44 | S69: 0.27 | T69: 0.35 | U69: 0.2321 | V69: 0.15 | W69: 0.24 | X69: 0.31 | Y69: 0.25 | Z69: 0.52 | AA69: 0.625 | AB69: 0.5 | AC69: 0.335
A70: 44659 | F70: 0.98 | G70: -0.3 | H70: 0.34 | I70: 0.51 | J70: 0.4 | K70: 0.46 | L70: 0.47 | M70: 0.45 | N70: 0.76 | O70: 0.53 | P70: 0.48 | Q70: 0.37 | R70: 0.44 | S70: 0.27 | T70: 0.35 | U70: 0.2321 | V70: 0.15 | W70: 0.24 | X70: 0.31 | Y70: 0.25 | Z70: 0.52 | AA70: 0.625 | AB70: 0.5 | AC70: 0.335
A71: 44662 | F71: 0.98 | G71: -0.3 | H71: 0.34 | I71: 0.51 | J71: 0.4 | K71: 0.46 | L71: 0.45 | M71: 0.45 | N71: 0.76 | O71: 0.53 | P71: 0.48 | Q71: 0.38 | R71: 0.45 | S71: 0.27 | T71: 0.35 | U71: 0.2321 | V71: 0.15 | W71: 0.24 | X71: 0.31 | Y71: 0.24 | Z71: 0.52 | AA71: 0.65 | AB71: 0.5 | AC71: 0.34 | AD71: 0.45
A72: 44663 | F72: 0.98 | G72: -0.3 | H72: 0.34 | I72: 0.51 | J72: 0.4 | K72: 0.46 | L72: 0.45 | M72: 0.45 | N72: 0.76 | O72: 0.53 | P72: 0.48 | Q72: 0.38 | R72: 0.45 | S72: 0.27 | T72: 0.35 | U72: 0.2321 | V72: 0.15 | W72: 0.24 | X72: 0.31 | Y72: 0.24 | Z72: 0.52 | AA72: 0.65 | AB72: 0.5 | AC72: 0.34 | AD72: 0.45
A73: 44664 | F73: 0.98 | G73: -0.3 | H73: 0.34 | I73: 0.51 | J73: 0.4 | K73: 0.46 | L73: 0.45 | M73: 0.45 | N73: 0.76 | O73: 0.53 | P73: 0.48 | Q73: 0.38 | R73: 0.45 | S73: 0.27 | T73: 0.35 | U73: 0.2321 | V73: 0.15 | W73: 0.24 | X73: 0.31 | Y73: 0.24 | Z73: 0.52 | AA73: 0.65 | AB73: 0.5 | AC73: 0.34 | AD73: 0.45
A74: 44665 | F74: 0.98 | G74: -0.3 | H74: 0.34 | I74: 0.67 | J74: 0.43 | K74: 0.46 | L74: 0.45 | M74: 0.56 | N74: 0.76 | O74: 0.53 | P74: 0.48 | Q74: 0.38 | R74: 0.45 | S74: 0.27 | T74: 0.35 | U74: 0.27 | V74: 0.15 | W74: 0.24 | X74: 0.31 | Y74: 0.24 | Z74: 0.479 | AA74: 0.65 | AB74: 0.5 | AC74: 0.34 | AD74: 0.45
A75: 44669 | F75: 0.98 | G75: -0.3 | H75: 0.34 | I75: 0.67 | J75: 0.43 | K75: 0.46 | L75: 0.45 | M75: 0.56 | N75: 0.76 | O75: 0.53 | P75: 0.48 | Q75: 0.38 | R75: 0.45 | S75: 0.27 | T75: 0.35 | U75: 0.27 | V75: 0.15 | W75: 0.24 | X75: 0.31 | Y75: 0.25 | Z75: 0.479 | AA75: 0.65 | AB75: 0.5 | AC75: 0.34 | AD75: 0.45
A76: 44670 | F76: 0.98 | G76: -0.3 | H76: 0.34 | I76: 0.67 | J76: 0.43 | K76: 0.46 | L76: 0.45 | M76: 0.56 | N76: 0.76 | O76: 0.53 | P76: 0.48 | Q76: 0.38 | R76: 0.45 | S76: 0.27 | T76: 0.35 | U76: 0.27 | V76: 0.15 | W76: 0.24 | X76: 0.31 | Y76: 0.25 | Z76: 0.479 | AA76: 0.65 | AB76: 0.5 | AC76: 0.34 | AD76: 0.45
A77: 44671 | F77: 0.98 | G77: -0.3 | H77: 0.34 | I77: 0.67 | J77: 0.43 | K77: 0.46 | L77: 0.47 | M77: 0.56 | N77: 0.76 | O77: 0.53 | P77: 0.48 | Q77: 0.38 | R77: 0.45 | S77: 0.27 | T77: 0.35 | U77: 0.27 | V77: 0.15 | W77: 0.24 | X77: 0.31 | Y77: 0.25 | Z77: 0.479 | AA77: 0.65 | AB77: 0.5 | AC77: 0.34 | AD77: 0.45
A78: 44673 | F78: 0.94 | G78: 0.18 | H78: 0.34 | I78: 0.66 | J78: 0.36 | K78: 0.48 | L78: 0.55 | M78: 0.57 | N78: 0.75 | O78: 0.52 | P78: 0.48 | Q78: 0.34 | R78: 0.45 | S78: 0.33 | T78: 0.26 | U78: 0.27 | V78: 0.15 | W78: 0.32 | X78: 0.35 | Y78: 0.3 | Z78: 0.479 | AA78: 0.65 | AB78: 0.5 | AC78: 0.34 | AD78: 0.41
A79: 44676 | F79: 0.94 | G79: 0.27 | H79: 0.48 | I79: 0.54 | J79: 0.36 | K79: 0.48 | L79: 0.53 | M79: 0.57 | N79: 0.75 | O79: 0.52 | P79: 0.48 | Q79: 0.34 | R79: 0.45 | S79: 0.33 | T79: 0.26 | U79: 0.27 | V79: 0.14 | W79: 0.32 | X79: 0.31 | Y79: 0.3 | Z79: 0.479 | AA79: 0.65 | AB79: 0.5 | AC79: 0.34 | AD79: 0.45
A80: 44677 | F80: 0.94 | G80: 0.27 | H80: 0.48 | I80: 0.54 | J80: 0.36 | K80: 0.48 | L80: 0.53 | M80: 0.57 | N80: 0.75 | O80: 0.52 | P80: 0.48 | Q80: 0.34 | R80: 0.45 | S80: 0.33 | T80: 0.26 | U80: 0.27 | V80: 0.14 | W80: 0.32 | X80: 0.31 | Y80: 0.3 | Z80: 0.479 | AA80: 0.65 | AB80: 0.5 | AC80: 0.34 | AD80: 0.45
A81: 44678 | F81: 0.94 | G81: 0.27 | H81: 0.48 | I81: 0.54 | J81: 0.36 | K81: 0.48 | L81: 0.53 | M81: 0.57 | N81: 0.75 | O81: 0.52 | P81: 0.48 | Q81: 0.34 | R81: 0.45 | S81: 0.33 | T81: 0.26 | U81: 0.27 | V81: 0.14 | W81: 0.32 | X81: 0.31 | Y81: 0.3 | Z81: 0.479 | AA81: 0.65 | AB81: 0.5 | AC81: 0.34 | AD81: 0.45
A82: 44679 | F82: 0.94 | G82: 0.27 | H82: 0.48 | I82: 0.54 | J82: 0.36 | K82: 0.48 | L82: 0.53 | M82: 0.57 | N82: 0.75 | O82: 0.52 | P82: 0.48 | Q82: 0.34 | R82: 0.45 | S82: 0.33 | T82: 0.26 | U82: 0.27 | V82: 0.14 | W82: 0.32 | X82: 0.31 | Y82: 0.3 | Z82: 0.479 | AA82: 0.65 | AB82: 0.5 | AC82: 0.34 | AD82: 0.45
... A90: 44691 | F90: 0.98 | G90: 0.4 | H90: 0.61 | I90: 0.65 | J90: 0.46 | K90: 0.53 | L90: 0.55 | M90: 0.59 | N90: 0.75 | O90: 0.56 | P90: 0.5 | Q90: 0.36 | R90: 0.5 | S90: 0.33 | T90: 0.27 | U90: 0.28 | V90: 0.18 | W90: 0.35 | X90: 0.33 | Y90: 0.3 | Z90: 0.479 | AA90: 0.65 | AB90: 0.5 | AC90: 0.35 | AD90: 0.51
A91: 44692 | G91: 0.4 | H91: 0.61 | I91: 0.65 | J91: 0.46 | K91: 0.53 | L91: 0.55 | M91: 0.59 | N91: 0.75 | O91: 0.56 | P91: 0.5 | Q91: 0.36 | R91: 0.5 | S91: 0.33 | T91: 0.27 | U91: 0.28 | V91: 0.18 | W91: 0.35 | X91: 0.33 | Y91: 0.3 | Z91: 0.479 | AA91: 0.65 | AB91: 0.5 | AC91: 0.35 | AD91: 0.51
A92: 44693 | G92: 0.4 | H92: 0.61 | I92: 0.65 | J92: 0.46 | K92: 0.53 | L92: 0.55 | M92: 0.59 | N92: 0.75 | O92: 0.56 | P92: 0.5 | Q92: 0.36 | R92: 0.5 | S92: 0.33 | T92: 0.27 | U92: 0.28 | V92: 0.18 | W92: 0.35 | X92: 0.33 | Y92: 0.3 | Z92: 0.479 | AA92: 0.65 | AB92: 0.5 | AC92: 0.35 | AD92: 0.51
A93: 44694 | G93: 0.47 | H93: 0.77 | I93: 0.65 | J93: 0.46 | K93: 0.53 | L93: 0.55 | M93: 0.59 | N93: 0.75 | O93: 0.56 | P93: 0.5 | Q93: 0.36 | R93: 0.5 | S93: 0.33 | T93: 0.27 | U93: 0.28 | V93: 0.18 | W93: 0.35 | X93: 0.33 | Y93: 0.3 | Z93: 0.479 | AA93: 0.65 | AB93: 0.5 | AC93: 0.35 | AD93: 0.51
A94: 44697 | G94: 0.45 | H94: 0.77 | I94: 0.68 | J94: 0.49 | K94: 0.55 | L94: 0.55 | M94: 0.59 | N94: 0.75 | O94: 0.56 | P94: 0.5 | Q94: 0.36 | R94: 0.5 | S94: 0.33 | T94: 0.27 | U94: 0.27 | V94: 0.18 | W94: 0.35 | X94: 0.33 | Y94: 0.3 | Z94: 0.479 | AA94: 0.65 | AB94: 0.5 | AC94: 0.35 | AD94: 0.54 | AE94: 0.32
A95: 44698 | G95: 0.45 | H95: 0.77 | I95: 0.68 | J95: 0.49 | K95: 0.55 | L95: 0.55 | M95: 0.59 | N95: 0.75 | O95: 0.56 | P95: 0.5 | Q95: 0.36 | R95: 0.5 | S95: 0.33 | T95: 0.27 | U95: 0.27 | V95: 0.18 | W95: 0.35 | X95: 0.33 | Y95: 0.3 | Z95: 0.479 | AA95: 0.65 | AB95: 0.5 | AC95: 0.35 | AD95: 0.54 | AE95: 0.32
A96: 44699 | G96: 0.45 | H96: 0.77 | I96: 0.68 | J96: 0.49 | K96: 0.55 | L96: 0.55 | M96: 0.59 | N96: 0.75 | O96: 0.56 | P96: 0.5 | Q96: 0.36 | R96: 0.5 | S96: 0.33 | T96: 0.27 | U96: 0.27 | V96: 0.18 | W96: 0.35 | X96: 0.33 | Y96: 0.3 | Z96: 0.479 | AA96: 0.65 | AB96: 0.5 | AC96: 0.35 | AD96: 0.54 | AE96: 0.32
A97: 44700 | G97: 0.45 | H97: 0.77 | I97: 0.68 | J97: 0.49 | K97: 0.55 | L97: 0.55 | M97: 0.59 | N97: 0.75 | O97: 0.56 | P97: 0.5 | Q97: 0.36 | R97: 0.5 | S97: 0.33 | T97: 0.27 | U97: 0.27 | V97: 0.18 | W97: 0.35 | X97: 0.33 | Y97: 0.3 | Z97: 0.479 | AA97: 0.65 | AB97: 0.5 | AC97: 0.35 | AD97: 0.54 | AE97: 0.32
A98: 44701 | G98: 0.46 | H98: 0.63 | I98: 0.75 | J98: 0.47 | K98: 0.57 | L98: 0.55 | M98: 0.45 | N98: 0.75 | O98: 0.56 | P98: 0.5 | Q98: 0.36 | R98: 0.53 | S98: 0.33 | T98: 0.27 | U98: 0.31 | V98: 0.18 | W98: 0.35 | X98: 0.33 | Y98: 0.29 | Z98: 0.479 | AA98: 0.65 | AB98: 0.5 | AC98: 0.35 | AD98: 0.55 | AE98: 0.25
A99: 44704 | G99: 0.46 | H99: 0.63 | I99: 0.75 | J99: 0.47 | K99: 0.57 | L99: 0.55 | M99: 0.45 | N99: 0.75 | O99: 0.56 | P99: 0.5 | Q99: 0.36 | R99: 0.53 | S99: 0.33 | T99: 0.27 | U99: 0.31 | V99: 0.18 | W99: 0.35 | X99: 0.33 | Y99: 0.29 | Z99: 0.479 | AA99: 0.65 | AB99: 0.5 | AC99: 0.35 | AD99: 0.55 | AE99: 0.25
A100: 44705 | G100: 0.46 | H100: 0.63 | I100: 0.75 | J100: 0.47 | K100: 0.57 | L100: 0.55 | M100: 0.45 | N100: 0.75 | O100: 0.56 | P100: 0.5 | Q100: 0.36 | R100: 0.53 | S100: 0.33 | T100: 0.27 | U100: 0.31 | V100: 0.18 | W100: 0.35 | X100: 0.33 | Y100: 0.29 | Z100: 0.479 | AA100: 0.65 | AB100: 0.5 | AC100: 0.35 | AD100: 0.55 | AE100: 0.25
A101: 44706 | G101: 0.46 | H101: 0.63 | I101: 0.75 | J101: 0.47 | K101: 0.57 | L101: 0.55 | M101: 0.45 | N101: 0.75 | O101: 0.56 | P101: 0.5 | Q101: 0.36 | R101: 0.53 | S101: 0.33 | T101: 0.27 | U101: 0.31 | V101: 0.18 | W101: 0.35 | X101: 0.33 | Y101: 0.29 | Z101: 0.479 | AA101: 0.65 | AB101: 0.5 | AC101: 0.35 | AD101: 0.55 | AE101: 0.25
A102: 44707 | G102: 0.46 | H102: 0.63 | I102: 0.75 | J102: 0.47 | K102: 0.57 | L102: 0.55 | M102: 0.45 | N102: 0.75 | O102: 0.56 | P102: 0.5 | Q102: 0.36 | R102: 0.53 | S102: 0.33 | T102: 0.27 | U102: 0.31 | V102: 0.18 | W102: 0.35 | X102: 0.33 | Y102: 0.29 | Z102: 0.479 | AA102: 0.65 | AB102: 0.5 | AC102: 0.35 | AD102: 0.55 | AE102: 0.25
A103: 44708 | G103: 0.58 | H103: 0.65 | I103: 0.74 | J103: 0.44 | K103: 0.56 | L103: 0.55 | M103: 0.45 | N103: 0.76 | O103: 0.56 | P103: 0.5 | Q103: 0.36 | R103: 0.53 | S103: 0.33 | T103: 0.27 | U103: 0.29 | V103: 0.18 | W103: 0.35 | X103: 0.34 | Y103: 0.29 | Z103: 0.479 | AA103: 0.65 | AB103: 0.5 | AC103: 0.35 | AD103: 0.58 | AE103: 0.25
A104: 44711 | G104: 0.58 | H104: 0.65 | I104: 0.74 | J104: 0.44 | K104: 0.56 | L104: 0.55 | M104: 0.45 | N104: 0.76 | O104: 0.56 | P104: 0.5 | Q104: 0.36 | R104: 0.53 | S104: 0.33 | T104: 0.27 | U104: 0.28 | V104: 0.18 | W104: 0.35 | X104: 0.33 | Y104: 0.29 | Z104: 0.479 | AA104: 0.65 | AB104: 0.5 | AC104: 0.35 | AD104: 0.57 | AE104: 0.25
A105: 44712 | G105: 0.58 | H105: 0.65 | I105: 0.74 | J105: 0.44 | K105: 0.56 | L105: 0.55 | M105: 0.45 | N105: 0.76 | O105: 0.56 | P105: 0.5 | Q105: 0.36 | R105: 0.53 | S105: 0.33 | T105: 0.27 | U105: 0.28 | V105: 0.18 | W105: 0.35 | X105: 0.33 | Y105: 0.29 | Z105: 0.479 | AA105: 0.65 | AB105: 0.5 | AC105: 0.35 | AD105: 0.57 | AE105: 0.25
... A111: 44720 | G111: 0.58 | H111: 0.66 | I111: 0.56 | J111: 0.44 | K111: 0.55 | L111: 0.56 | M111: 0.45 | N111: 0.76 | O111: 0.56 | P111: 0.5 | Q111: 0.36 | R111: 0.53 | S111: 0.33 | T111: 0.27 | U111: 0.29 | V111: 0.18 | W111: 0.35 | X111: 0.34 | Y111: 0.29 | Z111: 0.479 | AA111: 0.65 | AB111: 0.5 | AC111: 0.35 | AD111: 0.6 | AE111: 0.25
A112: 44721 | H112: 0.66 | I112: 0.56 | J112: 0.44 | K112: 0.55 | L112: 0.56 | M112: 0.45 | N112: 0.76 | O112: 0.59 | P112: 0.65 | Q112: 0.38 | R112: 0.55 | S112: 0.37 | T112: 0.27 | U112: 0.29 | V112: 0.18 | W112: 0.35 | X112: 0.34 | Y112: 0.29 | Z112: 0.479 | AA112: 0.65 | AB112: 0.5 | AC112: 0.35 | AD112: 0.6 | AE112: 0.25
A113: 44722 | H113: 0.59 | I113: -0.1 | J113: 0.25 | K113: 0.5 | L113: 0.57 | M113: 0.45 | N113: 0.78 | O113: 0.63 | P113: 0.67 | Q113: 0.49 | R113: 0.56 | S113: 0.33 | T113: 0.34 | U113: 0.28 | V113: 0.13 | W113: 0.35 | X113: 0.34 | Y113: 0.33 | Z113: 0.63 | AA113: 0.6 | AB113: 0.5 | AC113: 0.35 | AD113: 0.6 | AE113: 0.25 | AF113: 0.315
A114: 44725 | H114: 0.59 | I114: -0.1 | J114: 0.25 | K114: 0.5 | L114: 0.57 | M114: 0.45 | N114: 0.78 | O114: 0.63 | P114: 0.67 | Q114: 0.49 | R114: 0.56 | S114: 0.33 | T114: 0.34 | U114: 0.28 | V114: 0.13 | W114: 0.35 | X114: 0.34 | Y114: 0.33 | Z114: 0.63 | AA114: 0.6 | AB114: 0.5 | AC114: 0.35 | AD114: 0.6 | AE114: 0.25 | AF114: 0.315
A115: 44726 | H115: 0.59 | I115: -0.1 | J115: 0.25 | K115: 0.5 | L115: 0.57 | M115: 0.45 | N115: 0.78 | O115: 0.63 | P115: 0.67 | Q115: 0.49 | R115: 0.56 | S115: 0.33 | T115: 0.34 | U115: 0.28 | V115: 0.13 | W115: 0.35 | X115: 0.34 | Y115: 0.33 | Z115: 0.63 | AA115: 0.6 | AB115: 0.5 | AC115: 0.35 | AD115: 0.6 | AE115: 0.25 | AF115: 0.315
A116: 44727 | H116: 0.59 | I116: -0.1 | J116: 0.25 | K116: 0.5 | L116: 0.57 | M116: 0.45 | N116: 0.78 | O116: 0.63 | P116: 0.67 | Q116: 0.49 | R116: 0.56 | S116: 0.33 | T116: 0.34 | U116: 0.28 | V116: 0.13 | W116: 0.35 | X116: 0.34 | Y116: 0.33 | Z116: 0.63 | AA116: 0.6 | AB116: 0.5 | AC116: 0.35 | AD116: 0.6 | AE116: 0.25 | AF116: 0.315
A117: 44729 | H117: 0.69 | I117: -0.35 | J117: -0.1 | K117: 0.55 | L117: 0.57 | M117: 0.5 | N117: 0.8 | O117: 0.63 | P117: 0.7 | Q117: 0.51 | R117: 0.56 | S117: 0.33 | T117: 0.34 | U117: 0.29 | V117: 0.13 | W117: 0.35 | X117: 0.34 | Y117: 0.33 | Z117: 0.63 | AA117: 0.555 | AB117: 0.48 | AC117: 0.31 | AD117: 0.37 | AE117: 0.25 | AF117: 0.19
A118: 44732 | H118: 0.69 | I118: -0.35 | J118: -0.1 | K118: 0.55 | L118: 0.57 | M118: 0.5 | N118: 0.8 | O118: 0.63 | P118: 0.7 | Q118: 0.51 | R118: 0.56 | S118: 0.33 | T118: 0.34 | U118: 0.29 | V118: 0.13 | W118: 0.35 | X118: 0.34 | Y118: 0.33 | Z118: 0.63 | AA118: 0.555 | AB118: 0.48 | AC118: 0.31 | AD118: 0.37 | AE118: 0.25 | AF118: 0.19
A119: 44733 | H119: 0.69 | I119: -0.35 | J119: -0.1 | K119: 0.55 | L119: 0.57 | M119: 0.5 | N119: 0.8 | O119: 0.63 | P119: 0.7 | Q119: 0.51 | R119: 0.56 | S119: 0.33 | T119: 0.34 | U119: 0.29 | V119: 0.13 | W119: 0.35 | X119: 0.34 | Y119: 0.33 | Z119: 0.63 | AA119: 0.555 | AB119: 0.48 | AC119: 0.31 | AD119: 0.37 | AE119: 0.25 | AF119: 0.19
A120: 44734 | H120: 0.69 | I120: -0.35 | J120: -0.1 | K120: 0.55 | L120: 0.57 | M120: 0.5 | N120: 0.8 | O120: 0.63 | P120: 0.7 | Q120: 0.51 | R120: 0.56 | S120: 0.33 | T120: 0.34 | U120: 0.29 | V120: 0.13 | W120: 0.35 | X120: 0.34 | Y120: 0.33 | Z120: 0.63 | AA120: 0.555 | AB120: 0.48 | AC120: 0.31 | AD120: 0.37 | AE120: 0.25 | AF120: 0.19
A121: 44735 | H121: 0.69 | I121: -0.35 | J121: -0.1 | K121: 0.55 | L121: 0.57 | M121: 0.5 | N121: 0.8 | O121: 0.63 | P121: 0.7 | Q121: 0.51 | R121: 0.56 | S121: 0.33 | T121: 0.34 | U121: 0.29 | V121: 0.13 | W121: 0.35 | X121: 0.34 | Y121: 0.33 | Z121: 0.63 | AA121: 0.555 | AB121: 0.48 | AC121: 0.31 | AD121: 0.37 | AE121: 0.25 | AF121: 0.19
A122: 44736 | H122: 0.72 | I122: -0.35 | J122: -0.1 | K122: 0.55 | L122: 0.57 | M122: 0.5 | N122: 0.8 | O122: 0.63 | P122: 0.71 | Q122: 0.51 | R122: 0.56 | S122: 0.33 | T122: 0.34 | U122: 0.3 | V122: 0.13 | W122: 0.35 | X122: 0.34 | Y122: 0.33 | Z122: 0.63 | AA122: 0.56 | AB122: 0.485 | AC122: 0.31 | AD122: 0.37 | AE122: 0.25 | AF122: 0.195
A123: 44739 | H123: 0.72 | I123: -0.35 | J123: -0.1 | K123: 0.55 | L123: 0.57 | M123: 0.5 | N123: 0.8 | O123: 0.63 | P123: 0.71 | Q123: 0.51 | R123: 0.56 | S123: 0.33 | T123: 0.34 | U123: 0.3 | V123: 0.13 | W123: 0.35 | X123: 0.34 | Y123: 0.33 | Z123: 0.63 | AA123: 0.56 | AB123: 0.485 | AC123: 0.31 | AD123: 0.37 | AE123: 0.25 | AF123: 0.195
A124: 44740 | H124: 0.72 | I124: -0.35 | J124: -0.1 | K124: 0.55 | L124: 0.57 | M124: 0.5 | N124: 0.8 | O124: 0.63 | P124: 0.71 | Q124: 0.51 | R124: 0.56 | S124: 0.33 | T124: 0.34 | U124: 0.3 | V124: 0.13 | W124: 0.35 | X124: 0.34 | Y124: 0.33 | Z124: 0.63 | AA124: 0.56 | AB124: 0.485 | AC124: 0.31 | AD124: 0.37 | AE124: 0.25 | AF124: 0.195
...

Sheet Análises Mês IPCA Proj x Real
A1: Data | B1: 45017 | C1: =MONTH(EDATE(B1,0))&YEAR(EDATE(B1,0))&"F" -> 42023F
A2: 44564 | B2: =IF(VLOOKUP(A2,'Mediana Mensal IPCA TOP 5 LP'!$A$2:$XFC$10000,MATCH(B$1,'Mediana Mensal IPCA TOP 5 LP'!$A$2:$XDF$2,0),FALSE)=0,NA(),VLOOKUP(A2,'Mediana Mensal IPCA TOP 5 LP'!$A$2:$XFC$10000,MATCH(B$1,'Mediana Mensal IPCA TOP 5 LP'!$A$2:$XDF$2,0),FALSE)) -> 0.3 | C2: =IF(VLOOKUP(A2,'Mediana Mensal IPCA TOP 5 LP'!$A$2:$XFC$10000,MATCH(B$1,'Mediana Mensal IPCA TOP 5 LP'!$A$2:$XDF$2,0),FALSE)=0,NA(),VLOOKUP($C$1,'VNA IPCA'!A:G,5,FALSE)) -> #N/A
A3: 44565 | B3: =IF(VLOOKUP(A3,'Mediana Mensal IPCA TOP 5 LP'!$A$2:$XFC$10000,MATCH(B$1,'Mediana Mensal IPCA TOP 5 LP'!$A$2:$XDF$2,0),FALSE)=0,NA(),VLOOKUP(A3,'Mediana Mensal IPCA TOP 5 LP'!$A$2:$XFC$10000,MATCH(B$1,'Mediana Mensal IPCA TOP 5 LP'!$A$2:$XDF$2,0),FALSE)) -> 0.3 | C3: =IF(VLOOKUP(A3,'Mediana Mensal IPCA TOP 5 LP'!$A$2:$XFC$10000,MATCH(B$1,'Mediana Mensal IPCA TOP 5 LP'!$A$2:$XDF$2,0),FALSE)=0,NA(),VLOOKUP($C$1,'VNA IPCA'!A:G,5,FALSE)) -> #N/A
A4: 44566 | B4: =IF(VLOOKUP(A4,'Mediana Mensal IPCA TOP 5 LP'!$A$2:$XFC$10000,MATCH(B$1,'Mediana Mensal IPCA TOP 5 LP'!$A$2:$XDF$2,0),FALSE)=0,NA(),VLOOKUP(A4,'Mediana Mensal IPCA TOP 5 LP'!$A$2:$XFC$10000,MATCH(B$1,'Mediana Mensal IPCA TOP 5 LP'!$A$2:$XDF$2,0),FALSE)) -> 0.3 | C4: =IF(VLOOKUP(A4,'Mediana Mensal IPCA TOP 5 LP'!$A$2:$XFC$10000,MATCH(B$1,'Mediana Mensal IPCA TOP 5 LP'!$A$2:$XDF$2,0),FALSE)=0,NA(),VLOOKUP($C$1,'VNA IPCA'!A:G,5,FALSE)) -> #N/A
A5: 44567 | B5: =IF(VLOOKUP(A5,'Mediana Mensal IPCA TOP 5 LP'!$A$2:$XFC$10000,MATCH(B$1,'Mediana Mensal IPCA TOP 5 LP'!$A$2:$XDF$2,0),FALSE)=0,NA(),VLOOKUP(A5,'Mediana Mensal IPCA TOP 5 LP'!$A$2:$XFC$10000,MATCH(B$1,'Mediana Mensal IPCA TOP 5 LP'!$A$2:$XDF$2,0),FALSE)) -> 0.3 | C5: =IF(VLOOKUP(A5,'Mediana Mensal IPCA TOP 5 LP'!$A$2:$XFC$10000,MATCH(B$1,'Mediana Mensal IPCA TOP 5 LP'!$A$2:$XDF$2,0),FALSE)=0,NA(),VLOOKUP($C$1,'VNA IPCA'!A:G,5,FALSE)) -> #N/A
A6: 44568 | B6: =IF(VLOOKUP(A6,'Mediana Mensal IPCA TOP 5 LP'!$A$2:$XFC$10000,MATCH(B$1,'Mediana Mensal IPCA TOP 5 LP'!$A$2:$XDF$2,0),FALSE)=0,NA(),VLOOKUP(A6,'Mediana Mensal IPCA TOP 5 LP'!$A$2:$XFC$10000,MATCH(B$1,'Mediana Mensal IPCA TOP 5 LP'!$A$2:$XDF$2,0),FALSE)) -> 0.3 | C6: =IF(VLOOKUP(A6,'Mediana Mensal IPCA TOP 5 LP'!$A$2:$XFC$10000,MATCH(B$1,'Mediana Mensal IPCA TOP 5 LP'!$A$2:$XDF$2,0),FALSE)=0,NA(),VLOOKUP($C$1,'VNA IPCA'!A:G,5,FALSE)) -> #N/A
A7: 44571 | B7: =IF(VLOOKUP(A7,'Mediana Mensal IPCA TOP 5 LP'!$A$2:$XFC$10000,MATCH(B$1,'Mediana Mensal IPCA TOP 5 LP'!$A$2:$XDF$2,0),FALSE)=0,NA(),VLOOKUP(A7,'Mediana Mensal IPCA TOP 5 LP'!$A$2:$XFC$10000,MATCH(B$1,'Mediana Mensal IPCA TOP 5 LP'!$A$2:$XDF$2,0),FALSE)) -> 0.3 | C7: =IF(VLOOKUP(A7,'Mediana Mensal IPCA TOP 5 LP'!$A$2:$XFC$10000,MATCH(B$1,'Mediana Mensal IPCA TOP 5 LP'!$A$2:$XDF$2,0),FALSE)=0,NA(),VLOOKUP($C$1,'VNA IPCA'!A:G,5,FALSE)) -> #N/A
A8: 44572 | B8: =IF(VLOOKUP(A8,'Mediana Mensal IPCA TOP 5 LP'!$A$2:$XFC$10000,MATCH(B$1,'Mediana Mensal IPCA TOP 5 LP'!$A$2:$XDF$2,0),FALSE)=0,NA(),VLOOKUP(A8,'Mediana Mensal IPCA TOP 5 LP'!$A$2:$XFC$10000,MATCH(B$1,'Mediana Mensal IPCA TOP 5 LP'!$A$2:$XDF$2,0),FALSE)) -> 0.3 | C8: =IF(VLOOKUP(A8,'Mediana Mensal IPCA TOP 5 LP'!$A$2:$XFC$10000,MATCH(B$1,'Mediana Mensal IPCA TOP 5 LP'!$A$2:$XDF$2,0),FALSE)=0,NA(),VLOOKUP($C$1,'VNA IPCA'!A:G,5,FALSE)) -> #N/A
A9: 44573 | B9: =IF(VLOOKUP(A9,'Mediana Mensal IPCA TOP 5 LP'!$A$2:$XFC$10000,MATCH(B$1,'Mediana Mensal IPCA TOP 5 LP'!$A$2:$XDF$2,0),FALSE)=0,NA(),VLOOKUP(A9,'Mediana Mensal IPCA TOP 5 LP'!$A$2:$XFC$10000,MATCH(B$1,'Mediana Mensal IPCA TOP 5 LP'!$A$2:$XDF$2,0),FALSE)) -> 0.3 | C9: =IF(VLOOKUP(A9,'Mediana Mensal IPCA TOP 5 LP'!$A$2:$XFC$10000,MATCH(B$1,'Mediana Mensal IPCA TOP 5 LP'!$A$2:$XDF$2,0),FALSE)=0,NA(),VLOOKUP($C$1,'VNA IPCA'!A:G,5,FALSE)) -> #N/A
A10: 44574 | B10: =IF(VLOOKUP(A10,'Mediana Mensal IPCA TOP 5 LP'!$A$2:$XFC$10000,MATCH(B$1,'Mediana Mensal IPCA TOP 5 LP'!$A$2:$XDF$2,0),FALSE)=0,NA(),VLOOKUP(A10,'Mediana Mensal IPCA TOP 5 LP'!$A$2:$XFC$10000,MATCH(B$1,'Mediana Mensal IPCA TOP 5 LP'!$A$2:$XDF$2,0),FALSE)) -> 0.2545 | C10: =IF(VLOOKUP(A10,'Mediana Mensal IPCA TOP 5 LP'!$A$2:$XFC$10000,MATCH(B$1,'Mediana Mensal IPCA TOP 5 LP'!$A$2:$XDF$2,0),FALSE)=0,NA(),VLOOKUP($C$1,'VNA IPCA'!A:G,5,FALSE)) -> #N/A
A11: 44575 | B11: =IF(VLOOKUP(A11,'Mediana Mensal IPCA TOP 5 LP'!$A$2:$XFC$10000,MATCH(B$1,'Mediana Mensal IPCA TOP 5 LP'!$A$2:$XDF$2,0),FALSE)=0,NA(),VLOOKUP(A11,'Mediana Mensal IPCA TOP 5 LP'!$A$2:$XFC$10000,MATCH(B$1,'Mediana Mensal IPCA TOP 5 LP'!$A$2:$XDF$2,0),FALSE)) -> 0.2545 | C11: =IF(VLOOKUP(A11,'Mediana Mensal IPCA TOP 5 LP'!$A$2:$XFC$10000,MATCH(B$1,'Mediana Mensal IPCA TOP 5 LP'!$A$2:$XDF$2,0),FALSE)=0,NA(),VLOOKUP($C$1,'VNA IPCA'!A:G,5,FALSE)) -> #N/A
A12: 44578 | B12: =IF(VLOOKUP(A12,'Mediana Mensal IPCA TOP 5 LP'!$A$2:$XFC$10000,MATCH(B$1,'Mediana Mensal IPCA TOP 5 LP'!$A$2:$XDF$2,0),FALSE)=0,NA(),VLOOKUP(A12,'Mediana Mensal IPCA TOP 5 LP'!$A$2:$XFC$10000,MATCH(B$1,'Mediana Mensal IPCA TOP 5 LP'!$A$2:$XDF$2,0),FALSE)) -> 0.2545 | C12: =IF(VLOOKUP(A12,'Mediana Mensal IPCA TOP 5 LP'!$A$2:$XFC$10000,MATCH(B$1,'Mediana Mensal IPCA TOP 5 LP'!$A$2:$XDF$2,0),FALSE)=0,NA(),VLOOKUP($C$1,'VNA IPCA'!A:G,5,FALSE)) -> #N/A
A13: 44579 | B13: =IF(VLOOKUP(A13,'Mediana Mensal IPCA TOP 5 LP'!$A$2:$XFC$10000,MATCH(B$1,'Mediana Mensal IPCA TOP 5 LP'!$A$2:$XDF$2,0),FALSE)=0,NA(),VLOOKUP(A13,'Mediana Mensal IPCA TOP 5 LP'!$A$2:$XFC$10000,MATCH(B$1,'Mediana Mensal IPCA TOP 5 LP'!$A$2:$XDF$2,0),FALSE)) -> 0.26 | C13: =IF(VLOOKUP(A13,'Mediana Mensal IPCA TOP 5 LP'!$A$2:$XFC$10000,MATCH(B$1,'Mediana Mensal IPCA TOP 5 LP'!$A$2:$XDF$2,0),FALSE)=0,NA(),VLOOKUP($C$1,'VNA IPCA'!A:G,5,FALSE)) -> #N/A
... A337: 45051 | B337: =IF(VLOOKUP(A337,'Mediana Mensal IPCA TOP 5 LP'!$A$2:$XFC$10000,MATCH(B$1,'Mediana Mensal IPCA TOP 5 LP'!$A$2:$XDF$2,0),FALSE)=0,NA(),VLOOKUP(A337,'Mediana Mensal IPCA TOP 5 LP'!$A$2:$XFC$10000,MATCH(B$1,'Mediana Mensal IPCA TOP 5 LP'!$A$2:$XDF$2,0),FALSE)) -> 0.57 | C337: =IF(VLOOKUP(A337,'Mediana Mensal IPCA TOP 5 LP'!$A$2:$XFC$10000,MATCH(B$1,'Mediana Mensal IPCA TOP 5 LP'!$A$2:$XDF$2,0),FALSE)=0,NA(),VLOOKUP($C$1,'VNA IPCA'!A:G,5,FALSE)) -> #N/A

Sheet Análises Mês IPCA
A1: Data | B1: 45017 | C1: 45047 | D1: 45078 | E1: 45108 | F1: 45139
A2: 44564 | B2: =IF(VLOOKUP(A2,'Mediana Mensal IPCA TOP 5 LP'!$A$2:$XFC$10000,MATCH(B$1,'Mediana Mensal IPCA TOP 5 LP'!$A$2:$XDF$2,0),FALSE)=0,NA(),VLOOKUP(A2,'Mediana Mensal IPCA TOP 5 LP'!$A$2:$XFC$10000,MATCH(B$1,'Mediana Mensal IPCA TOP 5 LP'!$A$2:$XDF$2,0),FALSE)) -> 0.3 | C2: =IF(VLOOKUP(A2,'Mediana Mensal IPCA TOP 5 LP'!$A$2:$XFC$10000,MATCH(C$1,'Mediana Mensal IPCA TOP 5 LP'!$A$2:$XDF$2,0),FALSE)=0,NA(),VLOOKUP(A2,'Mediana Mensal IPCA TOP 5 LP'!$A$2:$XFC$10000,MATCH(C$1,'Mediana Mensal IPCA TOP 5 LP'!$A$2:$XDF$2,0),FALSE)) -> 0.22 | D2: =IF(VLOOKUP(A2,'Mediana Mensal IPCA TOP 5 LP'!$A$2:$XFC$10000,MATCH(D$1,'Mediana Mensal IPCA TOP 5 LP'!$A$2:$XDF$2,0),FALSE)=0,NA(),VLOOKUP(A2,'Mediana Mensal IPCA TOP 5 LP'!$A$2:$XFC$10000,MATCH(D$1,'Mediana Mensal IPCA TOP 5 LP'!$A$2:$XDF$2,0),FALSE)) -> 0.26 | E2: =IF(VLOOKUP(A2,'Mediana Mensal IPCA TOP 5 LP'!$A$2:$XFC$10000,MATCH(E$1,'Mediana Mensal IPCA TOP 5 LP'!$A$2:$XDF$2,0),FALSE)=0,NA(),VLOOKUP(A2,'Mediana Mensal IPCA TOP 5 LP'!$A$2:$XFC$10000,MATCH(E$1,'Mediana Mensal IPCA TOP 5 LP'!$A$2:$XDF$2,0),FALSE)) -> 0.21 | F2: =IF(VLOOKUP(A2,'Mediana Mensal IPCA TOP 5 LP'!$A$2:$XFC$10000,MATCH(F$1,'Mediana Mensal IPCA TOP 5 LP'!$A$2:$XDF$2,0),FALSE)=0,NA(),VLOOKUP(A2,'Mediana Mensal IPCA TOP 5 LP'!$A$2:$XFC$10000,MATCH(F$1,'Mediana Mensal IPCA TOP 5 LP'!$A$2:$XDF$2,0),FALSE)) -> 0.27
A3: 44565 | B3: =IF(VLOOKUP(A3,'Mediana Mensal IPCA TOP 5 LP'!$A$2:$XFC$10000,MATCH(B$1,'Mediana Mensal IPCA TOP 5 LP'!$A$2:$XDF$2,0),FALSE)=0,NA(),VLOOKUP(A3,'Mediana Mensal IPCA TOP 5 LP'!$A$2:$XFC$10000,MATCH(B$1,'Mediana Mensal IPCA TOP 5 LP'!$A$2:$XDF$2,0),FALSE)) -> 0.3 | C3: =IF(VLOOKUP(A3,'Mediana Mensal IPCA TOP 5 LP'!$A$2:$XFC$10000,MATCH(C$1,'Mediana Mensal IPCA TOP 5 LP'!$A$2:$XDF$2,0),FALSE)=0,NA(),VLOOKUP(A3,'Mediana Mensal IPCA TOP 5 LP'!$A$2:$XFC$10000,MATCH(C$1,'Mediana Mensal IPCA TOP 5 LP'!$A$2:$XDF$2,0),FALSE)) -> 0.22 | D3: =IF(VLOOKUP(A3,'Mediana Mensal IPCA TOP 5 LP'!$A$2:$XFC$10000,MATCH(D$1,'Mediana Mensal IPCA TOP 5 LP'!$A$2:$XDF$2,0),FALSE)=0,NA(),VLOOKUP(A3,'Mediana Mensal IPCA TOP 5 LP'!$A$2:$XFC$10000,MATCH(D$1,'Mediana Mensal IPCA TOP 5 LP'!$A$2:$XDF$2,0),FALSE)) -> 0.26 | E3: =IF(VLOOKUP(A3,'Mediana Mensal IPCA TOP 5 LP'!$A$2:$XFC$10000,MATCH(E$1,'Mediana Mensal IPCA TOP 5 LP'!$A$2:$XDF$2,0),FALSE)=0,NA(),VLOOKUP(A3,'Mediana Mensal IPCA TOP 5 LP'!$A$2:$XFC$10000,MATCH(E$1,'Mediana Mensal IPCA TOP 5 LP'!$A$2:$XDF$2,0),FALSE)) -> 0.21 | F3: =IF(VLOOKUP(A3,'Mediana Mensal IPCA TOP 5 LP'!$A$2:$XFC$10000,MATCH(F$1,'Mediana Mensal IPCA TOP 5 LP'!$A$2:$XDF$2,0),FALSE)=0,NA(),VLOOKUP(A3,'Mediana Mensal IPCA TOP 5 LP'!$A$2:$XFC$10000,MATCH(F$1,'Mediana Mensal IPCA TOP 5 LP'!$A$2:$XDF$2,0),FALSE)) -> 0.27
A4: 44566 | B4: =IF(VLOOKUP(A4,'Mediana Mensal IPCA TOP 5 LP'!$A$2:$XFC$10000,MATCH(B$1,'Mediana Mensal IPCA TOP 5 LP'!$A$2:$XDF$2,0),FALSE)=0,NA(),VLOOKUP(A4,'Mediana Mensal IPCA TOP 5 LP'!$A$2:$XFC$10000,MATCH(B$1,'Mediana Mensal IPCA TOP 5 LP'!$A$2:$XDF$2,0),FALSE)) -> 0.3 | C4: =IF(VLOOKUP(A4,'Mediana Mensal IPCA TOP 5 LP'!$A$2:$XFC$10000,MATCH(C$1,'Mediana Mensal IPCA TOP 5 LP'!$A$2:$XDF$2,0),FALSE)=0,NA(),VLOOKUP(A4,'Mediana Mensal IPCA TOP 5 LP'!$A$2:$XFC$10000,MATCH(C$1,'Mediana Mensal IPCA TOP 5 LP'!$A$2:$XDF$2,0),FALSE)) -> 0.22 | D4: =IF(VLOOKUP(A4,'Mediana Mensal IPCA TOP 5 LP'!$A$2:$XFC$10000,MATCH(D$1,'Mediana Mensal IPCA TOP 5 LP'!$A$2:$XDF$2,0),FALSE)=0,NA(),VLOOKUP(A4,'Mediana Mensal IPCA TOP 5 LP'!$A$2:$XFC$10000,MATCH(D$1,'Mediana Mensal IPCA TOP 5 LP'!$A$2:$XDF$2,0),FALSE)) -> 0.26 | E4: =IF(VLOOKUP(A4,'Mediana Mensal IPCA TOP 5 LP'!$A$2:$XFC$10000,MATCH(E$1,'Mediana Mensal IPCA TOP 5 LP'!$A$2:$XDF$2,0),FALSE)=0,NA(),VLOOKUP(A4,'Mediana Mensal IPCA TOP 5 LP'!$A$2:$XFC$10000,MATCH(E$1,'Mediana Mensal IPCA TOP 5 LP'!$A$2:$XDF$2,0),FALSE)) -> 0.21 | F4: =IF(VLOOKUP(A4,'Mediana Mensal IPCA TOP 5 LP'!$A$2:$XFC$10000,MATCH(F$1,'Mediana Mensal IPCA TOP 5 LP'!$A$2:$XDF$2,0),FALSE)=0,NA(),VLOOKUP(A4,'Mediana Mensal IPCA TOP 5 LP'!$A$2:$XFC$10000,MATCH(F$1,'Mediana Mensal IPCA TOP 5 LP'!$A$2:$XDF$2,0),FALSE)) -> 0.27
A5: 44567 | B5: =IF(VLOOKUP(A5,'Mediana Mensal IPCA TOP 5 LP'!$A$2:$XFC$10000,MATCH(B$1,'Mediana Mensal IPCA TOP 5 LP'!$A$2:$XDF$2,0),FALSE)=0,NA(),VLOOKUP(A5,'Mediana Mensal IPCA TOP 5 LP'!$A$2:$XFC$10000,MATCH(B$1,'Mediana Mensal IPCA TOP 5 LP'!$A$2:$XDF$2,0),FALSE)) -> 0.3 | C5: =IF(VLOOKUP(A5,'Mediana Mensal IPCA TOP 5 LP'!$A$2:$XFC$10000,MATCH(C$1,'Mediana Mensal IPCA TOP 5 LP'!$A$2:$XDF$2,0),FALSE)=0,NA(),VLOOKUP(A5,'Mediana Mensal IPCA TOP 5 LP'!$A$2:$XFC$10000,MATCH(C$1,'Mediana Mensal IPCA TOP 5 LP'!$A$2:$XDF$2,0),FALSE)) -> 0.22 | D5: =IF(VLOOKUP(A5,'Mediana Mensal IPCA TOP 5 LP'!$A$2:$XFC$10000,MATCH(D$1,'Mediana Mensal IPCA TOP 5 LP'!$A$2:$XDF$2,0),FALSE)=0,NA(),VLOOKUP(A5,'Mediana Mensal IPCA TOP 5 LP'!$A$2:$XFC$10000,MATCH(D$1,'Mediana Mensal IPCA TOP 5 LP'!$A$2:$XDF$2,0),FALSE)) -> 0.26 | E5: =IF(VLOOKUP(A5,'Mediana Mensal IPCA TOP 5 LP'!$A$2:$XFC$10000,MATCH(E$1,'Mediana Mensal IPCA TOP 5 LP'!$A$2:$XDF$2,0),FALSE)=0,NA(),VLOOKUP(A5,'Mediana Mensal IPCA TOP 5 LP'!$A$2:$XFC$10000,MATCH(E$1,'Mediana Mensal IPCA TOP 5 LP'!$A$2:$XDF$2,0),FALSE)) -> 0.21 | F5: =IF(VLOOKUP(A5,'Mediana Mensal IPCA TOP 5 LP'!$A$2:$XFC$10000,MATCH(F$1,'Mediana Mensal IPCA TOP 5 LP'!$A$2:$XDF$2,0),FALSE)=0,NA(),VLOOKUP(A5,'Mediana Mensal IPCA TOP 5 LP'!$A$2:$XFC$10000,MATCH(F$1,'Mediana Mensal IPCA TOP 5 LP'!$A$2:$XDF$2,0),FALSE)) -> 0.27
A6: 44568 | B6: =IF(VLOOKUP(A6,'Mediana Mensal IPCA TOP 5 LP'!$A$2:$XFC$10000,MATCH(B$1,'Mediana Mensal IPCA TOP 5 LP'!$A$2:$XDF$2,0),FALSE)=0,NA(),VLOOKUP(A6,'Mediana Mensal IPCA TOP 5 LP'!$A$2:$XFC$10000,MATCH(B$1,'Mediana Mensal IPCA TOP 5 LP'!$A$2:$XDF$2,0),FALSE)) -> 0.3 | C6: =IF(VLOOKUP(A6,'Mediana Mensal IPCA TOP 5 LP'!$A$2:$XFC$10000,MATCH(C$1,'Mediana Mensal IPCA TOP 5 LP'!$A$2:$XDF$2,0),FALSE)=0,NA(),VLOOKUP(A6,'Mediana Mensal IPCA TOP 5 LP'!$A$2:$XFC$10000,MATCH(C$1,'Mediana Mensal IPCA TOP 5 LP'!$A$2:$XDF$2,0),FALSE)) -> 0.22 | D6: =IF(VLOOKUP(A6,'Mediana Mensal IPCA TOP 5 LP'!$A$2:$XFC$10000,MATCH(D$1,'Mediana Mensal IPCA TOP 5 LP'!$A$2:$XDF$2,0),FALSE)=0,NA(),VLOOKUP(A6,'Mediana Mensal IPCA TOP 5 LP'!$A$2:$XFC$10000,MATCH(D$1,'Mediana Mensal IPCA TOP 5 LP'!$A$2:$XDF$2,0),FALSE)) -> 0.26 | E6: =IF(VLOOKUP(A6,'Mediana Mensal IPCA TOP 5 LP'!$A$2:$XFC$10000,MATCH(E$1,'Mediana Mensal IPCA TOP 5 LP'!$A$2:$XDF$2,0),FALSE)=0,NA(),VLOOKUP(A6,'Mediana Mensal IPCA TOP 5 LP'!$A$2:$XFC$10000,MATCH(E$1,'Mediana Mensal IPCA TOP 5 LP'!$A$2:$XDF$2,0),FALSE)) -> 0.21 | F6: =IF(VLOOKUP(A6,'Mediana Mensal IPCA TOP 5 LP'!$A$2:$XFC$10000,MATCH(F$1,'Mediana Mensal IPCA TOP 5 LP'!$A$2:$XDF$2,0),FALSE)=0,NA(),VLOOKUP(A6,'Mediana Mensal IPCA TOP 5 LP'!$A$2:$XFC$10000,MATCH(F$1,'Mediana Mensal IPCA TOP 5 LP'!$A$2:$XDF$2,0),FALSE)) -> 0.27
A7: 44571 | B7: =IF(VLOOKUP(A7,'Mediana Mensal IPCA TOP 5 LP'!$A$2:$XFC$10000,MATCH(B$1,'Mediana Mensal IPCA TOP 5 LP'!$A$2:$XDF$2,0),FALSE)=0,NA(),VLOOKUP(A7,'Mediana Mensal IPCA TOP 5 LP'!$A$2:$XFC$10000,MATCH(B$1,'Mediana Mensal IPCA TOP 5 LP'!$A$2:$XDF$2,0),FALSE)) -> 0.3 | C7: =IF(VLOOKUP(A7,'Mediana Mensal IPCA TOP 5 LP'!$A$2:$XFC$10000,MATCH(C$1,'Mediana Mensal IPCA TOP 5 LP'!$A$2:$XDF$2,0),FALSE)=0,NA(),VLOOKUP(A7,'Mediana Mensal IPCA TOP 5 LP'!$A$2:$XFC$10000,MATCH(C$1,'Mediana Mensal IPCA TOP 5 LP'!$A$2:$XDF$2,0),FALSE)) -> 0.22 | D7: =IF(VLOOKUP(A7,'Mediana Mensal IPCA TOP 5 LP'!$A$2:$XFC$10000,MATCH(D$1,'Mediana Mensal IPCA TOP 5 LP'!$A$2:$XDF$2,0),FALSE)=0,NA(),VLOOKUP(A7,'Mediana Mensal IPCA TOP 5 LP'!$A$2:$XFC$10000,MATCH(D$1,'Mediana Mensal IPCA TOP 5 LP'!$A$2:$XDF$2,0),FALSE)) -> 0.26 | E7: =IF(VLOOKUP(A7,'Mediana Mensal IPCA TOP 5 LP'!$A$2:$XFC$10000,MATCH(E$1,'Mediana Mensal IPCA TOP 5 LP'!$A$2:$XDF$2,0),FALSE)=0,NA(),VLOOKUP(A7,'Mediana Mensal IPCA TOP 5 LP'!$A$2:$XFC$10000,MATCH(E$1,'Mediana Mensal IPCA TOP 5 LP'!$A$2:$XDF$2,0),FALSE)) -> 0.21 | F7: =IF(VLOOKUP(A7,'Mediana Mensal IPCA TOP 5 LP'!$A$2:$XFC$10000,MATCH(F$1,'Mediana Mensal IPCA TOP 5 LP'!$A$2:$XDF$2,0),FALSE)=0,NA(),VLOOKUP(A7,'Mediana Mensal IPCA TOP 5 LP'!$A$2:$XFC$10000,MATCH(F$1,'Mediana Mensal IPCA TOP 5 LP'!$A$2:$XDF$2,0),FALSE)) -> 0.27
A8: 44572 | B8: =IF(VLOOKUP(A8,'Mediana Mensal IPCA TOP 5 LP'!$A$2:$XFC$10000,MATCH(B$1,'Mediana Mensal IPCA TOP 5 LP'!$A$2:$XDF$2,0),FALSE)=0,NA(),VLOOKUP(A8,'Mediana Mensal IPCA TOP 5 LP'!$A$2:$XFC$10000,MATCH(B$1,'Mediana Mensal IPCA TOP 5 LP'!$A$2:$XDF$2,0),FALSE)) -> 0.3 | C8: =IF(VLOOKUP(A8,'Mediana Mensal IPCA TOP 5 LP'!$A$2:$XFC$10000,MATCH(C$1,'Mediana Mensal IPCA TOP 5 LP'!$A$2:$XDF$2,0),FALSE)=0,NA(),VLOOKUP(A8,'Mediana Mensal IPCA TOP 5 LP'!$A$2:$XFC$10000,MATCH(C$1,'Mediana Mensal IPCA TOP 5 LP'!$A$2:$XDF$2,0),FALSE)) -> 0.22 | D8: =IF(VLOOKUP(A8,'Mediana Mensal IPCA TOP 5 LP'!$A$2:$XFC$10000,MATCH(D$1,'Mediana Mensal IPCA TOP 5 LP'!$A$2:$XDF$2,0),FALSE)=0,NA(),VLOOKUP(A8,'Mediana Mensal IPCA TOP 5 LP'!$A$2:$XFC$10000,MATCH(D$1,'Mediana Mensal IPCA TOP 5 LP'!$A$2:$XDF$2,0),FALSE)) -> 0.26 | E8: =IF(VLOOKUP(A8,'Mediana Mensal IPCA TOP 5 LP'!$A$2:$XFC$10000,MATCH(E$1,'Mediana Mensal IPCA TOP 5 LP'!$A$2:$XDF$2,0),FALSE)=0,NA(),VLOOKUP(A8,'Mediana Mensal IPCA TOP 5 LP'!$A$2:$XFC$10000,MATCH(E$1,'Mediana Mensal IPCA TOP 5 LP'!$A$2:$XDF$2,0),FALSE)) -> 0.21 | F8: =IF(VLOOKUP(A8,'Mediana Mensal IPCA TOP 5 LP'!$A$2:$XFC$10000,MATCH(F$1,'Mediana Mensal IPCA TOP 5 LP'!$A$2:$XDF$2,0),FALSE)=0,NA(),VLOOKUP(A8,'Mediana Mensal IPCA TOP 5 LP'!$A$2:$XFC$10000,MATCH(F$1,'Mediana Mensal IPCA TOP 5 LP'!$A$2:$XDF$2,0),FALSE)) -> 0.27
A9: 44573 | B9: =IF(VLOOKUP(A9,'Mediana Mensal IPCA TOP 5 LP'!$A$2:$XFC$10000,MATCH(B$1,'Mediana Mensal IPCA TOP 5 LP'!$A$2:$XDF$2,0),FALSE)=0,NA(),VLOOKUP(A9,'Mediana Mensal IPCA TOP 5 LP'!$A$2:$XFC$10000,MATCH(B$1,'Mediana Mensal IPCA TOP 5 LP'!$A$2:$XDF$2,0),FALSE)) -> 0.3 | C9: =IF(VLOOKUP(A9,'Mediana Mensal IPCA TOP 5 LP'!$A$2:$XFC$10000,MATCH(C$1,'Mediana Mensal IPCA TOP 5 LP'!$A$2:$XDF$2,0),FALSE)=0,NA(),VLOOKUP(A9,'Mediana Mensal IPCA TOP 5 LP'!$A$2:$XFC$10000,MATCH(C$1,'Mediana Mensal IPCA TOP 5 LP'!$A$2:$XDF$2,0),FALSE)) -> 0.22 | D9: =IF(VLOOKUP(A9,'Mediana Mensal IPCA TOP 5 LP'!$A$2:$XFC$10000,MATCH(D$1,'Mediana Mensal IPCA TOP 5 LP'!$A$2:$XDF$2,0),FALSE)=0,NA(),VLOOKUP(A9,'Mediana Mensal IPCA TOP 5 LP'!$A$2:$XFC$10000,MATCH(D$1,'Mediana Mensal IPCA TOP 5 LP'!$A$2:$XDF$2,0),FALSE)) -> 0.26 | E9: =IF(VLOOKUP(A9,'Mediana Mensal IPCA TOP 5 LP'!$A$2:$XFC$10000,MATCH(E$1,'Mediana Mensal IPCA TOP 5 LP'!$A$2:$XDF$2,0),FALSE)=0,NA(),VLOOKUP(A9,'Mediana Mensal IPCA TOP 5 LP'!$A$2:$XFC$10000,MATCH(E$1,'Mediana Mensal IPCA TOP 5 LP'!$A$2:$XDF$2,0),FALSE)) -> 0.21 | F9: =IF(VLOOKUP(A9,'Mediana Mensal IPCA TOP 5 LP'!$A$2:$XFC$10000,MATCH(F$1,'Mediana Mensal IPCA TOP 5 LP'!$A$2:$XDF$2,0),FALSE)=0,NA(),VLOOKUP(A9,'Mediana Mensal IPCA TOP 5 LP'!$A$2:$XFC$10000,MATCH(F$1,'Mediana Mensal IPCA TOP 5 LP'!$A$2:$XDF$2,0),FALSE)) -> 0.27
A10: 44574 | B10: =IF(VLOOKUP(A10,'Mediana Mensal IPCA TOP 5 LP'!$A$2:$XFC$10000,MATCH(B$1,'Mediana Mensal IPCA TOP 5 LP'!$A$2:$XDF$2,0),FALSE)=0,NA(),VLOOKUP(A10,'Mediana Mensal IPCA TOP 5 LP'!$A$2:$XFC$10000,MATCH(B$1,'Mediana Mensal IPCA TOP 5 LP'!$A$2:$XDF$2,0),FALSE)) -> 0.2545 | C10: =IF(VLOOKUP(A10,'Mediana Mensal IPCA TOP 5 LP'!$A$2:$XFC$10000,MATCH(C$1,'Mediana Mensal IPCA TOP 5 LP'!$A$2:$XDF$2,0),FALSE)=0,NA(),VLOOKUP(A10,'Mediana Mensal IPCA TOP 5 LP'!$A$2:$XFC$10000,MATCH(C$1,'Mediana Mensal IPCA TOP 5 LP'!$A$2:$XDF$2,0),FALSE)) -> 0.253 | D10: =IF(VLOOKUP(A10,'Mediana Mensal IPCA TOP 5 LP'!$A$2:$XFC$10000,MATCH(D$1,'Mediana Mensal IPCA TOP 5 LP'!$A$2:$XDF$2,0),FALSE)=0,NA(),VLOOKUP(A10,'Mediana Mensal IPCA TOP 5 LP'!$A$2:$XFC$10000,MATCH(D$1,'Mediana Mensal IPCA TOP 5 LP'!$A$2:$XDF$2,0),FALSE)) -> 0.2234 | E10: =IF(VLOOKUP(A10,'Mediana Mensal IPCA TOP 5 LP'!$A$2:$XFC$10000,MATCH(E$1,'Mediana Mensal IPCA TOP 5 LP'!$A$2:$XDF$2,0),FALSE)=0,NA(),VLOOKUP(A10,'Mediana Mensal IPCA TOP 5 LP'!$A$2:$XFC$10000,MATCH(E$1,'Mediana Mensal IPCA TOP 5 LP'!$A$2:$XDF$2,0),FALSE)) -> 0.1961 | F10: =IF(VLOOKUP(A10,'Mediana Mensal IPCA TOP 5 LP'!$A$2:$XFC$10000,MATCH(F$1,'Mediana Mensal IPCA TOP 5 LP'!$A$2:$XDF$2,0),FALSE)=0,NA(),VLOOKUP(A10,'Mediana Mensal IPCA TOP 5 LP'!$A$2:$XFC$10000,MATCH(F$1,'Mediana Mensal IPCA TOP 5 LP'!$A$2:$XDF$2,0),FALSE)) -> 0.2138
A11: 44575 | B11: =IF(VLOOKUP(A11,'Mediana Mensal IPCA TOP 5 LP'!$A$2:$XFC$10000,MATCH(B$1,'Mediana Mensal IPCA TOP 5 LP'!$A$2:$XDF$2,0),FALSE)=0,NA(),VLOOKUP(A11,'Mediana Mensal IPCA TOP 5 LP'!$A$2:$XFC$10000,MATCH(B$1,'Mediana Mensal IPCA TOP 5 LP'!$A$2:$XDF$2,0),FALSE)) -> 0.2545 | C11: =IF(VLOOKUP(A11,'Mediana Mensal IPCA TOP 5 LP'!$A$2:$XFC$10000,MATCH(C$1,'Mediana Mensal IPCA TOP 5 LP'!$A$2:$XDF$2,0),FALSE)=0,NA(),VLOOKUP(A11,'Mediana Mensal IPCA TOP 5 LP'!$A$2:$XFC$10000,MATCH(C$1,'Mediana Mensal IPCA TOP 5 LP'!$A$2:$XDF$2,0),FALSE)) -> 0.253 | D11: =IF(VLOOKUP(A11,'Mediana Mensal IPCA TOP 5 LP'!$A$2:$XFC$10000,MATCH(D$1,'Mediana Mensal IPCA TOP 5 LP'!$A$2:$XDF$2,0),FALSE)=0,NA(),VLOOKUP(A11,'Mediana Mensal IPCA TOP 5 LP'!$A$2:$XFC$10000,MATCH(D$1,'Mediana Mensal IPCA TOP 5 LP'!$A$2:$XDF$2,0),FALSE)) -> 0.2234 | E11: =IF(VLOOKUP(A11,'Mediana Mensal IPCA TOP 5 LP'!$A$2:$XFC$10000,MATCH(E$1,'Mediana Mensal IPCA TOP 5 LP'!$A$2:$XDF$2,0),FALSE)=0,NA(),VLOOKUP(A11,'Mediana Mensal IPCA TOP 5 LP'!$A$2:$XFC$10000,MATCH(E$1,'Mediana Mensal IPCA TOP 5 LP'!$A$2:$XDF$2,0),FALSE)) -> 0.1961 | F11: =IF(VLOOKUP(A11,'Mediana Mensal IPCA TOP 5 LP'!$A$2:$XFC$10000,MATCH(F$1,'Mediana Mensal IPCA TOP 5 LP'!$A$2:$XDF$2,0),FALSE)=0,NA(),VLOOKUP(A11,'Mediana Mensal IPCA TOP 5 LP'!$A$2:$XFC$10000,MATCH(F$1,'Mediana Mensal IPCA TOP 5 LP'!$A$2:$XDF$2,0),FALSE)) -> 0.2138
A12: 44578 | B12: =IF(VLOOKUP(A12,'Mediana Mensal IPCA TOP 5 LP'!$A$2:$XFC$10000,MATCH(B$1,'Mediana Mensal IPCA TOP 5 LP'!$A$2:$XDF$2,0),FALSE)=0,NA(),VLOOKUP(A12,'Mediana Mensal IPCA TOP 5 LP'!$A$2:$XFC$10000,MATCH(B$1,'Mediana Mensal IPCA TOP 5 LP'!$A$2:$XDF$2,0),FALSE)) -> 0.2545 | C12: =IF(VLOOKUP(A12,'Mediana Mensal IPCA TOP 5 LP'!$A$2:$XFC$10000,MATCH(C$1,'Mediana Mensal IPCA TOP 5 LP'!$A$2:$XDF$2,0),FALSE)=0,NA(),VLOOKUP(A12,'Mediana Mensal IPCA TOP 5 LP'!$A$2:$XFC$10000,MATCH(C$1,'Mediana Mensal IPCA TOP 5 LP'!$A$2:$XDF$2,0),FALSE)) -> 0.253 | D12: =IF(VLOOKUP(A12,'Mediana Mensal IPCA TOP 5 LP'!$A$2:$XFC$10000,MATCH(D$1,'Mediana Mensal IPCA TOP 5 LP'!$A$2:$XDF$2,0),FALSE)=0,NA(),VLOOKUP(A12,'Mediana Mensal IPCA TOP 5 LP'!$A$2:$XFC$10000,MATCH(D$1,'Mediana Mensal IPCA TOP 5 LP'!$A$2:$XDF$2,0),FALSE)) -> 0.2234 | E12: =IF(VLOOKUP(A12,'Mediana Mensal IPCA TOP 5 LP'!$A$2:$XFC$10000,MATCH(E$1,'Mediana Mensal IPCA TOP 5 LP'!$A$2:$XDF$2,0),FALSE)=0,NA(),VLOOKUP(A12,'Mediana Mensal IPCA TOP 5 LP'!$A$2:$XFC$10000,MATCH(E$1,'Mediana Mensal IPCA TOP 5 LP'!$A$2:$XDF$2,0),FALSE)) -> 0.1961 | F12: =IF(VLOOKUP(A12,'Mediana Mensal IPCA TOP 5 LP'!$A$2:$XFC$10000,MATCH(F$1,'Mediana Mensal IPCA TOP 5 LP'!$A$2:$XDF$2,0),FALSE)=0,NA(),VLOOKUP(A12,'Mediana Mensal IPCA TOP 5 LP'!$A$2:$XFC$10000,MATCH(F$1,'Mediana Mensal IPCA TOP 5 LP'!$A$2:$XDF$2,0),FALSE)) -> 0.2138
A13: 44579 | B13: =IF(VLOOKUP(A13,'Mediana Mensal IPCA TOP 5 LP'!$A$2:$XFC$10000,MATCH(B$1,'Mediana Mensal IPCA TOP 5 LP'!$A$2:$XDF$2,0),FALSE)=0,NA(),VLOOKUP(A13,'Mediana Mensal IPCA TOP 5 LP'!$A$2:$XFC$10000,MATCH(B$1,'Mediana Mensal IPCA TOP 5 LP'!$A$2:$XDF$2,0),FALSE)) -> 0.26 | C13: =IF(VLOOKUP(A13,'Mediana Mensal IPCA TOP 5 LP'!$A$2:$XFC$10000,MATCH(C$1,'Mediana Mensal IPCA TOP 5 LP'!$A$2:$XDF$2,0),FALSE)=0,NA(),VLOOKUP(A13,'Mediana Mensal IPCA TOP 5 LP'!$A$2:$XFC$10000,MATCH(C$1,'Mediana Mensal IPCA TOP 5 LP'!$A$2:$XDF$2,0),FALSE)) -> 0.26 | D13: =IF(VLOOKUP(A13,'Mediana Mensal IPCA TOP 5 LP'!$A$2:$XFC$10000,MATCH(D$1,'Mediana Mensal IPCA TOP 5 LP'!$A$2:$XDF$2,0),FALSE)=0,NA(),VLOOKUP(A13,'Mediana Mensal IPCA TOP 5 LP'!$A$2:$XFC$10000,MATCH(D$1,'Mediana Mensal IPCA TOP 5 LP'!$A$2:$XDF$2,0),FALSE)) -> 0.26 | E13: =IF(VLOOKUP(A13,'Mediana Mensal IPCA TOP 5 LP'!$A$2:$XFC$10000,MATCH(E$1,'Mediana Mensal IPCA TOP 5 LP'!$A$2:$XDF$2,0),FALSE)=0,NA(),VLOOKUP(A13,'Mediana Mensal IPCA TOP 5 LP'!$A$2:$XFC$10000,MATCH(E$1,'Mediana Mensal IPCA TOP 5 LP'!$A$2:$XDF$2,0),FALSE)) -> 0.21 | F13: =IF(VLOOKUP(A13,'Mediana Mensal IPCA TOP 5 LP'!$A$2:$XFC$10000,MATCH(F$1,'Mediana Mensal IPCA TOP 5 LP'!$A$2:$XDF$2,0),FALSE)=0,NA(),VLOOKUP(A13,'Mediana Mensal IPCA TOP 5 LP'!$A$2:$XFC$10000,MATCH(F$1,'Mediana Mensal IPCA TOP 5 LP'!$A$2:$XDF$2,0),FALSE)) -> 0.26
... A337: 45051 | B337: =IF(VLOOKUP(A337,'Mediana Mensal IPCA TOP 5 LP'!$A$2:$XFC$10000,MATCH(B$1,'Mediana Mensal IPCA TOP 5 LP'!$A$2:$XDF$2,0),FALSE)=0,NA(),VLOOKUP(A337,'Mediana Mensal IPCA TOP 5 LP'!$A$2:$XFC$10000,MATCH(B$1,'Mediana Mensal IPCA TOP 5 LP'!$A$2:$XDF$2,0),FALSE)) -> 0.57 | C337: =IF(VLOOKUP(A337,'Mediana Mensal IPCA TOP 5 LP'!$A$2:$XFC$10000,MATCH(C$1,'Mediana Mensal IPCA TOP 5 LP'!$A$2:$XDF$2,0),FALSE)=0,NA(),VLOOKUP(A337,'Mediana Mensal IPCA TOP 5 LP'!$A$2:$XFC$10000,MATCH(C$1,'Mediana Mensal IPCA TOP 5 LP'!$A$2:$XDF$2,0),FALSE)) -> 0.48 | D337: =IF(VLOOKUP(A337,'Mediana Mensal IPCA TOP 5 LP'!$A$2:$XFC$10000,MATCH(D$1,'Mediana Mensal IPCA TOP 5 LP'!$A$2:$XDF$2,0),FALSE)=0,NA(),VLOOKUP(A337,'Mediana Mensal IPCA TOP 5 LP'!$A$2:$XFC$10000,MATCH(D$1,'Mediana Mensal IPCA TOP 5 LP'!$A$2:$XDF$2,0),FALSE)) -> 0.5 | E337: =IF(VLOOKUP(A337,'Mediana Mensal IPCA TOP 5 LP'!$A$2:$XFC$10000,MATCH(E$1,'Mediana Mensal IPCA TOP 5 LP'!$A$2:$XDF$2,0),FALSE)=0,NA(),VLOOKUP(A337,'Mediana Mensal IPCA TOP 5 LP'!$A$2:$XFC$10000,MATCH(E$1,'Mediana Mensal IPCA TOP 5 LP'!$A$2:$XDF$2,0),FALSE)) -> 0.36 | F337: =IF(VLOOKUP(A337,'Mediana Mensal IPCA TOP 5 LP'!$A$2:$XFC$10000,MATCH(F$1,'Mediana Mensal IPCA TOP 5 LP'!$A$2:$XDF$2,0),FALSE)=0,NA(),VLOOKUP(A337,'Mediana Mensal IPCA TOP 5 LP'!$A$2:$XFC$10000,MATCH(F$1,'Mediana Mensal IPCA TOP 5 LP'!$A$2:$XDF$2,0),FALSE)) -> 0.3

Sheet Mediana Anual IPCA TOP 5 LP
A1: IPCA - variação % - Mediana - Período de 02/01/2022 a 11/05/2023 - Base: Top 5 longo prazo
A2: Data | B2: 2021 | C2: 2022 | D2: 2023 | E2: 2024 | F2: 2025 | G2: 2026 | H2: 2027
A3: 44564 | B3: 9.9614 | C3: 4.9512 | D3: 3.8 | E3: 3.5 | F3: 3.5
A4: 44565 | B4: 9.9614 | C4: 4.9512 | D4: 3.8 | E4: 3.5 | F4: 3.5
A5: 44566 | B5: 9.9614 | C5: 4.9512 | D5: 3.8 | E5: 3.5 | F5: 3.5
A6: 44567 | B6: 9.9614 | C6: 4.9512 | D6: 3.8 | E6: 3.5 | F6: 3.5
A7: 44568 | B7: 9.9614 | C7: 5.0249 | D7: 3.8 | E7: 3.5 | F7: 3.5
A8: 44571 | B8: 9.9614 | C8: 5.0249 | D8: 3.8 | E8: 3.5 | F8: 3.5
A9: 44572 | C9: 5.0249 | D9: 3.8 | E9: 3.5 | F9: 3.5
A10: 44573 | C10: 5.0249 | D10: 3.8 | E10: 3.5 | F10: 3.5
A11: 44574 | C11: 4.8469 | D11: 3.835 | E11: 3.675 | F11: 3.65
A12: 44575 | C12: 5.0277 | D12: 3.835 | E12: 3.675 | F12: 3.65 | G12: 3.4
A13: 44578 | C13: 5.0277 | D13: 3.835 | E13: 3.675 | F13: 3.65 | G13: 3.4
A14: 44579 | C14: 5.1278 | D14: 3.8 | E14: 3.5 | F14: 3.5 | G14: 3
A15: 44580 | C15: 5.1972 | D15: 3.8 | E15: 3.5 | F15: 3.5 | G15: 3
A16: 44581 | C16: 5.1972 | D16: 3.8 | E16: 3.5 | F16: 3.5 | G16: 3
A17: 44582 | C17: 5.1972 | D17: 3.8 | E17: 3.5 | F17: 3.5 | G17: 3.35
A18: 44585 | C18: 5.1972 | D18: 3.8 | E18: 3.5 | F18: 3.5 | G18: 3.35
A19: 44586 | C19: 5.1972 | D19: 3.8 | E19: 3.5 | F19: 3.5 | G19: 3.35
A20: 44587 | C20: 5.1972 | D20: 3.8 | E20: 3.5 | F20: 3.5 | G20: 3.35
A21: 44588 | C21: 5.1972 | D21: 3.8 | E21: 3.5 | F21: 3.5 | G21: 3.35
A22: 44589 | C22: 5.4174 | D22: 3.87 | E22: 3.5 | F22: 3.5 | G22: 3.35
A23: 44592 | C23: 5.7827 | D23: 3.84 | E23: 3.5 | F23: 3.5 | G23: 4
... A259: 44935 | C259: 5.6064 | D259: 5.4384 | E259: 4.1 | F259: 4 | G259: 4
A260: 44936 | D260: 5.4384 | E260: 4.1 | F260: 4 | G260: 4
A261: 44937 | D261: 5.4384 | E261: 4.1 | F261: 4 | G261: 4
A262: 44938 | D262: 5.4384 | E262: 4.1 | F262: 4 | G262: 4
A263: 44939 | D263: 5.4384 | E263: 4.1 | F263: 4 | G263: 4
A264: 44942 | D264: 5.4384 | E264: 4.1 | F264: 4 | G264: 4
A265: 44943 | D265: 5.4384 | E265: 4.1 | F265: 4 | G265: 4
A266: 44944 | D266: 5.4384 | E266: 4.1 | F266: 4 | G266: 4
A267: 44945 | D267: 5.4384 | E267: 4.1 | F267: 4.2 | G267: 4.3 | H267: 5.5
A268: 44946 | D268: 5.6897 | E268: 4.1 | F268: 4.2 | G268: 4.3 | H268: 4.75
A269: 44949 | D269: 5.6897 | E269: 4.1 | F269: 4.2 | G269: 4.3 | H269: 4.75
A270: 44950 | D270: 5.6897 | E270: 4.1 | F270: 4.2 | G270: 4.3 | H270: 4.75
A271: 44951 | D271: 5.6897 | E271: 4.1 | F271: 4.2 | G271: 4.3 | H271: 4.75
A272: 44952 | D272: 5.6897 | E272: 4.1 | F272: 4.2 | G272: 4.3 | H272: 4.75
A273: 44953 | D273: 6.0394 | E273: 4.1 | F273: 4.45 | G273: 4.55 | H273: 5
A274: 44956 | D274: 6.0394 | E274: 4.1 | F274: 4.45 | G274: 4.55 | H274: 5
A275: 44957 | D275: 6.0084 | E275: 4.26 | F275: 3.45 | G275: 3.25 | H275: 3.5
A276: 44958 | D276: 6.0084 | E276: 4.26 | F276: 3.45 | G276: 3.25 | H276: 3.5
A277: 44959 | D277: 6.0084 | E277: 4.26 | F277: 3.45 | G277: 3.25 | H277: 3.5
A278: 44960 | D278: 6.0379 | E278: 4.26 | F278: 3.45 | G278: 3.25 | H278: 3.5
... A338: 45051 | D338: 6.0087 | E338: 4.6 | F338: 4.28 | G338: 4.25 | H338: 4.5

Sheet Análises IPCA Anual
A1: Data | B1: 2023 | C1: 2024 | D1: 2025 | E1: 2026
A2: 44564 | B2: =IF(VLOOKUP(A2,'Mediana Anual IPCA TOP 5 LP'!$A$2:$XFC$10000,MATCH(B$1,'Mediana Anual IPCA TOP 5 LP'!$A$2:$XDF$2,0),FALSE)=0,NA(),VLOOKUP(A2,'Mediana Anual IPCA TOP 5 LP'!$A$2:$XFC$10000,MATCH(B$1,'Mediana Anual IPCA TOP 5 LP'!$A$2:$XDF$2,0),FALSE)) -> 3.8 | C2: =IF(VLOOKUP(A2,'Mediana Anual IPCA TOP 5 LP'!$A$2:$XFC$10000,MATCH(C$1,'Mediana Anual IPCA TOP 5 LP'!$A$2:$XDF$2,0),FALSE)=0,NA(),VLOOKUP(A2,'Mediana Anual IPCA TOP 5 LP'!$A$2:$XFC$10000,MATCH(C$1,'Mediana Anual IPCA TOP 5 LP'!$A$2:$XDF$2,0),FALSE)) -> 3.5 | D2: =IF(VLOOKUP(A2,'Mediana Anual IPCA TOP 5 LP'!$A$2:$XFC$10000,MATCH(D$1,'Mediana Anual IPCA TOP 5 LP'!$A$2:$XDF$2,0),FALSE)=0,NA(),VLOOKUP(A2,'Mediana Anual IPCA TOP 5 LP'!$A$2:$XFC$10000,MATCH(D$1,'Mediana Anual IPCA TOP 5 LP'!$A$2:$XDF$2,0),FALSE)) -> 3.5 | E2: =IF(VLOOKUP(A2,'Mediana Anual IPCA TOP 5 LP'!$A$2:$XFC$10000,MATCH(E$1,'Mediana Anual IPCA TOP 5 LP'!$A$2:$XDF$2,0),FALSE)=0,NA(),VLOOKUP(A2,'Mediana Anual IPCA TOP 5 LP'!$A$2:$XFC$10000,MATCH(E$1,'Mediana Anual IPCA TOP 5 LP'!$A$2:$XDF$2,0),FALSE)) -> #N/A
A3: 44565 | B3: =IF(VLOOKUP(A3,'Mediana Anual IPCA TOP 5 LP'!$A$2:$XFC$10000,MATCH(B$1,'Mediana Anual IPCA TOP 5 LP'!$A$2:$XDF$2,0),FALSE)=0,NA(),VLOOKUP(A3,'Mediana Anual IPCA TOP 5 LP'!$A$2:$XFC$10000,MATCH(B$1,'Mediana Anual IPCA TOP 5 LP'!$A$2:$XDF$2,0),FALSE)) -> 3.8 | C3: =IF(VLOOKUP(A3,'Mediana Anual IPCA TOP 5 LP'!$A$2:$XFC$10000,MATCH(C$1,'Mediana Anual IPCA TOP 5 LP'!$A$2:$XDF$2,0),FALSE)=0,NA(),VLOOKUP(A3,'Mediana Anual IPCA TOP 5 LP'!$A$2:$XFC$10000,MATCH(C$1,'Mediana Anual IPCA TOP 5 LP'!$A$2:$XDF$2,0),FALSE)) -> 3.5 | D3: =IF(VLOOKUP(A3,'Mediana Anual IPCA TOP 5 LP'!$A$2:$XFC$10000,MATCH(D$1,'Mediana Anual IPCA TOP 5 LP'!$A$2:$XDF$2,0),FALSE)=0,NA(),VLOOKUP(A3,'Mediana Anual IPCA TOP 5 LP'!$A$2:$XFC$10000,MATCH(D$1,'Mediana Anual IPCA TOP 5 LP'!$A$2:$XDF$2,0),FALSE)) -> 3.5 | E3: =IF(VLOOKUP(A3,'Mediana Anual IPCA TOP 5 LP'!$A$2:$XFC$10000,MATCH(E$1,'Mediana Anual IPCA TOP 5 LP'!$A$2:$XDF$2,0),FALSE)=0,NA(),VLOOKUP(A3,'Mediana Anual IPCA TOP 5 LP'!$A$2:$XFC$10000,MATCH(E$1,'Mediana Anual IPCA TOP 5 LP'!$A$2:$XDF$2,0),FALSE)) -> #N/A
A4: 44566 | B4: =IF(VLOOKUP(A4,'Mediana Anual IPCA TOP 5 LP'!$A$2:$XFC$10000,MATCH(B$1,'Mediana Anual IPCA TOP 5 LP'!$A$2:$XDF$2,0),FALSE)=0,NA(),VLOOKUP(A4,'Mediana Anual IPCA TOP 5 LP'!$A$2:$XFC$10000,MATCH(B$1,'Mediana Anual IPCA TOP 5 LP'!$A$2:$XDF$2,0),FALSE)) -> 3.8 | C4: =IF(VLOOKUP(A4,'Mediana Anual IPCA TOP 5 LP'!$A$2:$XFC$10000,MATCH(C$1,'Mediana Anual IPCA TOP 5 LP'!$A$2:$XDF$2,0),FALSE)=0,NA(),VLOOKUP(A4,'Mediana Anual IPCA TOP 5 LP'!$A$2:$XFC$10000,MATCH(C$1,'Mediana Anual IPCA TOP 5 LP'!$A$2:$XDF$2,0),FALSE)) -> 3.5 | D4: =IF(VLOOKUP(A4,'Mediana Anual IPCA TOP 5 LP'!$A$2:$XFC$10000,MATCH(D$1,'Mediana Anual IPCA TOP 5 LP'!$A$2:$XDF$2,0),FALSE)=0,NA(),VLOOKUP(A4,'Mediana Anual IPCA TOP 5 LP'!$A$2:$XFC$10000,MATCH(D$1,'Mediana Anual IPCA TOP 5 LP'!$A$2:$XDF$2,0),FALSE)) -> 3.5 | E4: =IF(VLOOKUP(A4,'Mediana Anual IPCA TOP 5 LP'!$A$2:$XFC$10000,MATCH(E$1,'Mediana Anual IPCA TOP 5 LP'!$A$2:$XDF$2,0),FALSE)=0,NA(),VLOOKUP(A4,'Mediana Anual IPCA TOP 5 LP'!$A$2:$XFC$10000,MATCH(E$1,'Mediana Anual IPCA TOP 5 LP'!$A$2:$XDF$2,0),FALSE)) -> #N/A
A5: 44567 | B5: =IF(VLOOKUP(A5,'Mediana Anual IPCA TOP 5 LP'!$A$2:$XFC$10000,MATCH(B$1,'Mediana Anual IPCA TOP 5 LP'!$A$2:$XDF$2,0),FALSE)=0,NA(),VLOOKUP(A5,'Mediana Anual IPCA TOP 5 LP'!$A$2:$XFC$10000,MATCH(B$1,'Mediana Anual IPCA TOP 5 LP'!$A$2:$XDF$2,0),FALSE)) -> 3.8 | C5: =IF(VLOOKUP(A5,'Mediana Anual IPCA TOP 5 LP'!$A$2:$XFC$10000,MATCH(C$1,'Mediana Anual IPCA TOP 5 LP'!$A$2:$XDF$2,0),FALSE)=0,NA(),VLOOKUP(A5,'Mediana Anual IPCA TOP 5 LP'!$A$2:$XFC$10000,MATCH(C$1,'Mediana Anual IPCA TOP 5 LP'!$A$2:$XDF$2,0),FALSE)) -> 3.5 | D5: =IF(VLOOKUP(A5,'Mediana Anual IPCA TOP 5 LP'!$A$2:$XFC$10000,MATCH(D$1,'Mediana Anual IPCA TOP 5 LP'!$A$2:$XDF$2,0),FALSE)=0,NA(),VLOOKUP(A5,'Mediana Anual IPCA TOP 5 LP'!$A$2:$XFC$10000,MATCH(D$1,'Mediana Anual IPCA TOP 5 LP'!$A$2:$XDF$2,0),FALSE)) -> 3.5 | E5: =IF(VLOOKUP(A5,'Mediana Anual IPCA TOP 5 LP'!$A$2:$XFC$10000,MATCH(E$1,'Mediana Anual IPCA TOP 5 LP'!$A$2:$XDF$2,0),FALSE)=0,NA(),VLOOKUP(A5,'Mediana Anual IPCA TOP 5 LP'!$A$2:$XFC$10000,MATCH(E$1,'Mediana Anual IPCA TOP 5 LP'!$A$2:$XDF$2,0),FALSE)) -> #N/A
A6: 44568 | B6: =IF(VLOOKUP(A6,'Mediana Anual IPCA TOP 5 LP'!$A$2:$XFC$10000,MATCH(B$1,'Mediana Anual IPCA TOP 5 LP'!$A$2:$XDF$2,0),FALSE)=0,NA(),VLOOKUP(A6,'Mediana Anual IPCA TOP 5 LP'!$A$2:$XFC$10000,MATCH(B$1,'Mediana Anual IPCA TOP 5 LP'!$A$2:$XDF$2,0),FALSE)) -> 3.8 | C6: =IF(VLOOKUP(A6,'Mediana Anual IPCA TOP 5 LP'!$A$2:$XFC$10000,MATCH(C$1,'Mediana Anual IPCA TOP 5 LP'!$A$2:$XDF$2,0),FALSE)=0,NA(),VLOOKUP(A6,'Mediana Anual IPCA TOP 5 LP'!$A$2:$XFC$10000,MATCH(C$1,'Mediana Anual IPCA TOP 5 LP'!$A$2:$XDF$2,0),FALSE)) -> 3.5 | D6: =IF(VLOOKUP(A6,'Mediana Anual IPCA TOP 5 LP'!$A$2:$XFC$10000,MATCH(D$1,'Mediana Anual IPCA TOP 5 LP'!$A$2:$XDF$2,0),FALSE)=0,NA(),VLOOKUP(A6,'Mediana Anual IPCA TOP 5 LP'!$A$2:$XFC$10000,MATCH(D$1,'Mediana Anual IPCA TOP 5 LP'!$A$2:$XDF$2,0),FALSE)) -> 3.5 | E6: =IF(VLOOKUP(A6,'Mediana Anual IPCA TOP 5 LP'!$A$2:$XFC$10000,MATCH(E$1,'Mediana Anual IPCA TOP 5 LP'!$A$2:$XDF$2,0),FALSE)=0,NA(),VLOOKUP(A6,'Mediana Anual IPCA TOP 5 LP'!$A$2:$XFC$10000,MATCH(E$1,'Mediana Anual IPCA TOP 5 LP'!$A$2:$XDF$2,0),FALSE)) -> #N/A
A7: 44571 | B7: =IF(VLOOKUP(A7,'Mediana Anual IPCA TOP 5 LP'!$A$2:$XFC$10000,MATCH(B$1,'Mediana Anual IPCA TOP 5 LP'!$A$2:$XDF$2,0),FALSE)=0,NA(),VLOOKUP(A7,'Mediana Anual IPCA TOP 5 LP'!$A$2:$XFC$10000,MATCH(B$1,'Mediana Anual IPCA TOP 5 LP'!$A$2:$XDF$2,0),FALSE)) -> 3.8 | C7: =IF(VLOOKUP(A7,'Mediana Anual IPCA TOP 5 LP'!$A$2:$XFC$10000,MATCH(C$1,'Mediana Anual IPCA TOP 5 LP'!$A$2:$XDF$2,0),FALSE)=0,NA(),VLOOKUP(A7,'Mediana Anual IPCA TOP 5 LP'!$A$2:$XFC$10000,MATCH(C$1,'Mediana Anual IPCA TOP 5 LP'!$A$2:$XDF$2,0),FALSE)) -> 3.5 | D7: =IF(VLOOKUP(A7,'Mediana Anual IPCA TOP 5 LP'!$A$2:$XFC$10000,MATCH(D$1,'Mediana Anual IPCA TOP 5 LP'!$A$2:$XDF$2,0),FALSE)=0,NA(),VLOOKUP(A7,'Mediana Anual IPCA TOP 5 LP'!$A$2:$XFC$10000,MATCH(D$1,'Mediana Anual IPCA TOP 5 LP'!$A$2:$XDF$2,0),FALSE)) -> 3.5 | E7: =IF(VLOOKUP(A7,'Mediana Anual IPCA TOP 5 LP'!$A$2:$XFC$10000,MATCH(E$1,'Mediana Anual IPCA TOP 5 LP'!$A$2:$XDF$2,0),FALSE)=0,NA(),VLOOKUP(A7,'Mediana Anual IPCA TOP 5 LP'!$A$2:$XFC$10000,MATCH(E$1,'Mediana Anual IPCA TOP 5 LP'!$A$2:$XDF$2,0),FALSE)) -> #N/A
A8: 44572 | B8: =IF(VLOOKUP(A8,'Mediana Anual IPCA TOP 5 LP'!$A$2:$XFC$10000,MATCH(B$1,'Mediana Anual IPCA TOP 5 LP'!$A$2:$XDF$2,0),FALSE)=0,NA(),VLOOKUP(A8,'Mediana Anual IPCA TOP 5 LP'!$A$2:$XFC$10000,MATCH(B$1,'Mediana Anual IPCA TOP 5 LP'!$A$2:$XDF$2,0),FALSE)) -> 3.8 | C8: =IF(VLOOKUP(A8,'Mediana Anual IPCA TOP 5 LP'!$A$2:$XFC$10000,MATCH(C$1,'Mediana Anual IPCA TOP 5 LP'!$A$2:$XDF$2,0),FALSE)=0,NA(),VLOOKUP(A8,'Mediana Anual IPCA TOP 5 LP'!$A$2:$XFC$10000,MATCH(C$1,'Mediana Anual IPCA TOP 5 LP'!$A$2:$XDF$2,0),FALSE)) -> 3.5 | D8: =IF(VLOOKUP(A8,'Mediana Anual IPCA TOP 5 LP'!$A$2:$XFC$10000,MATCH(D$1,'Mediana Anual IPCA TOP 5 LP'!$A$2:$XDF$2,0),FALSE)=0,NA(),VLOOKUP(A8,'Mediana Anual IPCA TOP 5 LP'!$A$2:$XFC$10000,MATCH(D$1,'Mediana Anual IPCA TOP 5 LP'!$A$2:$XDF$2,0),FALSE)) -> 3.5 | E8: =IF(VLOOKUP(A8,'Mediana Anual IPCA TOP 5 LP'!$A$2:$XFC$10000,MATCH(E$1,'Mediana Anual IPCA TOP 5 LP'!$A$2:$XDF$2,0),FALSE)=0,NA(),VLOOKUP(A8,'Mediana Anual IPCA TOP 5 LP'!$A$2:$XFC$10000,MATCH(E$1,'Mediana Anual IPCA TOP 5 LP'!$A$2:$XDF$2,0),FALSE)) -> #N/A
A9: 44573 | B9: =IF(VLOOKUP(A9,'Mediana Anual IPCA TOP 5 LP'!$A$2:$XFC$10000,MATCH(B$1,'Mediana Anual IPCA TOP 5 LP'!$A$2:$XDF$2,0),FALSE)=0,NA(),VLOOKUP(A9,'Mediana Anual IPCA TOP 5 LP'!$A$2:$XFC$10000,MATCH(B$1,'Mediana Anual IPCA TOP 5 LP'!$A$2:$XDF$2,0),FALSE)) -> 3.8 | C9: =IF(VLOOKUP(A9,'Mediana Anual IPCA TOP 5 LP'!$A$2:$XFC$10000,MATCH(C$1,'Mediana Anual IPCA TOP 5 LP'!$A$2:$XDF$2,0),FALSE)=0,NA(),VLOOKUP(A9,'Mediana Anual IPCA TOP 5 LP'!$A$2:$XFC$10000,MATCH(C$1,'Mediana Anual IPCA TOP 5 LP'!$A$2:$XDF$2,0),FALSE)) -> 3.5 | D9: =IF(VLOOKUP(A9,'Mediana Anual IPCA TOP 5 LP'!$A$2:$XFC$10000,MATCH(D$1,'Mediana Anual IPCA TOP 5 LP'!$A$2:$XDF$2,0),FALSE)=0,NA(),VLOOKUP(A9,'Mediana Anual IPCA TOP 5 LP'!$A$2:$XFC$10000,MATCH(D$1,'Mediana Anual IPCA TOP 5 LP'!$A$2:$XDF$2,0),FALSE)) -> 3.5 | E9: =IF(VLOOKUP(A9,'Mediana Anual IPCA TOP 5 LP'!$A$2:$XFC$10000,MATCH(E$1,'Mediana Anual IPCA TOP 5 LP'!$A$2:$XDF$2,0),FALSE)=0,NA(),VLOOKUP(A9,'Mediana Anual IPCA TOP 5 LP'!$A$2:$XFC$10000,MATCH(E$1,'Mediana Anual IPCA TOP 5 LP'!$A$2:$XDF$2,0),FALSE)) -> #N/A
A10: 44574 | B10: =IF(VLOOKUP(A10,'Mediana Anual IPCA TOP 5 LP'!$A$2:$XFC$10000,MATCH(B$1,'Mediana Anual IPCA TOP 5 LP'!$A$2:$XDF$2,0),FALSE)=0,NA(),VLOOKUP(A10,'Mediana Anual IPCA TOP 5 LP'!$A$2:$XFC$10000,MATCH(B$1,'Mediana Anual IPCA TOP 5 LP'!$A$2:$XDF$2,0),FALSE)) -> 3.835 | C10: =IF(VLOOKUP(A10,'Mediana Anual IPCA TOP 5 LP'!$A$2:$XFC$10000,MATCH(C$1,'Mediana Anual IPCA TOP 5 LP'!$A$2:$XDF$2,0),FALSE)=0,NA(),VLOOKUP(A10,'Mediana Anual IPCA TOP 5 LP'!$A$2:$XFC$10000,MATCH(C$1,'Mediana Anual IPCA TOP 5 LP'!$A$2:$XDF$2,0),FALSE)) -> 3.675 | D10: =IF(VLOOKUP(A10,'Mediana Anual IPCA TOP 5 LP'!$A$2:$XFC$10000,MATCH(D$1,'Mediana Anual IPCA TOP 5 LP'!$A$2:$XDF$2,0),FALSE)=0,NA(),VLOOKUP(A10,'Mediana Anual IPCA TOP 5 LP'!$A$2:$XFC$10000,MATCH(D$1,'Mediana Anual IPCA TOP 5 LP'!$A$2:$XDF$2,0),FALSE)) -> 3.65 | E10: =IF(VLOOKUP(A10,'Mediana Anual IPCA TOP 5 LP'!$A$2:$XFC$10000,MATCH(E$1,'Mediana Anual IPCA TOP 5 LP'!$A$2:$XDF$2,0),FALSE)=0,NA(),VLOOKUP(A10,'Mediana Anual IPCA TOP 5 LP'!$A$2:$XFC$10000,MATCH(E$1,'Mediana Anual IPCA TOP 5 LP'!$A$2:$XDF$2,0),FALSE)) -> #N/A
A11: 44575 | B11: =IF(VLOOKUP(A11,'Mediana Anual IPCA TOP 5 LP'!$A$2:$XFC$10000,MATCH(B$1,'Mediana Anual IPCA TOP 5 LP'!$A$2:$XDF$2,0),FALSE)=0,NA(),VLOOKUP(A11,'Mediana Anual IPCA TOP 5 LP'!$A$2:$XFC$10000,MATCH(B$1,'Mediana Anual IPCA TOP 5 LP'!$A$2:$XDF$2,0),FALSE)) -> 3.835 | C11: =IF(VLOOKUP(A11,'Mediana Anual IPCA TOP 5 LP'!$A$2:$XFC$10000,MATCH(C$1,'Mediana Anual IPCA TOP 5 LP'!$A$2:$XDF$2,0),FALSE)=0,NA(),VLOOKUP(A11,'Mediana Anual IPCA TOP 5 LP'!$A$2:$XFC$10000,MATCH(C$1,'Mediana Anual IPCA TOP 5 LP'!$A$2:$XDF$2,0),FALSE)) -> 3.675 | D11: =IF(VLOOKUP(A11,'Mediana Anual IPCA TOP 5 LP'!$A$2:$XFC$10000,MATCH(D$1,'Mediana Anual IPCA TOP 5 LP'!$A$2:$XDF$2,0),FALSE)=0,NA(),VLOOKUP(A11,'Mediana Anual IPCA TOP 5 LP'!$A$2:$XFC$10000,MATCH(D$1,'Mediana Anual IPCA TOP 5 LP'!$A$2:$XDF$2,0),FALSE)) -> 3.65 | E11: =IF(VLOOKUP(A11,'Mediana Anual IPCA TOP 5 LP'!$A$2:$XFC$10000,MATCH(E$1,'Mediana Anual IPCA TOP 5 LP'!$A$2:$XDF$2,0),FALSE)=0,NA(),VLOOKUP(A11,'Mediana Anual IPCA TOP 5 LP'!$A$2:$XFC$10000,MATCH(E$1,'Mediana Anual IPCA TOP 5 LP'!$A$2:$XDF$2,0),FALSE)) -> 3.4
A12: 44578 | B12: =IF(VLOOKUP(A12,'Mediana Anual IPCA TOP 5 LP'!$A$2:$XFC$10000,MATCH(B$1,'Mediana Anual IPCA TOP 5 LP'!$A$2:$XDF$2,0),FALSE)=0,NA(),VLOOKUP(A12,'Mediana Anual IPCA TOP 5 LP'!$A$2:$XFC$10000,MATCH(B$1,'Mediana Anual IPCA TOP 5 LP'!$A$2:$XDF$2,0),FALSE)) -> 3.835 | C12: =IF(VLOOKUP(A12,'Mediana Anual IPCA TOP 5 LP'!$A$2:$XFC$10000,MATCH(C$1,'Mediana Anual IPCA TOP 5 LP'!$A$2:$XDF$2,0),FALSE)=0,NA(),VLOOKUP(A12,'Mediana Anual IPCA TOP 5 LP'!$A$2:$XFC$10000,MATCH(C$1,'Mediana Anual IPCA TOP 5 LP'!$A$2:$XDF$2,0),FALSE)) -> 3.675 | D12: =IF(VLOOKUP(A12,'Mediana Anual IPCA TOP 5 LP'!$A$2:$XFC$10000,MATCH(D$1,'Mediana Anual IPCA TOP 5 LP'!$A$2:$XDF$2,0),FALSE)=0,NA(),VLOOKUP(A12,'Mediana Anual IPCA TOP 5 LP'!$A$2:$XFC$10000,MATCH(D$1,'Mediana Anual IPCA TOP 5 LP'!$A$2:$XDF$2,0),FALSE)) -> 3.65 | E12: =IF(VLOOKUP(A12,'Mediana Anual IPCA TOP 5 LP'!$A$2:$XFC$10000,MATCH(E$1,'Mediana Anual IPCA TOP 5 LP'!$A$2:$XDF$2,0),FALSE)=0,NA(),VLOOKUP(A12,'Mediana Anual IPCA TOP 5 LP'!$A$2:$XFC$10000,MATCH(E$1,'Mediana Anual IPCA TOP 5 LP'!$A$2:$XDF$2,0),FALSE)) -> 3.4
A13: 44579 | B13: =IF(VLOOKUP(A13,'Mediana Anual IPCA TOP 5 LP'!$A$2:$XFC$10000,MATCH(B$1,'Mediana Anual IPCA TOP 5 LP'!$A$2:$XDF$2,0),FALSE)=0,NA(),VLOOKUP(A13,'Mediana Anual IPCA TOP 5 LP'!$A$2:$XFC$10000,MATCH(B$1,'Mediana Anual IPCA TOP 5 LP'!$A$2:$XDF$2,0),FALSE)) -> 3.8 | C13: =IF(VLOOKUP(A13,'Mediana Anual IPCA TOP 5 LP'!$A$2:$XFC$10000,MATCH(C$1,'Mediana Anual IPCA TOP 5 LP'!$A$2:$XDF$2,0),FALSE)=0,NA(),VLOOKUP(A13,'Mediana Anual IPCA TOP 5 LP'!$A$2:$XFC$10000,MATCH(C$1,'Mediana Anual IPCA TOP 5 LP'!$A$2:$XDF$2,0),FALSE)) -> 3.5 | D13: =IF(VLOOKUP(A13,'Mediana Anual IPCA TOP 5 LP'!$A$2:$XFC$10000,MATCH(D$1,'Mediana Anual IPCA TOP 5 LP'!$A$2:$XDF$2,0),FALSE)=0,NA(),VLOOKUP(A13,'Mediana Anual IPCA TOP 5 LP'!$A$2:$XFC$10000,MATCH(D$1,'Mediana Anual IPCA TOP 5 LP'!$A$2:$XDF$2,0),FALSE)) -> 3.5 | E13: =IF(VLOOKUP(A13,'Mediana Anual IPCA TOP 5 LP'!$A$2:$XFC$10000,MATCH(E$1,'Mediana Anual IPCA TOP 5 LP'!$A$2:$XDF$2,0),FALSE)=0,NA(),VLOOKUP(A13,'Mediana Anual IPCA TOP 5 LP'!$A$2:$XFC$10000,MATCH(E$1,'Mediana Anual IPCA TOP 5 LP'!$A$2:$XDF$2,0),FALSE)) -> 3
... A337: 45051 | B337: =IF(VLOOKUP(A337,'Mediana Anual IPCA TOP 5 LP'!$A$2:$XFC$10000,MATCH(B$1,'Mediana Anual IPCA TOP 5 LP'!$A$2:$XDF$2,0),FALSE)=0,NA(),VLOOKUP(A337,'Mediana Anual IPCA TOP 5 LP'!$A$2:$XFC$10000,MATCH(B$1,'Mediana Anual IPCA TOP 5 LP'!$A$2:$XDF$2,0),FALSE)) -> 6.0087 | C337: =IF(VLOOKUP(A337,'Mediana Anual IPCA TOP 5 LP'!$A$2:$XFC$10000,MATCH(C$1,'Mediana Anual IPCA TOP 5 LP'!$A$2:$XDF$2,0),FALSE)=0,NA(),VLOOKUP(A337,'Mediana Anual IPCA TOP 5 LP'!$A$2:$XFC$10000,MATCH(C$1,'Mediana Anual IPCA TOP 5 LP'!$A$2:$XDF$2,0),FALSE)) -> 4.6 | D337: =IF(VLOOKUP(A337,'Mediana Anual IPCA TOP 5 LP'!$A$2:$XFC$10000,MATCH(D$1,'Mediana Anual IPCA TOP 5 LP'!$A$2:$XDF$2,0),FALSE)=0,NA(),VLOOKUP(A337,'Mediana Anual IPCA TOP 5 LP'!$A$2:$XFC$10000,MATCH(D$1,'Mediana Anual IPCA TOP 5 LP'!$A$2:$XDF$2,0),FALSE)) -> 4.28 | E337: =IF(VLOOKUP(A337,'Mediana Anual IPCA TOP 5 LP'!$A$2:$XFC$10000,MATCH(E$1,'Mediana Anual IPCA TOP 5 LP'!$A$2:$XDF$2,0),FALSE)=0,NA(),VLOOKUP(A337,'Mediana Anual IPCA TOP 5 LP'!$A$2:$XFC$10000,MATCH(E$1,'Mediana Anual IPCA TOP 5 LP'!$A$2:$XDF$2,0),FALSE)) -> 4.25

Sheet Mediana Hor Móv IPCA TOP 5 LP
A1: IPCA - variação % - Mediana - Período de 02/01/2022 a 11/05/2023 - Base: Top 5 longo prazo
A2: Data | B2: Infl. 12 m | C2: Infl. 12 m suav. | D2: Infl. meses 13-24 | E2: Infl. meses 13-24 suav.
A3: 44564 | B3: 5.2832 | C3: 5.0245 | D3: 3.8543 | E3: 3.6992
A4: 44565 | B4: 5.2832 | C4: 5.014 | D4: 3.8543 | E4: 3.7136
A5: 44566 | B5: 5.2832 | C5: 5.0036 | D5: 3.8543 | E5: 3.728
A6: 44567 | B6: 5.2832 | C6: 4.9931 | D6: 3.8543 | E6: 3.7424
A7: 44568 | B7: 5.2319 | C7: 5.0443 | D7: 3.8543 | E7: 3.7568
A8: 44571 | B8: 5.2319 | C8: 5.0249 | D8: 3.8543 | E8: 3.8
A9: 44572 | B9: 5.0249 | C9: 5.0166 | D9: 3.8
A10: 44573 | B10: 5.0249 | C10: 5.0083 | D10: 3.8
A11: 44574 | B11: 4.8469 | C11: 4.8354 | D11: 3.835
A12: 44575 | B12: 5.0277 | C12: 5.0073 | D12: 3.835 | E12: 4.0938
A13: 44578 | B13: 5.0277 | C13: 4.9921 | D13: 3.835 | E13: 4.0938
A14: 44579 | B14: 5.1278 | C14: 5.0955 | D14: 3.8 | E14: 3.496
A15: 44580 | B15: 5.1972 | C15: 5.1712 | D15: 3.8 | E15: 3.4945
A16: 44581 | B16: 5.1972 | C16: 5.1683 | D16: 3.8 | E16: 3.4931
A17: 44582 | B17: 5.1972 | C17: 5.1654 | D17: 3.8 | E17: 3.7746
A18: 44585 | B18: 5.1972 | C18: 5.1567 | D18: 3.8 | E18: 3.7486
A19: 44586 | B19: 5.1972 | C19: 5.1538 | D19: 3.8 | E19: 3.74
A20: 44587 | B20: 5.1972 | C20: 5.1509 | D20: 3.8 | E20: 3.7313
A21: 44588 | B21: 5.1972 | C21: 5.148 | D21: 3.8 | E21: 3.7226
A22: 44589 | B22: 5.4174 | C22: 5.4174 | D22: 3.87 | E22: 3.8
A23: 44592 | B23: 5.7827 | C23: 5.736 | D23: 3.84 | E23: 4.2058
... A29: 44600 | B29: 5.7827 | C29: 5.7012 | D29: 3.84 | E29: 4.2215
A30: 44601 | B30: 5.7012 | C30: 5.6858 | D30: 4.2215
A31: 44602 | B31: 5.7012 | C31: 5.6704 | D31: 4.2215
A32: 44603 | B32: 5.6557 | C32: 5.6085 | D32: 4.2215
A33: 44606 | B33: 5.6557 | C33: 5.5613 | D33: 4.2215
A34: 44607 | B34: 5.6557 | C34: 5.5456 | D34: 4.2215
A35: 44608 | B35: 5.6557 | C35: 5.5299 | D35: 4.2215
A36: 44609 | B36: 5.6557 | C36: 5.5142 | D36: 4.2215
A37: 44610 | B37: 5.9086 | C37: 5.7438 | D37: 3.9789 | E37: 3.9922
A38: 44613 | B38: 5.9086 | C38: 5.6945 | D38: 3.9789 | E38: 3.9989
A39: 44614 | B39: 5.9086 | C39: 5.678 | D39: 3.9789 | E39: 4.0012
A40: 44615 | B40: 5.9086 | C40: 5.6616 | D40: 3.9789 | E40: 4.0034
A41: 44616 | B41: 5.9086 | C41: 5.6451 | D41: 3.9789 | E41: 4.0057
A42: 44617 | B42: 5.9086 | C42: 5.6287 | D42: 3.9789 | E42: 4.008
A43: 44622 | B43: 5.9086 | C43: 5.5465 | D43: 3.9789 | E43: 4.0192
A44: 44623 | B44: 5.9086 | C44: 5.5301 | D44: 3.9789 | E44: 4.0214
A45: 44624 | B45: 5.9086 | C45: 5.5136 | D45: 3.9789 | E45: 4.0236
A46: 44627 | B46: 5.9086 | C46: 5.4644 | D46: 3.9789 | E46: 4.0304
A47: 44628 | B47: 5.9086 | C47: 5.448 | D47: 3.9789 | E47: 4.0326
A48: 44629 | B48: 5.9086 | C48: 5.4316 | D48: 3.9789 | E48: 4.0348
... A69: 44658 | B69: 6.2798 | C69: 5.2069 | D69: 4.3272 | E69: 4.2752
A70: 44659 | B70: 6.0451 | C70: 6.0222 | D70: 4.2752
A71: 44662 | B71: 6.0451 | C71: 5.9534 | D71: 4.2803 | E71: 4.2902
A72: 44663 | B72: 6.0451 | C72: 5.9304 | D72: 4.2803 | E72: 4.2902
A73: 44664 | B73: 6.0451 | C73: 5.9075 | D73: 4.2803 | E73: 4.2902
A74: 44665 | B74: 6.0451 | C74: 5.8846 | D74: 4.2803 | E74: 4.2902
A75: 44669 | B75: 6.0451 | C75: 5.793 | D75: 4.2751 | E75: 4.2799
A76: 44670 | B76: 6.0451 | C76: 5.7701 | D76: 4.2751 | E76: 4.2799
A77: 44671 | B77: 6.0451 | C77: 5.7472 | D77: 4.2959 | E77: 4.3214
A78: 44673 | B78: 6.3513 | C78: 6.1116 | D78: 4.4102 | E78: 4.3118
A79: 44676 | B79: 6.4095 | C79: 6.1964 | D79: 4.4102 | E79: 4.3422
A80: 44677 | B80: 6.4095 | C80: 6.1845 | D80: 4.4102 | E80: 4.3422
A81: 44678 | B81: 6.4095 | C81: 6.1727 | D81: 4.4102 | E81: 4.3422
A82: 44679 | B82: 6.4095 | C82: 6.1609 | D82: 4.4102 | E82: 4.3422
... A90: 44691 | B90: 7.3652 | C90: 6.6005 | D90: 4.686 | E90: 4.6021
A91: 44692 | B91: 6.6005 | C91: 6.5997 | D91: 4.6021
A92: 44693 | B92: 6.6005 | C92: 6.599 | D92: 4.6021
A93: 44694 | B93: 6.9505 | C93: 6.9207 | D93: 4.6021
A94: 44697 | B94: 7.1639 | C94: 7.1175 | D94: 4.7794 | E94: 4.8944
A95: 44698 | B95: 7.1639 | C95: 7.1098 | D95: 4.7794 | E95: 4.8926
A96: 44699 | B96: 7.1639 | C96: 7.102 | D96: 4.7794 | E96: 4.8908
A97: 44700 | B97: 7.1639 | C97: 7.0943 | D97: 4.7794 | E97: 4.889
A98: 44701 | B98: 6.9085 | C98: 6.8315 | D98: 4.9886 | E98: 4.9886
A99: 44704 | B99: 6.9085 | C99: 6.8084 | D99: 4.9886 | E99: 4.9842
A100: 44705 | B100: 6.9085 | C100: 6.8007 | D100: 4.9886 | E100: 4.9806
A101: 44706 | B101: 6.9085 | C101: 6.793 | D101: 4.9886 | E101: 4.977
A102: 44707 | B102: 6.9085 | C102: 6.7853 | D102: 4.9886 | E102: 4.9734
A103: 44708 | B103: 6.9085 | C103: 6.7776 | D103: 5.031 | E103: 4.9698
A104: 44711 | B104: 6.9085 | C104: 6.7546 | D104: 4.9571 | E104: 4.9571
A105: 44712 | B105: 6.9085 | C105: 6.7469 | D105: 4.9571 | E105: 4.9553
... A111: 44720 | B111: 6.9085 | C111: 6.6853 | D111: 5.031 | E111: 4.9265
A112: 44721 | B112: 6.6853 | C112: 6.671 | D112: 4.9265
A113: 44722 | B113: 5.8149 | C113: 5.7902 | D113: 4.9782 | E113: 4.712
A114: 44725 | B114: 5.8149 | C114: 5.7532 | D114: 4.9782 | E114: 4.7028
A115: 44726 | B115: 5.8149 | C115: 5.7408 | D115: 4.9782 | E115: 4.6997
A116: 44727 | B116: 5.8149 | C116: 5.7285 | D116: 4.9782 | E116: 4.6967
A117: 44729 | B117: 5.8741 | C117: 5.727 | D117: 4.4579 | E117: 4.2307
A118: 44732 | B118: 5.8741 | C118: 5.6781 | D118: 4.4579 | E118: 4.2071
A119: 44733 | B119: 5.8741 | C119: 5.6618 | D119: 4.4579 | E119: 4.1992
A120: 44734 | B120: 5.8741 | C120: 5.6455 | D120: 4.4579 | E120: 4.1913
A121: 44735 | B121: 5.8741 | C121: 5.6291 | D121: 4.4579 | E121: 4.1835
A122: 44736 | B122: 5.8741 | C122: 5.6128 | D122: 4.4579 | E122: 4.2222
A123: 44739 | B123: 5.8741 | C123: 5.5639 | D123: 4.4579 | E123: 4.1986
A124: 44740 | B124: 5.8741 | C124: 5.5476 | D124: 4.4579 | E124: 4.1907
... A131: 44749 | B131: 5.8741 | C131: 5.401 | D131: 4.4579 | E131: 4.1717
A132: 44750 | B132: 5.401 | C132: 5.404 | D132: 4.1717
A133: 44753 | B133: 5.401 | C133: 5.4129 | D133: 4.1509 | E133: 3.9898
A134: 44754 | B134: 5.401 | C134: 5.4158 | D134: 4.1509 | E134: 3.982
A135: 44755 | B135: 5.401 | C135: 5.4188 | D135: 4.1509 | E135: 3.9742
A136: 44756 | B136: 5.401 | C136: 5.4217 | D136: 4.1509 | E136: 3.9664
A137: 44757 | B137: 5.401 | C137: 5.4247 | D137: 4.1509 | E137: 3.9587
A138: 44760 | B138: 4.4165 | C138: 4.8344 | D138: 4.1509 | E138: 3.9353
A139: 44761 | B139: 4.4165 | C139: 4.8724 | D139: 4.1509 | E139: 3.9275
A140: 44762 | B140: 4.4165 | C140: 4.9105 | D140: 4.1509 | E140: 3.9198
A141: 44763 | B141: 4.3881 | C141: 4.9546 | D141: 4.1509 | E141: 3.912
A142: 44764 | B142: 5.0633 | C142: 5.5274 | D142: 4.6974 | E142: 4.58
A143: 44767 | B143: 5.0633 | C143: 5.6204 | D143: 4.6974 | E143: 4.5566
...

Sheet Análises IPCA 12M Móvel
A1: Data | B1: Infl. 12 m suav. | C1: Infl. meses 13-24 suav.
A2: 44564 | B2: =IF(VLOOKUP(A2,'Mediana Hor Móv IPCA TOP 5 LP'!$A$2:$XFC$10000,MATCH(B$1,'Mediana Hor Móv IPCA TOP 5 LP'!$A$2:$XDF$2,0),FALSE)=0,NA(),VLOOKUP(A2,'Mediana Hor Móv IPCA TOP 5 LP'!$A$2:$XFC$10000,MATCH(B$1,'Mediana Hor Móv IPCA TOP 5 LP'!$A$2:$XDF$2,0),FALSE)) -> 5.0245 | C2: =IF(VLOOKUP(A2,'Mediana Hor Móv IPCA TOP 5 LP'!$A$2:$XFC$10000,MATCH(C$1,'Mediana Hor Móv IPCA TOP 5 LP'!$A$2:$XDF$2,0),FALSE)=0,NA(),VLOOKUP(A2,'Mediana Hor Móv IPCA TOP 5 LP'!$A$2:$XFC$10000,MATCH(C$1,'Mediana Hor Móv IPCA TOP 5 LP'!$A$2:$XDF$2,0),FALSE)) -> 3.6992
A3: 44565 | B3: =IF(VLOOKUP(A3,'Mediana Hor Móv IPCA TOP 5 LP'!$A$2:$XFC$10000,MATCH(B$1,'Mediana Hor Móv IPCA TOP 5 LP'!$A$2:$XDF$2,0),FALSE)=0,NA(),VLOOKUP(A3,'Mediana Hor Móv IPCA TOP 5 LP'!$A$2:$XFC$10000,MATCH(B$1,'Mediana Hor Móv IPCA TOP 5 LP'!$A$2:$XDF$2,0),FALSE)) -> 5.014 | C3: =IF(VLOOKUP(A3,'Mediana Hor Móv IPCA TOP 5 LP'!$A$2:$XFC$10000,MATCH(C$1,'Mediana Hor Móv IPCA TOP 5 LP'!$A$2:$XDF$2,0),FALSE)=0,NA(),VLOOKUP(A3,'Mediana Hor Móv IPCA TOP 5 LP'!$A$2:$XFC$10000,MATCH(C$1,'Mediana Hor Móv IPCA TOP 5 LP'!$A$2:$XDF$2,0),FALSE)) -> 3.7136
A4: 44566 | B4: =IF(VLOOKUP(A4,'Mediana Hor Móv IPCA TOP 5 LP'!$A$2:$XFC$10000,MATCH(B$1,'Mediana Hor Móv IPCA TOP 5 LP'!$A$2:$XDF$2,0),FALSE)=0,NA(),VLOOKUP(A4,'Mediana Hor Móv IPCA TOP 5 LP'!$A$2:$XFC$10000,MATCH(B$1,'Mediana Hor Móv IPCA TOP 5 LP'!$A$2:$XDF$2,0),FALSE)) -> 5.0036 | C4: =IF(VLOOKUP(A4,'Mediana Hor Móv IPCA TOP 5 LP'!$A$2:$XFC$10000,MATCH(C$1,'Mediana Hor Móv IPCA TOP 5 LP'!$A$2:$XDF$2,0),FALSE)=0,NA(),VLOOKUP(A4,'Mediana Hor Móv IPCA TOP 5 LP'!$A$2:$XFC$10000,MATCH(C$1,'Mediana Hor Móv IPCA TOP 5 LP'!$A$2:$XDF$2,0),FALSE)) -> 3.728
A5: 44567 | B5: =IF(VLOOKUP(A5,'Mediana Hor Móv IPCA TOP 5 LP'!$A$2:$XFC$10000,MATCH(B$1,'Mediana Hor Móv IPCA TOP 5 LP'!$A$2:$XDF$2,0),FALSE)=0,NA(),VLOOKUP(A5,'Mediana Hor Móv IPCA TOP 5 LP'!$A$2:$XFC$10000,MATCH(B$1,'Mediana Hor Móv IPCA TOP 5 LP'!$A$2:$XDF$2,0),FALSE)) -> 4.9931 | C5: =IF(VLOOKUP(A5,'Mediana Hor Móv IPCA TOP 5 LP'!$A$2:$XFC$10000,MATCH(C$1,'Mediana Hor Móv IPCA TOP 5 LP'!$A$2:$XDF$2,0),FALSE)=0,NA(),VLOOKUP(A5,'Mediana Hor Móv IPCA TOP 5 LP'!$A$2:$XFC$10000,MATCH(C$1,'Mediana Hor Móv IPCA TOP 5 LP'!$A$2:$XDF$2,0),FALSE)) -> 3.7424
A6: 44568 | B6: =IF(VLOOKUP(A6,'Mediana Hor Móv IPCA TOP 5 LP'!$A$2:$XFC$10000,MATCH(B$1,'Mediana Hor Móv IPCA TOP 5 LP'!$A$2:$XDF$2,0),FALSE)=0,NA(),VLOOKUP(A6,'Mediana Hor Móv IPCA TOP 5 LP'!$A$2:$XFC$10000,MATCH(B$1,'Mediana Hor Móv IPCA TOP 5 LP'!$A$2:$XDF$2,0),FALSE)) -> 5.0443 | C6: =IF(VLOOKUP(A6,'Mediana Hor Móv IPCA TOP 5 LP'!$A$2:$XFC$10000,MATCH(C$1,'Mediana Hor Móv IPCA TOP 5 LP'!$A$2:$XDF$2,0),FALSE)=0,NA(),VLOOKUP(A6,'Mediana Hor Móv IPCA TOP 5 LP'!$A$2:$XFC$10000,MATCH(C$1,'Mediana Hor Móv IPCA TOP 5 LP'!$A$2:$XDF$2,0),FALSE)) -> 3.7568
A7: 44571 | B7: =IF(VLOOKUP(A7,'Mediana Hor Móv IPCA TOP 5 LP'!$A$2:$XFC$10000,MATCH(B$1,'Mediana Hor Móv IPCA TOP 5 LP'!$A$2:$XDF$2,0),FALSE)=0,NA(),VLOOKUP(A7,'Mediana Hor Móv IPCA TOP 5 LP'!$A$2:$XFC$10000,MATCH(B$1,'Mediana Hor Móv IPCA TOP 5 LP'!$A$2:$XDF$2,0),FALSE)) -> 5.0249 | C7: =IF(VLOOKUP(A7,'Mediana Hor Móv IPCA TOP 5 LP'!$A$2:$XFC$10000,MATCH(C$1,'Mediana Hor Móv IPCA TOP 5 LP'!$A$2:$XDF$2,0),FALSE)=0,NA(),VLOOKUP(A7,'Mediana Hor Móv IPCA TOP 5 LP'!$A$2:$XFC$10000,MATCH(C$1,'Mediana Hor Móv IPCA TOP 5 LP'!$A$2:$XDF$2,0),FALSE)) -> 3.8
A8: 44572 | B8: =IF(VLOOKUP(A8,'Mediana Hor Móv IPCA TOP 5 LP'!$A$2:$XFC$10000,MATCH(B$1,'Mediana Hor Móv IPCA TOP 5 LP'!$A$2:$XDF$2,0),FALSE)=0,NA(),VLOOKUP(A8,'Mediana Hor Móv IPCA TOP 5 LP'!$A$2:$XFC$10000,MATCH(B$1,'Mediana Hor Móv IPCA TOP 5 LP'!$A$2:$XDF$2,0),FALSE)) -> 5.0166 | C8: =IF(VLOOKUP(A8,'Mediana Hor Móv IPCA TOP 5 LP'!$A$2:$XFC$10000,MATCH(C$1,'Mediana Hor Móv IPCA TOP 5 LP'!$A$2:$XDF$2,0),FALSE)=0,NA(),VLOOKUP(A8,'Mediana Hor Móv IPCA TOP 5 LP'!$A$2:$XFC$10000,MATCH(C$1,'Mediana Hor Móv IPCA TOP 5 LP'!$A$2:$XDF$2,0),FALSE)) -> #N/A
A9: 44573 | B9: =IF(VLOOKUP(A9,'Mediana Hor Móv IPCA TOP 5 LP'!$A$2:$XFC$10000,MATCH(B$1,'Mediana Hor Móv IPCA TOP 5 LP'!$A$2:$XDF$2,0),FALSE)=0,NA(),VLOOKUP(A9,'Mediana Hor Móv IPCA TOP 5 LP'!$A$2:$XFC$10000,MATCH(B$1,'Mediana Hor Móv IPCA TOP 5 LP'!$A$2:$XDF$2,0),FALSE)) -> 5.0083 | C9: =IF(VLOOKUP(A9,'Mediana Hor Móv IPCA TOP 5 LP'!$A$2:$XFC$10000,MATCH(C$1,'Mediana Hor Móv IPCA TOP 5 LP'!$A$2:$XDF$2,0),FALSE)=0,NA(),VLOOKUP(A9,'Mediana Hor Móv IPCA TOP 5 LP'!$A$2:$XFC$10000,MATCH(C$1,'Mediana Hor Móv IPCA TOP 5 LP'!$A$2:$XDF$2,0),FALSE)) -> #N/A
A10: 44574 | B10: =IF(VLOOKUP(A10,'Mediana Hor Móv IPCA TOP 5 LP'!$A$2:$XFC$10000,MATCH(B$1,'Mediana Hor Móv IPCA TOP 5 LP'!$A$2:$XDF$2,0),FALSE)=0,NA(),VLOOKUP(A10,'Mediana Hor Móv IPCA TOP 5 LP'!$A$2:$XFC$10000,MATCH(B$1,'Mediana Hor Móv IPCA TOP 5 LP'!$A$2:$XDF$2,0),FALSE)) -> 4.8354 | C10: =IF(VLOOKUP(A10,'Mediana Hor Móv IPCA TOP 5 LP'!$A$2:$XFC$10000,MATCH(C$1,'Mediana Hor Móv IPCA TOP 5 LP'!$A$2:$XDF$2,0),FALSE)=0,NA(),VLOOKUP(A10,'Mediana Hor Móv IPCA TOP 5 LP'!$A$2:$XFC$10000,MATCH(C$1,'Mediana Hor Móv IPCA TOP 5 LP'!$A$2:$XDF$2,0),FALSE)) -> #N/A
A11: 44575 | B11: =IF(VLOOKUP(A11,'Mediana Hor Móv IPCA TOP 5 LP'!$A$2:$XFC$10000,MATCH(B$1,'Mediana Hor Móv IPCA TOP 5 LP'!$A$2:$XDF$2,0),FALSE)=0,NA(),VLOOKUP(A11,'Mediana Hor Móv IPCA TOP 5 LP'!$A$2:$XFC$10000,MATCH(B$1,'Mediana Hor Móv IPCA TOP 5 LP'!$A$2:$XDF$2,0),FALSE)) -> 5.0073 | C11: =IF(VLOOKUP(A11,'Mediana Hor Móv IPCA TOP 5 LP'!$A$2:$XFC$10000,MATCH(C$1,'Mediana Hor Móv IPCA TOP 5 LP'!$A$2:$XDF$2,0),FALSE)=0,NA(),VLOOKUP(A11,'Mediana Hor Móv IPCA TOP 5 LP'!$A$2:$XFC$10000,MATCH(C$1,'Mediana Hor Móv IPCA TOP 5 LP'!$A$2:$XDF$2,0),FALSE)) -> 4.0938
A12: 44578 | B12: =IF(VLOOKUP(A12,'Mediana Hor Móv IPCA TOP 5 LP'!$A$2:$XFC$10000,MATCH(B$1,'Mediana Hor Móv IPCA TOP 5 LP'!$A$2:$XDF$2,0),FALSE)=0,NA(),VLOOKUP(A12,'Mediana Hor Móv IPCA TOP 5 LP'!$A$2:$XFC$10000,MATCH(B$1,'Mediana Hor Móv IPCA TOP 5 LP'!$A$2:$XDF$2,0),FALSE)) -> 4.9921 | C12: =IF(VLOOKUP(A12,'Mediana Hor Móv IPCA TOP 5 LP'!$A$2:$XFC$10000,MATCH(C$1,'Mediana Hor Móv IPCA TOP 5 LP'!$A$2:$XDF$2,0),FALSE)=0,NA(),VLOOKUP(A12,'Mediana Hor Móv IPCA TOP 5 LP'!$A$2:$XFC$10000,MATCH(C$1,'Mediana Hor Móv IPCA TOP 5 LP'!$A$2:$XDF$2,0),FALSE)) -> 4.0938
A13: 44579 | B13: =IF(VLOOKUP(A13,'Mediana Hor Móv IPCA TOP 5 LP'!$A$2:$XFC$10000,MATCH(B$1,'Mediana Hor Móv IPCA TOP 5 LP'!$A$2:$XDF$2,0),FALSE)=0,NA(),VLOOKUP(A13,'Mediana Hor Móv IPCA TOP 5 LP'!$A$2:$XFC$10000,MATCH(B$1,'Mediana Hor Móv IPCA TOP 5 LP'!$A$2:$XDF$2,0),FALSE)) -> 5.0955 | C13: =IF(VLOOKUP(A13,'Mediana Hor Móv IPCA TOP 5 LP'!$A$2:$XFC$10000,MATCH(C$1,'Mediana Hor Móv IPCA TOP 5 LP'!$A$2:$XDF$2,0),FALSE)=0,NA(),VLOOKUP(A13,'Mediana Hor Móv IPCA TOP 5 LP'!$A$2:$XFC$10000,MATCH(C$1,'Mediana Hor Móv IPCA TOP 5 LP'!$A$2:$XDF$2,0),FALSE)) -> 3.496
... A337: 45051 | B337: =IF(VLOOKUP(A337,'Mediana Hor Móv IPCA TOP 5 LP'!$A$2:$XFC$10000,MATCH(B$1,'Mediana Hor Móv IPCA TOP 5 LP'!$A$2:$XDF$2,0),FALSE)=0,NA(),VLOOKUP(A337,'Mediana Hor Móv IPCA TOP 5 LP'!$A$2:$XFC$10000,MATCH(B$1,'Mediana Hor Móv IPCA TOP 5 LP'!$A$2:$XDF$2,0),FALSE)) -> 4.9475 | C337: =IF(VLOOKUP(A337,'Mediana Hor Móv IPCA TOP 5 LP'!$A$2:$XFC$10000,MATCH(C$1,'Mediana Hor Móv IPCA TOP 5 LP'!$A$2:$XDF$2,0),FALSE)=0,NA(),VLOOKUP(A337,'Mediana Hor Móv IPCA TOP 5 LP'!$A$2:$XFC$10000,MATCH(C$1,'Mediana Hor Móv IPCA TOP 5 LP'!$A$2:$XDF$2,0),FALSE)) -> 4.2432

Sheet Hist Selic Meta
B1: Reunião | E1: Período de vigência | F1: Meta SELIC | G1: TBAN | H1: Taxa SELIC | L1: https://www.bcb.gov.br/controleinflacao/historicotaxasjuros
F2: % a.a. | G2: % a.m.
A3: Código SGE | B3: nº | C3: data | D3: viés | F3: (1)(6) | G3: (2)(6) | H3: % (3) | I3: % a.a.(4)
A4: ="3R/"&YEAR(C4) -> 3R/2023 | B4: 254º | C4: 45049 | E4: 04/05/2023 - | F4: 13.75
A5: ="2R/"&YEAR(C5) -> 2R/2023 | B5: 253º | C5: 45007 | E5: 23/03/2023 - 03/05/2023 | F5: 13.75 | H5: 1.38 | I5: 13.65
A6: ="1R/"&YEAR(C6) -> 1R/2023 | B6: 252º | C6: 44958 | E6: 02/02/2023 - 22/03/2023 | F6: 13.75 | H6: 1.69 | I6: 13.65
A7: ="8R/"&YEAR(C7) -> 8R/2022 | B7: 251º | C7: 44902 | E7: 08/12/2022 - 01/02/2023 | F7: 13.75 | H7: 2.05 | I7: 13.65
A8: ="7R/"&YEAR(C8) -> 7R/2022 | B8: 250º | C8: 44860 | E8: 27/10/2022 - 07/12/2022 | F8: 13.75 | H8: 1.43 | I8: 13.65
A9: ="6R/"&YEAR(C9) -> 6R/2022 | B9: 249º | C9: 44825 | E9: 22/09/2022 - 26/10/2022 | F9: 13.75 | H9: 1.23 | I9: 13.65
A10: ="5R/"&YEAR(C10) -> 5R/2022 | B10: 248º | C10: 44776 | E10: 04/08/2022 - 21/09/2022 | F10: 13.75 | H10: 1.74 | I10: 13.65
A11: ="4R/"&YEAR(C11) -> 4R/2022 | B11: 247º | C11: 44727 | E11: 17/06/2022 - 03/08/2022 | F11: 13.25 | H11: 1.68 | I11: 13.15
A12: ="3R/"&YEAR(C12) -> 3R/2022 | B12: 246º | C12: 44685 | E12: 05/05/2022 - 16/06/2022 | F12: 12.75 | H12: 1.43 | I12: 12.65
A13: ="2R/"&YEAR(C13) -> 2R/2022 | B13: 245º | C13: 44636 | E13: 17/03/2022 - 04/05/2022 | F13: 11.75 | H13: 1.45 | I13: 11.65
A14: ="1R/"&YEAR(C14) -> 1R/2022 | B14: 244º | C14: 44594 | E14: 03/02/2022 - 16/03/2022 | F14: 10.75 | H14: 1.13 | I14: 10.65
A15: ="8R/"&YEAR(C15) -> 8R/2021 | B15: 243º | C15: 44538 | E15: 09/12/2021 - 02/02/2022 | F15: 9.25 | H15: 1.4 | I15: 9.15
A16: ="7R/"&YEAR(C16) -> 7R/2021 | B16: 242º | C16: 44496 | E16: 28/10/2021 - 08/12/2021 | F16: 7.75 | H16: 0.82 | I16: 7.65
A17: ="6R/"&YEAR(C17) -> 6R/2021 | B17: 241º | C17: 44461 | E17: 23/09/2021 - 27/10/2021 | F17: 6.25 | H17: 0.57 | I17: 6.15
A18: ="5R/"&YEAR(C18) -> 5R/2021 | B18: 240º | C18: 44412 | E18: 05/08/2021 - 22/09/2021 | F18: 5.25 | H18: 0.68 | I18: 5.15
A19: ="4R/"&YEAR(C19) -> 4R/2021 | B19: 239º | C19: 44363 | E19: 17/06/2021 - 04/08/2021 | F19: 4.25 | H19: 0.57 | I19: 4.15
A20: ="3R/"&YEAR(C20) -> 3R/2021 | B20: 238º | C20: 44321 | E20: 06/05/2021 - 16/06/2021 | F20: 3.5 | H20: 0.39 | I20: 3.4
A21: ="2R/"&YEAR(C21) -> 2R/2021 | B21: 237º | C21: 44272 | E21: 18/03/2021 - 05/05/2021 | F21: 2.75 | H21: 0.34 | I21: 2.65
A22: ="1R/"&YEAR(C22) -> 1R/2021 | B22: 236º | C22: 44216 | E22: 21/01/2021 - 17/03/2021 | F22: 2 | H22: 0.28 | I22: 1.9
A23: ="8R/"&YEAR(C23) -> 8R/2020 | B23: 235º | C23: 44174 | E23: 10/12/2020 - 20/01/2021 | F23: 2 | H23: 0.21 | I23: 1.9
A24: ="7R/"&YEAR(C24) -> 7R/2020 | B24: 234º | C24: 44132 | E24: 29/10/2020 - 09/12/2020 | F24: 2 | H24: 0.22 | I24: 1.9
A25: ="6R/"&YEAR(C25) -> 6R/2020 | B25: 233º | C25: 44090 | E25: 17/09/2020 - 28/10/2020 | F25: 2 | H25: 0.22 | I25: 1.9
A26: ="5R/"&YEAR(C26) -> 5R/2020 | B26: 232º | C26: 44048 | E26: 06/08/2020 - 16/09/2020 | F26: 2 | H26: 0.22 | I26: 1.9
A27: ="4R/"&YEAR(C27) -> 4R/2020 | B27: 231º | C27: 43999 | E27: 18/06/2020 - 05/08/2020 | F27: 2.25 | H27: 0.3 | I27: 2.15
A28: ="3R/"&YEAR(C28) -> 3R/2020 | B28: 230º | C28: 43957 | E28: 07/05/2020 - 17/06/2020 | F28: 3 | H28: 0.32 | I28: 2.9
A29: ="2R/"&YEAR(C29) -> 2R/2020 | B29: 229º | C29: 43908 | E29: 19/03/2020 - 06/05/2020 | F29: 3.75 | H29: 0.46 | I29: 3.65
A30: ="1R/"&YEAR(C30) -> 1R/2020 | B30: 228º | C30: 43866 | E30: 06/02/2020 - 18/03/2020 | F30: 4.25 | H30: 0.45 | I30: 4.15
A31: ="8R/"&YEAR(C31) -> 8R/2019 | B31: 227º | C31: 43810 | E31: 12/12/2019 - 05/02/2020 | F31: 4.5 | H31: 0.65 | I31: 4.4
A32: ="7R/"&YEAR(C32) -> 7R/2019 | B32: 226º | C32: 43768 | E32: 31/10/2019 - 11/12/2019 | F32: 5 | H32: 0.55 | I32: 4.9
A33: ="6R/"&YEAR(C33) -> 6R/2019 | B33: 225º | C33: 43726 | E33: 19/09/2019 - 30/10/2019 | F33: 5.5 | H33: 0.63 | I33: 5.4
A34: ="5R/"&YEAR(C34) -> 5R/2019 | B34: 224º | C34: 43677 | E34: 01/08/2019 - 18/09/2019 | F34: 6 | H34: 0.8 | I34: 5.9
A35: ="4R/"&YEAR(C35) -> 4R/2019 | B35: 223º | C35: 43635 | E35: 21/06/2019 - 31/07/2019 | F35: 6.5 | H35: 0.72 | I35: 6.4
A36: ="3R/"&YEAR(C36) -> 3R/2019 | B36: 222º | C36: 43593 | E36: 09/05/2019 - 20/06/2019 | F36: 6.5 | H36: 0.74 | I36: 6.4
A37: ="2R/"&YEAR(C37) -> 2R/2019 | B37: 221º | C37: 43544 | E37: 21/03/2019 - 08/05/2019 | F37: 6.5 | H37: 0.82 | I37: 6.4
A38: ="1R/"&YEAR(C38) -> 1R/2019 | B38: 220º | C38: 43502 | E38: 07/02/2019 - 20/03/2019 | F38: 6.5 | H38: 0.69 | I38: 6.4
A39: ="8R/"&YEAR(C39) -> 8R/2018 | B39: 219º | C39: 43446 | E39: 13/12/2018 - 06/02/2019 | F39: 6.5 | H39: 0.94 | I39: 6.4
A40: ="7R/"&YEAR(C40) -> 7R/2018 | B40: 218º | C40: 43404 | E40: 01/11/2018 - 12/12/2018 | F40: 6.5 | H40: 0.69 | I40: 6.4
A41: ="6R/"&YEAR(C41) -> 6R/2018 | B41: 217º | C41: 43362 | E41: 20/09/2018 - 31/10/2018 | F41: 6.5 | H41: 0.72 | I41: 6.4
A42: ="5R/"&YEAR(C42) -> 5R/2018 | B42: 216º | C42: 43313 | E42: 02/08/2018 - 19/09/2018 | F42: 6.5 | H42: 0.84 | I42: 6.4
A43: ="4R/"&YEAR(C43) -> 4R/2018 | B43: 215º | C43: 43271 | E43: 21/06/2018 - 01/08/2018 | F43: 6.5 | H43: 0.74 | I43: 6.4
A44: ="3R/"&YEAR(C44) -> 3R/2018 | B44: 214º | C44: 43236 | E44: 17/05/2018 - 20/06/2018 | F44: 6.5 | H44: 0.59 | I44: 6.4
A45: ="2R/"&YEAR(C45) -> 2R/2018 | B45: 213º | C45: 43180 | E45: 22/03/2018 - 16/05/2018 | F45: 6.5 | H45: 0.94 | I45: 6.4
A46: ="1R/"&YEAR(C46) -> 1R/2018 | B46: 212º | C46: 43138 | E46: 08/02/2018 - 21/03/2018 | F46: 6.75 | H46: 0.72 | I46: 6.65
A47: ="8R/"&YEAR(C47) -> 8R/2017 | B47: 211º | C47: 43075 | E47: 07/12/2017 - 07/02/2018 | F47: 7 | H47: 1.15 | I47: 6.9
A48: ="7R/"&YEAR(C48) -> 7R/2017 | B48: 210º | C48: 43033 | E48: 26/10/2017 - 06/12/2017 | F48: 7.5 | H48: 0.8 | I48: 7.4
A49: ="6R/"&YEAR(C49) -> 6R/2017 | B49: 209º | C49: 42984 | E49: 08/09/2017 - 25/10/2017 | F49: 8.25 | H49: 1.03 | I49: 8.15
A50: ="5R/"&YEAR(C50) -> 5R/2017 | B50: 208º | C50: 42942 | E50: 27/07/2017 - 06/09/2017 | F50: 9.25 | H50: 1.05 | I50: 9.15
A51: ="4R/"&YEAR(C51) -> 4R/2017 | B51: 207º | C51: 42886 | E51: 01/06/2017 - 26/07/2017 | F51: 10.25 | H51: 1.51 | I51: 10.15
A52: ="3R/"&YEAR(C52) -> 3R/2017 | B52: 206º | C52: 42837 | E52: 13/04/2017 - 31/05/2017 | F52: 11.25 | H52: 1.35 | I52: 11.15
A53: ="2R/"&YEAR(C53) -> 2R/2017 | B53: 205º | C53: 42788 | E53: 23/02/2017 - 12/04/2017 | F53: 12.25 | H53: 1.51 | I53: 12.15
A54: ="1R/"&YEAR(C54) -> 1R/2017 | B54: 204º | C54: 42746 | E54: 12/01/2017 - 22/02/2017 | F54: 13 | H54: 1.45 | I54: 12.9
A55: ="8R/"&YEAR(C55) -> 8R/2016 | B55: 203º | C55: 42704 | E55: 01/12/2016 - 11/01/2017 | F55: 13.75 | H55: 1.53 | I55: 13.65
A56: ="7R/"&YEAR(C56) -> 7R/2016 | B56: 202º | C56: 42662 | E56: 20/10/2016 - 30/11/2016 | F56: 14 | H56: 1.46 | I56: 13.9
A57: ="6R/"&YEAR(C57) -> 6R/2016 | B57: 201º | C57: 42613 | E57: 01/09/2016 - 19/10/2016 | F57: 14.25 | H57: 1.75 | I57: 14.15
A58: ="5R/"&YEAR(C58) -> 5R/2016 | B58: 200º | C58: 42571 | E58: 21/07/2016 - 31/08/2016 | F58: 14.25 | H58: 1.59 | I58: 14.15
A59: ="4R/"&YEAR(C59) -> 4R/2016 | B59: 199º | C59: 42529 | E59: 09/06/2016 - 20/07/2016 | F59: 14.25 | H59: 1.59 | I59: 14.15
A60: ="3R/"&YEAR(C60) -> 3R/2016 | B60: 198º | C60: 42487 | E60: 28/04/2016 - 08/06/2016 | F60: 14.25 | H60: 1.53 | I60: 14.15
A61: ="2R/"&YEAR(C61) -> 2R/2016 | B61: 197º | C61: 42431 | E61: 03/03/2016 - 27/04/2016 | F61: 14.25 | H61: 2.02 | I61: 14.15
A62: ="1R/"&YEAR(C62) -> 1R/2016 | B62: 196º | C62: 42389 | E62: 21/01/2016 - 02/03/2016 | F62: 14.25 | H62: 1.48 | I62: 14.15
A63: ="8R/"&YEAR(C63) -> 8R/2015 | B63: 195º | C63: 42333 | E63: 26/11/2015 - 20/01/2016 | F63: 14.25 | H63: 2.02 | I63: 14.15
A64: ="7R/"&YEAR(C64) -> 7R/2015 | B64: 194º | C64: 42298 | E64: 22/10/2015 - 25/11/2015 | F64: 14.25 | H64: 1.27 | I64: 14.15
A65: ="6R/"&YEAR(C65) -> 6R/2015 | B65: 193º | C65: 42249 | E65: 03/09/2015 - 21/10/2015 | F65: 14.25 | H65: 1.75 | I65: 14.15
A66: ="5R/"&YEAR(C66) -> 5R/2015 | B66: 192º | C66: 42214 | E66: 30/07/2015 - 02/09/2015 | F66: 14.25 | H66: 1.32 | I66: 14.15
A67: ="4R/"&YEAR(C67) -> 4R/2015 | B67: 191º | C67: 42158 | E67: 04/06/2015 - 29/07/2015 | F67: 13.75 | H67: 2 | I67: 13.65
A68: ="3R/"&YEAR(C68) -> 3R/2015 | B68: 190º | C68: 42123 | E68: 30/04/2015 - 03/06/2015 | F68: 13.25 | H68: 1.18 | I68: 13.15
A69: ="2R/"&YEAR(C69) -> 2R/2015 | B69: 189º | C69: 42067 | E69: 05/03/2015 - 29/04/2015 | F69: 12.75 | H69: 1.81 | I69: 12.65
A70: ="1R/"&YEAR(C70) -> 1R/2015 | B70: 188º | C70: 42025 | E70: 22/01/2015 - 04/03/2015 | F70: 12.25 | H70: 1.28 | I70: 12.15
A71: ="8R/"&YEAR(C71) -> 8R/2014 | B71: 187º | C71: 41976 | E71: 04/12/2014 - 21/01/2015 | F71: 11.75 | H71: 1.45 | I71: 11.65
A72: ="7R/"&YEAR(C72) -> 7R/2014 | B72: 186º | C72: 41941 | E72: 30/10/2014 - 03/12/2014 | F72: 11.25 | H72: 1.05 | I72: 11.15
A73: ="6R/"&YEAR(C73) -> 6R/2014 | B73: 185º | C73: 41885 | E73: 04/09/2014 - 29/10/2014 | F73: 11 | H73: 1.66 | I73: 10.9
A74: ="5R/"&YEAR(C74) -> 5R/2014 | B74: 184º | C74: 41836 | E74: 17/07/2014 - 03/09/2014 | F74: 11 | H74: 1.45 | I74: 10.9
A75: ="4R/"&YEAR(C75) -> 4R/2014 | B75: 183º | C75: 41787 | E75: 29/05/2014 - 16/07/2014 | F75: 11 | H75: 1.41 | I75: 10.9
A76: ="3R/"&YEAR(C76) -> 3R/2014 | B76: 182º | C76: 41731 | E76: 03/04/2014 - 28/05/2014 | F76: 11 | H76: 1.53 | I76: 10.9
A77: ="2R/"&YEAR(C77) -> 2R/2014 | B77: 181º | C77: 41696 | E77: 27/02/2014 - 02/04/2014 | F77: 10.75 | H77: 0.93 | I77: 10.65
A78: ="1R/"&YEAR(C78) -> 1R/2014 | B78: 180º | C78: 41654 | E78: 16/01/2014 - 26/02/2014 | F78: 10.5 | H78: 1.18 | I78: 10.4
A79: ="8R/"&YEAR(C79) -> 8R/2013 | B79: 179º | C79: 41605 | E79: 28/11/2013 - 15/01/2014 | F79: 10 | H79: 1.24 | I79: 9.9
A80: ="7R/"&YEAR(C80) -> 7R/2013 | B80: 178º | C80: 41556 | E80: 10/10/2013 - 27/11/2013 | F80: 9.5 | H80: 1.22 | I80: 9.4
A81: ="6R/"&YEAR(C81) -> 6R/2013 | B81: 177º | C81: 41514 | E81: 29/08/2013 - 09/10/2013 | F81: 9 | H81: 1.02 | I81: 8.9
A82: ="5R/"&YEAR(C82) -> 5R/2013 | B82: 176º | C82: 41465 | E82: 11/07/2013 - 28/08/2013 | F82: 8.5 | H82: 1.13 | I82: 8.4
A83: ="4R/"&YEAR(C83) -> 4R/2013 | B83: 175º | C83: 41423 | E83: 30/05/2013 - 10/07/2013 | F83: 8 | H83: 0.88 | I83: 7.9
A84: ="3R/"&YEAR(C84) -> 3R/2013 | B84: 174º | C84: 41381 | E84: 18/04/2013 - 29/05/2013 | F84: 7.5 | H84: 0.82 | I84: 7.4
A85: ="2R/"&YEAR(C85) -> 2R/2013 | B85: 173º | C85: 41339 | E85: 07/03/2013 - 17/04/2013 | F85: 7.25 | H85: 0.8 | I85: 7.16
A86: ="1R/"&YEAR(C86) -> 1R/2013 | B86: 172º | C86: 41290 | E86: 17/01/2013 - 06/03/2013 | F86: 7.25 | H86: 0.9 | I86: 7.12
A87: ="8R/"&YEAR(C87) -> 8R/2012 | B87: 171º | C87: 41241 | E87: 29/11/2012 - 16/01/2013 | F87: 7.25 | H87: 0.91 | I87: 7.14
A88: ="7R/"&YEAR(C88) -> 7R/2012 | B88: 170º | C88: 41192 | E88: 11/10/2012 - 28/11/2012 | F88: 7.25 | H88: 0.88 | I88: 7.14
A89: ="6R/"&YEAR(C89) -> 6R/2012 | B89: 169º | C89: 41150 | E89: 30/08/2012 - 10/10/2012 | F89: 7.5 | H89: 0.82 | I89: 7.39
A90: ="5R/"&YEAR(C90) -> 5R/2012 | B90: 168º | C90: 41101 | E90: 12/07/2012 - 29/08/2012 | F90: 8 | H90: 1.06 | I90: 7.89
A91: ="4R/"&YEAR(C91) -> 4R/2012 | B91: 167º | C91: 41059 | E91: 31/05/2012 - 11/07/2012 | F91: 8.5 | H91: 0.93 | I91: 8.39
A92: ="3R/"&YEAR(C92) -> 3R/2012 | B92: 166º | C92: 41017 | E92: 19/04/2012 - 30/05/2012 | F92: 9 | H92: 0.99 | I92: 8.9
A93: ="2R/"&YEAR(C93) -> 2R/2012 | B93: 165º | C93: 40975 | E93: 08/03/2012 - 18/04/2012 | F93: 9.75 | H93: 1.07 | I93: 9.65
A94: ="1R/"&YEAR(C94) -> 1R/2012 | B94: 164º | C94: 40926 | E94: 19/01/2012 - 07/03/2012 | F94: 10.5 | H94: 1.3 | I94: 10.4
A95: ="8R/"&YEAR(C95) -> 8R/2011 | B95: 163º | C95: 40877 | E95: 01/12/2011 - 18/01/2012 | F95: 11 | H95: 1.45 | I95: 10.9
A96: ="7R/"&YEAR(C96) -> 7R/2011 | B96: 162º | C96: 40835 | E96: 20/10/2011 - 30/11/2011 | F96: 11.5 | H96: 1.21 | I96: 11.4
A97: ="6R/"&YEAR(C97) -> 6R/2011 | B97: 161º | C97: 40786 | E97: 01/09/2011 - 19/10/2011 | F97: 12 | H97: 1.48 | I97: 11.9
A98: ="5R/"&YEAR(C98) -> 5R/2011 | B98: 160º | C98: 40744 | E98: 21/07/2011 - 31/08/2011 | F98: 12.5 | H98: 1.4 | I98: 12.42
A99: ="4R/"&YEAR(C99) -> 4R/2011 | B99: 159º | C99: 40702 | E99: 09/06/2011 - 20/07/2011 | F99: 12.25 | H99: 1.33 | I99: 12.17
A100: ="3R/"&YEAR(C100) -> 3R/2011 | B100: 158º | C100: 40653 | E100: 21/04/2011 - 08/06/2011 | F100: 12 | H100: 1.49 | I100: 11.92
...

Sheet Mediana Reunião Selic 30D
A1: Selic - % a.a - Mediana - Período de 01/01/2020 a 11/05/2023 - Base: Expectativas informadas nos últimos 30 dias
A2: Data | B2: 1R/2020 | C2: 2R/2020 | D2: 3R/2020 | E2: 4R/2020 | F2: 5R/2020 | G2: 6R/2020 | H2: 7R/2020 | I2: 8R/2020 | J2: 1R/2021 | K2: 2R/2021 | L2: 3R/2021 | M2: 4R/2021 | N2: 5R/2021 | O2: 6R/2021 | P2: 7R/2021 | Q2: 8R/2021 | R2: 1R/2022 | S2: 2R/2022 | T2: 3R/2022 | U2: 4R/2022 | V2: 5R/2022 | W2: 6R/2022 | X2: 7R/2022 | Y2: 8R/2022 | Z2: 1R/2023 | AA2: 2R/2023 | AB2: 3R/2023 | AC2: 4R/2023 | AD2: 5R/2023 | AE2: 6R/2023 | AF2: 7R/2023 | AG2: 8R/2023 | AH2: 1R/2024 | AI2: 2R/2024 | AJ2: 3R/2024 | AK2: 4R/2024 | AL2: 5R/2024 | AM2: 6R/2024 | AN2: 7R/2024 | AO2: 8R/2024 | AP2: 1R/2025 | AQ2: 2R/2025 | AR2: 3R/2025
A3: 43832 | B3: 4.25 | C3: 4.25 | D3: 4.25 | E3: 4.25 | F3: 4.25 | G3: 4.25 | H3: 4.5 | I3: 4.5 | J3: 4.5 | K3: 5 | L3: 5.25 | M3: 5.25
A4: 43833 | B4: 4.25 | C4: 4.25 | D4: 4.25 | E4: 4.25 | F4: 4.25 | G4: 4.25 | H4: 4.5 | I4: 4.5 | J4: 4.5 | K4: 5 | L4: 5.25 | M4: 5.25
A5: 43836 | B5: 4.25 | C5: 4.25 | D5: 4.25 | E5: 4.25 | F5: 4.25 | G5: 4.25 | H5: 4.5 | I5: 4.5 | J5: 4.5 | K5: 4.75 | L5: 5 | M5: 5.25
A6: 43837 | B6: 4.25 | C6: 4.25 | D6: 4.25 | E6: 4.25 | F6: 4.25 | G6: 4.25 | H6: 4.38 | I6: 4.5 | J6: 4.5 | K6: 4.75 | L6: 5 | M6: 5.25
A7: 43838 | B7: 4.25 | C7: 4.25 | D7: 4.25 | E7: 4.25 | F7: 4.25 | G7: 4.25 | H7: 4.38 | I7: 4.5 | J7: 4.5 | K7: 4.75 | L7: 5 | M7: 5.25
A8: 43839 | B8: 4.25 | C8: 4.25 | D8: 4.25 | E8: 4.25 | F8: 4.25 | G8: 4.25 | H8: 4.38 | I8: 4.5 | J8: 4.5 | K8: 4.75 | L8: 5 | M8: 5.25
A9: 43840 | B9: 4.25 | C9: 4.25 | D9: 4.25 | E9: 4.25 | F9: 4.25 | G9: 4.25 | H9: 4.5 | I9: 4.5 | J9: 4.5 | K9: 4.75 | L9: 5 | M9: 5.25
A10: 43843 | B10: 4.25 | C10: 4.25 | D10: 4.25 | E10: 4.25 | F10: 4.25 | G10: 4.25 | H10: 4.38 | I10: 4.5 | J10: 4.5 | K10: 4.75 | L10: 5 | M10: 5.25
A11: 43844 | B11: 4.25 | C11: 4.25 | D11: 4.25 | E11: 4.25 | F11: 4.25 | G11: 4.25 | H11: 4.25 | I11: 4.5 | J11: 4.5 | K11: 4.75 | L11: 5 | M11: 5.25
A12: 43845 | B12: 4.25 | C12: 4.25 | D12: 4.25 | E12: 4.25 | F12: 4.25 | G12: 4.25 | H12: 4.25 | I12: 4.5 | J12: 4.5 | K12: 4.75 | L12: 5 | M12: 5.25
A13: 43846 | B13: 4.25 | C13: 4.25 | D13: 4.25 | E13: 4.25 | F13: 4.25 | G13: 4.25 | H13: 4.25 | I13: 4.5 | J13: 4.5 | K13: 4.75 | L13: 5 | M13: 5.25
A14: 43847 | B14: 4.25 | C14: 4.25 | D14: 4.25 | E14: 4.25 | F14: 4.25 | G14: 4.25 | H14: 4.38 | I14: 4.5 | J14: 4.5 | K14: 4.75 | L14: 5 | M14: 5.25
... A27: 43866 | B27: 4.25 | C27: 4.25 | D27: 4.25 | E27: 4.25 | F27: 4.25 | G27: 4.25 | H27: 4.25 | I27: 4.25 | J27: 4.25 | K27: 4.75 | L27: 5.25 | M27: 5.5
A28: 43867 | C28: 4.25 | D28: 4.25 | E28: 4.25 | F28: 4.25 | G28: 4.25 | H28: 4.25 | I28: 4.25 | J28: 4.5 | K28: 4.75 | L28: 5.25 | M28: 5.5 | N28: 6
A29: 43868 | C29: 4.25 | D29: 4.25 | E29: 4.25 | F29: 4.25 | G29: 4.25 | H29: 4.25 | I29: 4.25 | J29: 4.25 | K29: 4.75 | L29: 5.25 | M29: 5.25 | N29: 5.25
A30: 43871 | C30: 4.25 | D30: 4.25 | E30: 4.25 | F30: 4.25 | G30: 4.25 | H30: 4.25 | I30: 4.25 | J30: 4.25 | K30: 4.75 | L30: 5 | M30: 5.25 | N30: 5.25
A31: 43872 | C31: 4.25 | D31: 4.25 | E31: 4.25 | F31: 4.25 | G31: 4.25 | H31: 4.25 | I31: 4.25 | J31: 4.25 | K31: 4.75 | L31: 5 | M31: 5.25 | N31: 5.38
A32: 43873 | C32: 4.25 | D32: 4.25 | E32: 4.25 | F32: 4.25 | G32: 4.25 | H32: 4.25 | I32: 4.25 | J32: 4.25 | K32: 4.75 | L32: 5 | M32: 5.25 | N32: 5.5
A33: 43874 | C33: 4.25 | D33: 4.25 | E33: 4.25 | F33: 4.25 | G33: 4.25 | H33: 4.25 | I33: 4.25 | J33: 4.25 | K33: 4.75 | L33: 5 | M33: 5.25 | N33: 5.5
A34: 43875 | C34: 4.25 | D34: 4.25 | E34: 4.25 | F34: 4.25 | G34: 4.25 | H34: 4.25 | I34: 4.25 | J34: 4.25 | K34: 4.5 | L34: 5 | M34: 5 | N34: 5.25
A35: 43878 | C35: 4.25 | D35: 4.25 | E35: 4.25 | F35: 4.25 | G35: 4.25 | H35: 4.25 | I35: 4.25 | J35: 4.25 | K35: 4.5 | L35: 5 | M35: 5 | N35: 5.5
A36: 43879 | C36: 4.25 | D36: 4.25 | E36: 4.25 | F36: 4.25 | G36: 4.25 | H36: 4.25 | I36: 4.25 | J36: 4.25 | K36: 4.5 | L36: 5 | M36: 5 | N36: 5.38
A37: 43880 | C37: 4.25 | D37: 4.25 | E37: 4.25 | F37: 4.25 | G37: 4.25 | H37: 4.25 | I37: 4.25 | J37: 4.25 | K37: 4.5 | L37: 4.88 | M37: 5 | N37: 5.5
A38: 43881 | C38: 4.25 | D38: 4.25 | E38: 4.25 | F38: 4.25 | G38: 4.25 | H38: 4.25 | I38: 4.25 | J38: 4.25 | K38: 4.5 | L38: 4.88 | M38: 5 | N38: 5.5
A39: 43882 | C39: 4.25 | D39: 4.25 | E39: 4.25 | F39: 4.25 | G39: 4.25 | H39: 4.25 | I39: 4.25 | J39: 4.25 | K39: 4.5 | L39: 4.75 | M39: 5 | N39: 5.38
... A55: 43908 | C55: 4 | D55: 3.75 | E55: 3.75 | F55: 3.75 | G55: 3.75 | H55: 3.75 | I55: 3.75 | J55: 3.75 | K55: 4 | L55: 4.25 | M55: 4.25 | N55: 4.75
A56: 43909 | D56: 3.75 | E56: 3.75 | F56: 3.75 | G56: 3.75 | H56: 3.75 | I56: 3.75 | J56: 3.75 | K56: 3.75 | L56: 4.25 | M56: 4.25 | N56: 4.75 | O56: 3.5 | P56: 3.75
A57: 43910 | D57: 3.75 | E57: 3.75 | F57: 3.75 | G57: 3.75 | H57: 3.75 | I57: 3.75 | J57: 3.75 | K57: 3.75 | L57: 4 | M57: 4.25 | N57: 4.5 | O57: 4 | P57: 4.25
A58: 43913 | D58: 3.75 | E58: 3.5 | F58: 3.5 | G58: 3.5 | H58: 3.5 | I58: 3.5 | J58: 3.75 | K58: 3.75 | L58: 4 | M58: 4.25 | N58: 4.5 | O58: 4 | P58: 4.25
A59: 43914 | D59: 3.75 | E59: 3.5 | F59: 3.5 | G59: 3.5 | H59: 3.5 | I59: 3.5 | J59: 3.5 | K59: 3.75 | L59: 4 | M59: 4 | N59: 4.5 | O59: 4 | P59: 4.25
A60: 43915 | D60: 3.75 | E60: 3.5 | F60: 3.5 | G60: 3.5 | H60: 3.5 | I60: 3.5 | J60: 3.63 | K60: 3.75 | L60: 4 | M60: 4.13 | N60: 4.5 | O60: 4 | P60: 4.25
A61: 43916 | D61: 3.75 | E61: 3.5 | F61: 3.5 | G61: 3.5 | H61: 3.5 | I61: 3.5 | J61: 3.5 | K61: 3.75 | L61: 3.75 | M61: 4 | N61: 4.5 | O61: 4 | P61: 4.25
A62: 43917 | D62: 3.5 | E62: 3.5 | F62: 3.5 | G62: 3.5 | H62: 3.5 | I62: 3.5 | J62: 3.5 | K62: 3.5 | L62: 3.75 | M62: 4 | N62: 4.25 | O62: 4 | P62: 4.25
A63: 43920 | D63: 3.5 | E63: 3.25 | F63: 3.25 | G63: 3.25 | H63: 3.25 | I63: 3.25 | J63: 3.5 | K63: 3.5 | L63: 3.75 | M63: 4 | N63: 4.25 | O63: 4 | P63: 4.25
A64: 43921 | D64: 3.5 | E64: 3.25 | F64: 3.25 | G64: 3.25 | H64: 3.25 | I64: 3.25 | J64: 3.25 | K64: 3.5 | L64: 3.75 | M64: 4 | N64: 4.25 | O64: 4 | P64: 4.25
A65: 43922 | D65: 3.25 | E65: 3.25 | F65: 3.25 | G65: 3.25 | H65: 3.25 | I65: 3.25 | J65: 3.25 | K65: 3.5 | L65: 3.75 | M65: 3.75 | N65: 4.25 | O65: 4 | P65: 4.25
A66: 43923 | D66: 3.25 | E66: 3.25 | F66: 3.25 | G66: 3.25 | H66: 3.25 | I66: 3.25 | J66: 3.25 | K66: 3.5 | L66: 3.75 | M66: 3.75 | N66: 4.25 | O66: 4 | P66: 4.25
A67: 43924 | D67: 3.25 | E67: 3.25 | F67: 3.25 | G67: 3.25 | H67: 3.25 | I67: 3.25 | J67: 3.25 | K67: 3.25 | L67: 3.5 | M67: 3.75 | N67: 4 | O67: 3.88 | P67: 4.25
... A87: 43957 | D87: 3.25 | E87: 2.75 | F87: 2.75 | G87: 2.75 | H87: 2.75 | I87: 2.75 | J87: 2.75 | K87: 3 | L87: 3 | M87: 3 | N87: 3.25 | O87: 3.38 | P87: 3.5
A88: 43958 | E88: 2.75 | F88: 2.75 | G88: 2.75 | H88: 2.75 | I88: 2.75 | J88: 2.75 | K88: 2.75 | L88: 3 | M88: 3 | N88: 3.25 | O88: 3.25 | P88: 3.5
A89: 43959 | E89: 2.75 | F89: 2.5 | G89: 2.5 | H89: 2.5 | I89: 2.5 | J89: 2.75 | K89: 2.75 | L89: 2.75 | M89: 2.75 | N89: 3 | O89: 3.25 | P89: 3.5
A90: 43962 | E90: 2.5 | F90: 2.5 | G90: 2.5 | H90: 2.5 | I90: 2.5 | J90: 2.5 | K90: 2.75 | L90: 2.75 | M90: 2.75 | N90: 3 | O90: 3 | P90: 3.25
A91: 43963 | E91: 2.5 | F91: 2.5 | G91: 2.5 | H91: 2.5 | I91: 2.5 | J91: 2.5 | K91: 2.63 | L91: 2.75 | M91: 2.75 | N91: 3 | O91: 3 | P91: 3.25
A92: 43964 | E92: 2.5 | F92: 2.5 | G92: 2.5 | H92: 2.5 | I92: 2.5 | J92: 2.5 | K92: 2.5 | L92: 2.75 | M92: 2.75 | N92: 3 | O92: 3 | P92: 3.25
A93: 43965 | E93: 2.5 | F93: 2.25 | G93: 2.25 | H93: 2.25 | I93: 2.25 | J93: 2.5 | K93: 2.5 | L93: 2.75 | M93: 2.75 | N93: 3 | O93: 3 | P93: 3.25
A94: 43966 | E94: 2.25 | F94: 2.25 | G94: 2.25 | H94: 2.25 | I94: 2.25 | J94: 2.25 | K94: 2.25 | L94: 2.25 | M94: 2.38 | N94: 2.75 | O94: 2.75 | P94: 3
A95: 43969 | E95: 2.25 | F95: 2.25 | G95: 2.25 | H95: 2.25 | I95: 2.25 | J95: 2.25 | K95: 2.25 | L95: 2.25 | M95: 2.25 | N95: 2.63 | O95: 2.75 | P95: 3
A96: 43970 | E96: 2.25 | F96: 2.25 | G96: 2.25 | H96: 2.25 | I96: 2.25 | J96: 2.25 | K96: 2.25 | L96: 2.25 | M96: 2.25 | N96: 2.5 | O96: 2.75 | P96: 3
A97: 43971 | E97: 2.25 | F97: 2.25 | G97: 2.25 | H97: 2.25 | I97: 2.25 | J97: 2.25 | K97: 2.25 | L97: 2.25 | M97: 2.25 | N97: 2.5 | O97: 2.75 | P97: 3
A98: 43972 | E98: 2.25 | F98: 2.25 | G98: 2.25 | H98: 2.25 | I98: 2.25 | J98: 2.25 | K98: 2.25 | L98: 2.25 | M98: 2.25 | N98: 2.5 | O98: 2.75 | P98: 3
A99: 43973 | E99: 2.25 | F99: 2.25 | G99: 2.25 | H99: 2.25 | I99: 2.25 | J99: 2.25 | K99: 2.25 | L99: 2.25 | M99: 2.25 | N99: 2.5 | O99: 2.5 | P99: 3
... A116: 43999 | E116: 2.25 | F116: 2.25 | G116: 2.25 | H116: 2.25 | I116: 2.25 | J116: 2.25 | K116: 2.25 | L116: 2.25 | M116: 2.25 | N116: 2.25 | O116: 2.5 | P116: 2.75
A117: 44000 | F117: 2.25 | G117: 2.25 | H117: 2.25 | I117: 2.25 | J117: 2.25 | K117: 2.25 | L117: 2.25 | M117: 2.25 | N117: 2.25 | O117: 2.5 | P117: 2.75 | Q117: 3.25
A118: 44001 | F118: 2.25 | G118: 2.25 | H118: 2.25 | I118: 2.25 | J118: 2.25 | K118: 2.25 | L118: 2.25 | M118: 2.25 | N118: 2.25 | O118: 2.5 | P118: 2.75 | Q118: 3
A119: 44004 | F119: 2.25 | G119: 2.25 | H119: 2.25 | I119: 2.25 | J119: 2.25 | K119: 2.25 | L119: 2.25 | M119: 2.25 | N119: 2.25 | O119: 2.5 | P119: 2.75 | Q119: 3
A120: 44005 | F120: 2.25 | G120: 2 | H120: 2 | I120: 2 | J120: 2.13 | K120: 2.25 | L120: 2.25 | M120: 2.25 | N120: 2.25 | O120: 2.5 | P120: 2.75 | Q120: 3
A121: 44006 | F121: 2.13 | G121: 2 | H121: 2 | I121: 2 | J121: 2 | K121: 2.25 | L121: 2.25 | M121: 2.25 | N121: 2.25 | O121: 2.5 | P121: 2.75 | Q121: 3
A122: 44007 | F122: 2 | G122: 2 | H122: 2 | I122: 2 | J122: 2 | K122: 2.25 | L122: 2.25 | M122: 2.25 | N122: 2.25 | O122: 2.25 | P122: 2.5 | Q122: 3
A123: 44008 | F123: 2 | G123: 2 | H123: 2 | I123: 2 | J123: 2 | K123: 2 | L123: 2 | M123: 2.25 | N123: 2.25 | O123: 2.25 | P123: 2.5 | Q123: 3
A124: 44011 | F124: 2 | G124: 2 | H124: 2 | I124: 2 | J124: 2 | K124: 2 | L124: 2 | M124: 2.25 | N124: 2.25 | O124: 2.25 | P124: 2.5 | Q124: 3
A125: 44012 | F125: 2 | G125: 2 | H125: 2 | I125: 2 | J125: 2 | K125: 2 | L125: 2 | M125: 2.25 | N125: 2.25 | O125: 2.25 | P125: 2.5 | Q125: 3
A126: 44013 | F126: 2 | G126: 2 | H126: 2 | I126: 2 | J126: 2 | K126: 2 | L126: 2 | M126: 2.25 | N126: 2.25 | O126: 2.25 | P126: 2.5 | Q126: 3
A127: 44014 | F127: 2 | G127: 2 | H127: 2 | I127: 2 | J127: 2 | K127: 2 | L127: 2 | M127: 2.25 | N127: 2.25 | O127: 2.25 | P127: 2.5 | Q127: 3
A128: 44015 | F128: 2 | G128: 2 | H128: 2 | I128: 2 | J128: 2 | K128: 2 | L128: 2 | M128: 2.25 | N128: 2.25 | O128: 2.25 | P128: 2.5 | Q128: 3
... A151: 44048 | F151: 2 | G151: 2 | H151: 2 | I151: 2 | J151: 2 | K151: 2 | L151: 2 | M151: 2 | N151: 2 | O151: 2.25 | P151: 2.5 | Q151: 3
A152: 44049 | G152: 2 | H152: 2 | I152: 2 | J152: 2 | K152: 2 | L152: 2 | M152: 2 | N152: 2 | O152: 2.25 | P152: 2.5 | Q152: 3 | R152: 2.5
A153: 44050 | G153: 2 | H153: 2 | I153: 2 | J153: 2 | K153: 2 | L153: 2 | M153: 2 | N153: 2 | O153: 2.25 | P153: 2.5 | Q153: 3 | R153: 3
A154: 44053 | G154: 2 | H154: 2 | I154: 2 | J154: 2 | K154: 2 | L154: 2 | M154: 2 | N154: 2 | O154: 2.25 | P154: 2.5 | Q154: 3 | R154: 3
A155: 44054 | G155: 2 | H155: 2 | I155: 2 | J155: 2 | K155: 2 | L155: 2 | M155: 2 | N155: 2 | O155: 2.13 | P155: 2.5 | Q155: 3 | R155: 3
A156: 44055 | G156: 2 | H156: 2 | I156: 2 | J156: 2 | K156: 2 | L156: 2 | M156: 2 | N156: 2 | O156: 2.25 | P156: 2.5 | Q156: 3 | R156: 3
A157: 44056 | G157: 2 | H157: 2 | I157: 2 | J157: 2 | K157: 2 | L157: 2 | M157: 2 | N157: 2 | O157: 2 | P157: 2.5 | Q157: 3 | R157: 3
A158: 44057 | G158: 2 | H158: 2 | I158: 2 | J158: 2 | K158: 2 | L158: 2 | M158: 2 | N158: 2 | O158: 2 | P158: 2.5 | Q158: 2.75 | R158: 3
A159: 44060 | G159: 2 | H159: 2 | I159: 2 | J159: 2 | K159: 2 | L159: 2 | M159: 2 | N159: 2 | O159: 2 | P159: 2.5 | Q159: 3 | R159: 3
A160: 44061 | G160: 2 | H160: 2 | I160: 2 | J160: 2 | K160: 2 | L160: 2 | M160: 2 | N160: 2 | O160: 2 | P160: 2.5 | Q160: 3 | R160: 3
A161: 44062 | G161: 2 | H161: 2 | I161: 2 | J161: 2 | K161: 2 | L161: 2 | M161: 2 | N161: 2 | O161: 2 | P161: 2.5 | Q161: 3 | R161: 3
A162: 44063 | G162: 2 | H162: 2 | I162: 2 | J162: 2 | K162: 2 | L162: 2 | M162: 2 | N162: 2 | O162: 2 | P162: 2.5 | Q162: 3 | R162: 3
A163: 44064 | G163: 2 | H163: 2 | I163: 2 | J163: 2 | K163: 2 | L163: 2 | M163: 2 | N163: 2 | O163: 2 | P163: 2.5 | Q163: 3 | R163: 3
... A180: 44090 | G180: 2 | H180: 2 | I180: 2 | J180: 2 | K180: 2 | L180: 2 | M180: 2 | N180: 2 | O180: 2 | P180: 2.5 | Q180: 2.5 | R180: 3
A181: 44091 | H181: 2 | I181: 2 | J181: 2 | K181: 2 | L181: 2 | M181: 2 | N181: 2 | O181: 2 | P181: 2.5 | Q181: 2.5 | R181: 3 | S181: 4.25
A182: 44092 | H182: 2 | I182: 2 | J182: 2 | K182: 2 | L182: 2 | M182: 2 | N182: 2 | O182: 2 | P182: 2.5 | Q182: 2.5 | R182: 3 | S182: 3.25
A183: 44095 | H183: 2 | I183: 2 | J183: 2 | K183: 2 | L183: 2 | M183: 2 | N183: 2 | O183: 2 | P183: 2.5 | Q183: 2.5 | R183: 3 | S183: 3.5
A184: 44096 | H184: 2 | I184: 2 | J184: 2 | K184: 2 | L184: 2 | M184: 2 | N184: 2 | O184: 2 | P184: 2.5 | Q184: 2.5 | R184: 3 | S184: 3.5
A185: 44097 | H185: 2 | I185: 2 | J185: 2 | K185: 2 | L185: 2 | M185: 2 | N185: 2 | O185: 2 | P185: 2.5 | Q185: 2.5 | R185: 3 | S185: 3.5
A186: 44098 | H186: 2 | I186: 2 | J186: 2 | K186: 2 | L186: 2 | M186: 2 | N186: 2 | O186: 2 | P186: 2.5 | Q186: 2.5 | R186: 3 | S186: 3.38
A187: 44099 | H187: 2 | I187: 2 | J187: 2 | K187: 2 | L187: 2 | M187: 2 | N187: 2 | O187: 2 | P187: 2.38 | Q187: 2.5 | R187: 3 | S187: 3
A188: 44102 | H188: 2 | I188: 2 | J188: 2 | K188: 2 | L188: 2 | M188: 2 | N188: 2 | O188: 2 | P188: 2.25 | Q188: 2.5 | R188: 3 | S188: 3
A189: 44103 | H189: 2 | I189: 2 | J189: 2 | K189: 2 | L189: 2 | M189: 2 | N189: 2 | O189: 2 | P189: 2.25 | Q189: 2.5 | R189: 3 | S189: 3
A190: 44104 | H190: 2 | I190: 2 | J190: 2 | K190: 2 | L190: 2 | M190: 2 | N190: 2 | O190: 2 | P190: 2.25 | Q190: 2.5 | R190: 3 | S190: 3
A191: 44105 | H191: 2 | I191: 2 | J191: 2 | K191: 2 | L191: 2 | M191: 2 | N191: 2 | O191: 2 | P191: 2.25 | Q191: 2.5 | R191: 3 | S191: 3
A192: 44106 | H192: 2 | I192: 2 | J192: 2 | K192: 2 | L192: 2 | M192: 2 | N192: 2 | O192: 2 | P192: 2.25 | Q192: 2.5 | R192: 3 | S192: 3
... A209: 44132 | H209: 2 | I209: 2 | J209: 2 | K209: 2 | L209: 2 | M209: 2 | N209: 2 | O209: 2 | P209: 2.5 | Q209: 2.75 | R209: 3 | S209: 3.25
A210: 44133 | I210: 2 | J210: 2 | K210: 2 | L210: 2 | M210: 2 | N210: 2 | O210: 2 | P210: 2.5 | Q210: 2.75 | R210: 3 | S210: 3.25 | T210: 3.5
A211: 44134 | I211: 2 | J211: 2 | K211: 2 | L211: 2 | M211: 2 | N211: 2 | O211: 2.25 | P211: 2.5 | Q211: 2.75 | R211: 3 | S211: 3.5 | T211: 3.88
A212: 44138 | I212: 2 | J212: 2 | K212: 2 | L212: 2 | M212: 2 | N212: 2 | O212: 2.25 | P212: 2.5 | Q212: 2.75 | R212: 3 | S212: 3.38 | T212: 3.63
A213: 44139 | I213: 2 | J213: 2 | K213: 2 | L213: 2 | M213: 2 | N213: 2 | O213: 2.25 | P213: 2.5 | Q213: 2.75 | R213: 3 | S213: 3.38 | T213: 3.63
A214: 44140 | I214: 2 | J214: 2 | K214: 2 | L214: 2 | M214: 2 | N214: 2 | O214: 2.25 | P214: 2.5 | Q214: 2.75 | R214: 3 | S214: 3.38 | T214: 3.63
A215: 44141 | I215: 2 | J215: 2 | K215: 2 | L215: 2 | M215: 2 | N215: 2 | O215: 2.25 | P215: 2.5 | Q215: 2.75 | R215: 3 | S215: 3.5 | T215: 3.63
A216: 44144 | I216: 2 | J216: 2 | K216: 2 | L216: 2 | M216: 2 | N216: 2 | O216: 2.25 | P216: 2.5 | Q216: 2.75 | R216: 3 | S216: 3.38 | T216: 3.5
...

Sheet Análises Reuniões
A1: Data | B1: 45058 | C1: Queda / Alta ptb | D1: Queda / Alta acum. | F1: 3R/2023 | G1: =VLOOKUP(F1,'Hist Selic Meta'!A:I,6,FALSE) -> 13.75
A2: 3R/2023 | B2: =+G1 -> 13.75 | D2: =(B2-$B$3)*100 -> 0
A3: 4R/2023 | B3: =IF(VLOOKUP($B$1,'Mediana Reunião Selic 30D'!$A$2:$XFC$10000,MATCH(A3,'Mediana Reunião Selic 30D'!$A$2:$XDF$2,0),FALSE)=0,NA(),VLOOKUP($B$1,'Mediana Reunião Selic 30D'!$A$2:$XFC$10000,MATCH(A3,'Mediana Reunião Selic 30D'!$A$2:$XDF$2,0),FALSE)) -> 13.75 | C3: =+(B3-B2)*100 -> 0 | D3: =(B3-$B$3)*100 -> 0
A4: 5R/2023 | B4: =IF(VLOOKUP($B$1,'Mediana Reunião Selic 30D'!$A$2:$XFC$10000,MATCH(A4,'Mediana Reunião Selic 30D'!$A$2:$XDF$2,0),FALSE)=0,NA(),VLOOKUP($B$1,'Mediana Reunião Selic 30D'!$A$2:$XFC$10000,MATCH(A4,'Mediana Reunião Selic 30D'!$A$2:$XDF$2,0),FALSE)) -> 13.75 | C4: =+(B4-B3)*100 -> 0 | D4: =(B4-$B$3)*100 -> 0
A5: 6R/2023 | B5: =IF(VLOOKUP($B$1,'Mediana Reunião Selic 30D'!$A$2:$XFC$10000,MATCH(A5,'Mediana Reunião Selic 30D'!$A$2:$XDF$2,0),FALSE)=0,NA(),VLOOKUP($B$1,'Mediana Reunião Selic 30D'!$A$2:$XFC$10000,MATCH(A5,'Mediana Reunião Selic 30D'!$A$2:$XDF$2,0),FALSE)) -> 13.375 | C5: =+(B5-B4)*100 -> -37.5 | D5: =(B5-$B$3)*100 -> -37.5
A6: 7R/2023 | B6: =IF(VLOOKUP($B$1,'Mediana Reunião Selic 30D'!$A$2:$XFC$10000,MATCH(A6,'Mediana Reunião Selic 30D'!$A$2:$XDF$2,0),FALSE)=0,NA(),VLOOKUP($B$1,'Mediana Reunião Selic 30D'!$A$2:$XFC$10000,MATCH(A6,'Mediana Reunião Selic 30D'!$A$2:$XDF$2,0),FALSE)) -> 13 | C6: =+(B6-B5)*100 -> -37.5 | D6: =(B6-$B$3)*100 -> -75
A7: 8R/2023 | B7: =IF(VLOOKUP($B$1,'Mediana Reunião Selic 30D'!$A$2:$XFC$10000,MATCH(A7,'Mediana Reunião Selic 30D'!$A$2:$XDF$2,0),FALSE)=0,NA(),VLOOKUP($B$1,'Mediana Reunião Selic 30D'!$A$2:$XFC$10000,MATCH(A7,'Mediana Reunião Selic 30D'!$A$2:$XDF$2,0),FALSE)) -> 12.5 | C7: =+(B7-B6)*100 -> -50 | D7: =(B7-$B$3)*100 -> -125
A8: 1R/2024 | B8: =IF(VLOOKUP($B$1,'Mediana Reunião Selic 30D'!$A$2:$XFC$10000,MATCH(A8,'Mediana Reunião Selic 30D'!$A$2:$XDF$2,0),FALSE)=0,NA(),VLOOKUP($B$1,'Mediana Reunião Selic 30D'!$A$2:$XFC$10000,MATCH(A8,'Mediana Reunião Selic 30D'!$A$2:$XDF$2,0),FALSE)) -> 12 | C8: =+(B8-B7)*100 -> -50 | D8: =(B8-$B$3)*100 -> -175
A9: 2R/2024 | B9: =IF(VLOOKUP($B$1,'Mediana Reunião Selic 30D'!$A$2:$XFC$10000,MATCH(A9,'Mediana Reunião Selic 30D'!$A$2:$XDF$2,0),FALSE)=0,NA(),VLOOKUP($B$1,'Mediana Reunião Selic 30D'!$A$2:$XFC$10000,MATCH(A9,'Mediana Reunião Selic 30D'!$A$2:$XDF$2,0),FALSE)) -> 11.5 | C9: =+(B9-B8)*100 -> -50 | D9: =(B9-$B$3)*100 -> -225
A10: 3R/2024 | B10: =IF(VLOOKUP($B$1,'Mediana Reunião Selic 30D'!$A$2:$XFC$10000,MATCH(A10,'Mediana Reunião Selic 30D'!$A$2:$XDF$2,0),FALSE)=0,NA(),VLOOKUP($B$1,'Mediana Reunião Selic 30D'!$A$2:$XFC$10000,MATCH(A10,'Mediana Reunião Selic 30D'!$A$2:$XDF$2,0),FALSE)) -> 11.25 | C10: =+(B10-B9)*100 -> -25 | D10: =(B10-$B$3)*100 -> -250
A11: 4R/2024 | B11: =IF(VLOOKUP($B$1,'Mediana Reunião Selic 30D'!$A$2:$XFC$10000,MATCH(A11,'Mediana Reunião Selic 30D'!$A$2:$XDF$2,0),FALSE)=0,NA(),VLOOKUP($B$1,'Mediana Reunião Selic 30D'!$A$2:$XFC$10000,MATCH(A11,'Mediana Reunião Selic 30D'!$A$2:$XDF$2,0),FALSE)) -> 10.75 | C11: =+(B11-B10)*100 -> -50 | D11: =(B11-$B$3)*100 -> -300
A12: 5R/2024 | B12: =IF(VLOOKUP($B$1,'Mediana Reunião Selic 30D'!$A$2:$XFC$10000,MATCH(A12,'Mediana Reunião Selic 30D'!$A$2:$XDF$2,0),FALSE)=0,NA(),VLOOKUP($B$1,'Mediana Reunião Selic 30D'!$A$2:$XFC$10000,MATCH(A12,'Mediana Reunião Selic 30D'!$A$2:$XDF$2,0),FALSE)) -> 10.5 | C12: =+(B12-B11)*100 -> -25 | D12: =(B12-$B$3)*100 -> -325
A13: 6R/2024 | B13: =IF(VLOOKUP($B$1,'Mediana Reunião Selic 30D'!$A$2:$XFC$10000,MATCH(A13,'Mediana Reunião Selic 30D'!$A$2:$XDF$2,0),FALSE)=0,NA(),VLOOKUP($B$1,'Mediana Reunião Selic 30D'!$A$2:$XFC$10000,MATCH(A13,'Mediana Reunião Selic 30D'!$A$2:$XDF$2,0),FALSE)) -> 10.25 | C13: =+(B13-B12)*100 -> -25 | D13: =(B13-$B$3)*100 -> -350
A14: 7R/2024 | B14: =IF(VLOOKUP($B$1,'Mediana Reunião Selic 30D'!$A$2:$XFC$10000,MATCH(A14,'Mediana Reunião Selic 30D'!$A$2:$XDF$2,0),FALSE)=0,NA(),VLOOKUP($B$1,'Mediana Reunião Selic 30D'!$A$2:$XFC$10000,MATCH(A14,'Mediana Reunião Selic 30D'!$A$2:$XDF$2,0),FALSE)) -> 10 | C14: =+(B14-B13)*100 -> -25 | D14: =(B14-$B$3)*100 -> -375
... A19: 4R/2025 | B19: =IF(VLOOKUP($B$1,'Mediana Reunião Selic 30D'!$A$2:$XFC$10000,MATCH(A19,'Mediana Reunião Selic 30D'!$A$2:$XDF$2,0),FALSE)=0,NA(),VLOOKUP($B$1,'Mediana Reunião Selic 30D'!$A$2:$XFC$10000,MATCH(A19,'Mediana Reunião Selic 30D'!$A$2:$XDF$2,0),FALSE)) -> #N/A | C19: =+(B19-B18)*100 -> #N/A | D19: =(B19-$B$3)*100 -> #N/A

Sheet Análises Expect x Selic
A1: Data | B1: 8R/2021 | C1: =+B1 -> 8R/2021 | E1: =+B1 -> 8R/2021 | F1: =VLOOKUP(E1,'Hist Selic Meta'!A:I,6,FALSE) -> 9.25
A2: 44216 | B2: =IF(VLOOKUP(A2,'Mediana Reunião Selic 30D'!$A$2:$XFC$10000,MATCH(B$1,'Mediana Reunião Selic 30D'!$A$2:$XDF$2,0),FALSE)=0,NA(),VLOOKUP(A2,'Mediana Reunião Selic 30D'!$A$2:$XFC$10000,MATCH(B$1,'Mediana Reunião Selic 30D'!$A$2:$XDF$2,0),FALSE)) -> 3.5 | C2: =VLOOKUP($C$1,'Hist Selic Meta'!A:F,6,FALSE) -> 9.25
A3: 44217 | B3: =IF(VLOOKUP(A3,'Mediana Reunião Selic 30D'!$A$2:$XFC$10000,MATCH(B$1,'Mediana Reunião Selic 30D'!$A$2:$XDF$2,0),FALSE)=0,NA(),VLOOKUP(A3,'Mediana Reunião Selic 30D'!$A$2:$XFC$10000,MATCH(B$1,'Mediana Reunião Selic 30D'!$A$2:$XDF$2,0),FALSE)) -> 3.5 | C3: =VLOOKUP($C$1,'Hist Selic Meta'!A:F,6,FALSE) -> 9.25
A4: 44218 | B4: =IF(VLOOKUP(A4,'Mediana Reunião Selic 30D'!$A$2:$XFC$10000,MATCH(B$1,'Mediana Reunião Selic 30D'!$A$2:$XDF$2,0),FALSE)=0,NA(),VLOOKUP(A4,'Mediana Reunião Selic 30D'!$A$2:$XFC$10000,MATCH(B$1,'Mediana Reunião Selic 30D'!$A$2:$XDF$2,0),FALSE)) -> 3.5 | C4: =VLOOKUP($C$1,'Hist Selic Meta'!A:F,6,FALSE) -> 9.25
A5: 44221 | B5: =IF(VLOOKUP(A5,'Mediana Reunião Selic 30D'!$A$2:$XFC$10000,MATCH(B$1,'Mediana Reunião Selic 30D'!$A$2:$XDF$2,0),FALSE)=0,NA(),VLOOKUP(A5,'Mediana Reunião Selic 30D'!$A$2:$XFC$10000,MATCH(B$1,'Mediana Reunião Selic 30D'!$A$2:$XDF$2,0),FALSE)) -> 3.5 | C5: =VLOOKUP($C$1,'Hist Selic Meta'!A:F,6,FALSE) -> 9.25
A6: 44222 | B6: =IF(VLOOKUP(A6,'Mediana Reunião Selic 30D'!$A$2:$XFC$10000,MATCH(B$1,'Mediana Reunião Selic 30D'!$A$2:$XDF$2,0),FALSE)=0,NA(),VLOOKUP(A6,'Mediana Reunião Selic 30D'!$A$2:$XFC$10000,MATCH(B$1,'Mediana Reunião Selic 30D'!$A$2:$XDF$2,0),FALSE)) -> 3.5 | C6: =VLOOKUP($C$1,'Hist Selic Meta'!A:F,6,FALSE) -> 9.25
A7: 44223 | B7: =IF(VLOOKUP(A7,'Mediana Reunião Selic 30D'!$A$2:$XFC$10000,MATCH(B$1,'Mediana Reunião Selic 30D'!$A$2:$XDF$2,0),FALSE)=0,NA(),VLOOKUP(A7,'Mediana Reunião Selic 30D'!$A$2:$XFC$10000,MATCH(B$1,'Mediana Reunião Selic 30D'!$A$2:$XDF$2,0),FALSE)) -> 3.5 | C7: =VLOOKUP($C$1,'Hist Selic Meta'!A:F,6,FALSE) -> 9.25
A8: 44224 | B8: =IF(VLOOKUP(A8,'Mediana Reunião Selic 30D'!$A$2:$XFC$10000,MATCH(B$1,'Mediana Reunião Selic 30D'!$A$2:$XDF$2,0),FALSE)=0,NA(),VLOOKUP(A8,'Mediana Reunião Selic 30D'!$A$2:$XFC$10000,MATCH(B$1,'Mediana Reunião Selic 30D'!$A$2:$XDF$2,0),FALSE)) -> 3.5 | C8: =VLOOKUP($C$1,'Hist Selic Meta'!A:F,6,FALSE) -> 9.25
A9: 44225 | B9: =IF(VLOOKUP(A9,'Mediana Reunião Selic 30D'!$A$2:$XFC$10000,MATCH(B$1,'Mediana Reunião Selic 30D'!$A$2:$XDF$2,0),FALSE)=0,NA(),VLOOKUP(A9,'Mediana Reunião Selic 30D'!$A$2:$XFC$10000,MATCH(B$1,'Mediana Reunião Selic 30D'!$A$2:$XDF$2,0),FALSE)) -> 3.5 | C9: =VLOOKUP($C$1,'Hist Selic Meta'!A:F,6,FALSE) -> 9.25
A10: 44228 | B10: =IF(VLOOKUP(A10,'Mediana Reunião Selic 30D'!$A$2:$XFC$10000,MATCH(B$1,'Mediana Reunião Selic 30D'!$A$2:$XDF$2,0),FALSE)=0,NA(),VLOOKUP(A10,'Mediana Reunião Selic 30D'!$A$2:$XFC$10000,MATCH(B$1,'Mediana Reunião Selic 30D'!$A$2:$XDF$2,0),FALSE)) -> 3.5 | C10: =VLOOKUP($C$1,'Hist Selic Meta'!A:F,6,FALSE) -> 9.25
A11: 44229 | B11: =IF(VLOOKUP(A11,'Mediana Reunião Selic 30D'!$A$2:$XFC$10000,MATCH(B$1,'Mediana Reunião Selic 30D'!$A$2:$XDF$2,0),FALSE)=0,NA(),VLOOKUP(A11,'Mediana Reunião Selic 30D'!$A$2:$XFC$10000,MATCH(B$1,'Mediana Reunião Selic 30D'!$A$2:$XDF$2,0),FALSE)) -> 3.5 | C11: =VLOOKUP($C$1,'Hist Selic Meta'!A:F,6,FALSE) -> 9.25
A12: 44230 | B12: =IF(VLOOKUP(A12,'Mediana Reunião Selic 30D'!$A$2:$XFC$10000,MATCH(B$1,'Mediana Reunião Selic 30D'!$A$2:$XDF$2,0),FALSE)=0,NA(),VLOOKUP(A12,'Mediana Reunião Selic 30D'!$A$2:$XFC$10000,MATCH(B$1,'Mediana Reunião Selic 30D'!$A$2:$XDF$2,0),FALSE)) -> 3.5 | C12: =VLOOKUP($C$1,'Hist Selic Meta'!A:F,6,FALSE) -> 9.25
A13: 44231 | B13: =IF(VLOOKUP(A13,'Mediana Reunião Selic 30D'!$A$2:$XFC$10000,MATCH(B$1,'Mediana Reunião Selic 30D'!$A$2:$XDF$2,0),FALSE)=0,NA(),VLOOKUP(A13,'Mediana Reunião Selic 30D'!$A$2:$XFC$10000,MATCH(B$1,'Mediana Reunião Selic 30D'!$A$2:$XDF$2,0),FALSE)) -> 3.5 | C13: =VLOOKUP($C$1,'Hist Selic Meta'!A:F,6,FALSE) -> 9.25
... A575: 45051 | B575: =IF(VLOOKUP(A575,'Mediana Reunião Selic 30D'!$A$2:$XFC$10000,MATCH(B$1,'Mediana Reunião Selic 30D'!$A$2:$XDF$2,0),FALSE)=0,NA(),VLOOKUP(A575,'Mediana Reunião Selic 30D'!$A$2:$XFC$10000,MATCH(B$1,'Mediana Reunião Selic 30D'!$A$2:$XDF$2,0),FALSE)) -> #N/A | C575: =VLOOKUP($C$1,'Hist Selic Meta'!A:F,6,FALSE) -> 9.25

Sheet Análises Reunião Selic
A1: Data | B1: 4R/2023 | C1: 5R/2023 | D1: 6R/2023 | E1: 7R/2023 | F1: 8R/2023 | G1: 8R/2024 | I1: 3R/2023 | J1: =VLOOKUP(I1,'Hist Selic Meta'!A:I,6,FALSE) -> 13.75
A2: 44564 | B2: =IF(VLOOKUP(A2,'Mediana Reunião Selic 30D'!$A$2:$XFC$10000,MATCH(B$1,'Mediana Reunião Selic 30D'!$A$2:$XDF$2,0),FALSE)=0,NA(),VLOOKUP(A2,'Mediana Reunião Selic 30D'!$A$2:$XFC$10000,MATCH(B$1,'Mediana Reunião Selic 30D'!$A$2:$XDF$2,0),FALSE)) -> 9 | C2: =IF(VLOOKUP(A2,'Mediana Reunião Selic 30D'!$A$2:$XFC$10000,MATCH(C$1,'Mediana Reunião Selic 30D'!$A$2:$XDF$2,0),FALSE)=0,NA(),VLOOKUP(A2,'Mediana Reunião Selic 30D'!$A$2:$XFC$10000,MATCH(C$1,'Mediana Reunião Selic 30D'!$A$2:$XDF$2,0),FALSE)) -> 8.5 | D2: =IF(VLOOKUP(A2,'Mediana Reunião Selic 30D'!$A$2:$XFC$10000,MATCH(D$1,'Mediana Reunião Selic 30D'!$A$2:$XDF$2,0),FALSE)=0,NA(),VLOOKUP(A2,'Mediana Reunião Selic 30D'!$A$2:$XFC$10000,MATCH(D$1,'Mediana Reunião Selic 30D'!$A$2:$XDF$2,0),FALSE)) -> 8.25 | E2: =IF(VLOOKUP(A2,'Mediana Reunião Selic 30D'!$A$2:$XFC$10000,MATCH(E$1,'Mediana Reunião Selic 30D'!$A$2:$XDF$2,0),FALSE)=0,NA(),VLOOKUP(A2,'Mediana Reunião Selic 30D'!$A$2:$XFC$10000,MATCH(E$1,'Mediana Reunião Selic 30D'!$A$2:$XDF$2,0),FALSE)) -> 8 | F2: =IF(VLOOKUP(A2,'Mediana Reunião Selic 30D'!$A$2:$XFC$10000,MATCH(F$1,'Mediana Reunião Selic 30D'!$A$2:$XDF$2,0),FALSE)=0,NA(),VLOOKUP(A2,'Mediana Reunião Selic 30D'!$A$2:$XFC$10000,MATCH(F$1,'Mediana Reunião Selic 30D'!$A$2:$XDF$2,0),FALSE)) -> 8 | G2: =IF(VLOOKUP(A2,'Mediana Reunião Selic 30D'!$A$2:$XFC$10000,MATCH(G$1,'Mediana Reunião Selic 30D'!$A$2:$XDF$2,0),FALSE)=0,NA(),VLOOKUP(A2,'Mediana Reunião Selic 30D'!$A$2:$XFC$10000,MATCH(G$1,'Mediana Reunião Selic 30D'!$A$2:$XDF$2,0),FALSE)) -> #N/A
A3: 44565 | B3: =IF(VLOOKUP(A3,'Mediana Reunião Selic 30D'!$A$2:$XFC$10000,MATCH(B$1,'Mediana Reunião Selic 30D'!$A$2:$XDF$2,0),FALSE)=0,NA(),VLOOKUP(A3,'Mediana Reunião Selic 30D'!$A$2:$XFC$10000,MATCH(B$1,'Mediana Reunião Selic 30D'!$A$2:$XDF$2,0),FALSE)) -> 9 | C3: =IF(VLOOKUP(A3,'Mediana Reunião Selic 30D'!$A$2:$XFC$10000,MATCH(C$1,'Mediana Reunião Selic 30D'!$A$2:$XDF$2,0),FALSE)=0,NA(),VLOOKUP(A3,'Mediana Reunião Selic 30D'!$A$2:$XFC$10000,MATCH(C$1,'Mediana Reunião Selic 30D'!$A$2:$XDF$2,0),FALSE)) -> 8.5 | D3: =IF(VLOOKUP(A3,'Mediana Reunião Selic 30D'!$A$2:$XFC$10000,MATCH(D$1,'Mediana Reunião Selic 30D'!$A$2:$XDF$2,0),FALSE)=0,NA(),VLOOKUP(A3,'Mediana Reunião Selic 30D'!$A$2:$XFC$10000,MATCH(D$1,'Mediana Reunião Selic 30D'!$A$2:$XDF$2,0),FALSE)) -> 8.25 | E3: =IF(VLOOKUP(A3,'Mediana Reunião Selic 30D'!$A$2:$XFC$10000,MATCH(E$1,'Mediana Reunião Selic 30D'!$A$2:$XDF$2,0),FALSE)=0,NA(),VLOOKUP(A3,'Mediana Reunião Selic 30D'!$A$2:$XFC$10000,MATCH(E$1,'Mediana Reunião Selic 30D'!$A$2:$XDF$2,0),FALSE)) -> 8 | F3: =IF(VLOOKUP(A3,'Mediana Reunião Selic 30D'!$A$2:$XFC$10000,MATCH(F$1,'Mediana Reunião Selic 30D'!$A$2:$XDF$2,0),FALSE)=0,NA(),VLOOKUP(A3,'Mediana Reunião Selic 30D'!$A$2:$XFC$10000,MATCH(F$1,'Mediana Reunião Selic 30D'!$A$2:$XDF$2,0),FALSE)) -> 8 | G3: =IF(VLOOKUP(A3,'Mediana Reunião Selic 30D'!$A$2:$XFC$10000,MATCH(G$1,'Mediana Reunião Selic 30D'!$A$2:$XDF$2,0),FALSE)=0,NA(),VLOOKUP(A3,'Mediana Reunião Selic 30D'!$A$2:$XFC$10000,MATCH(G$1,'Mediana Reunião Selic 30D'!$A$2:$XDF$2,0),FALSE)) -> #N/A
A4: 44566 | B4: =IF(VLOOKUP(A4,'Mediana Reunião Selic 30D'!$A$2:$XFC$10000,MATCH(B$1,'Mediana Reunião Selic 30D'!$A$2:$XDF$2,0),FALSE)=0,NA(),VLOOKUP(A4,'Mediana Reunião Selic 30D'!$A$2:$XFC$10000,MATCH(B$1,'Mediana Reunião Selic 30D'!$A$2:$XDF$2,0),FALSE)) -> 9 | C4: =IF(VLOOKUP(A4,'Mediana Reunião Selic 30D'!$A$2:$XFC$10000,MATCH(C$1,'Mediana Reunião Selic 30D'!$A$2:$XDF$2,0),FALSE)=0,NA(),VLOOKUP(A4,'Mediana Reunião Selic 30D'!$A$2:$XFC$10000,MATCH(C$1,'Mediana Reunião Selic 30D'!$A$2:$XDF$2,0),FALSE)) -> 8.5 | D4: =IF(VLOOKUP(A4,'Mediana Reunião Selic 30D'!$A$2:$XFC$10000,MATCH(D$1,'Mediana Reunião Selic 30D'!$A$2:$XDF$2,0),FALSE)=0,NA(),VLOOKUP(A4,'Mediana Reunião Selic 30D'!$A$2:$XFC$10000,MATCH(D$1,'Mediana Reunião Selic 30D'!$A$2:$XDF$2,0),FALSE)) -> 8.25 | E4: =IF(VLOOKUP(A4,'Mediana Reunião Selic 30D'!$A$2:$XFC$10000,MATCH(E$1,'Mediana Reunião Selic 30D'!$A$2:$XDF$2,0),FALSE)=0,NA(),VLOOKUP(A4,'Mediana Reunião Selic 30D'!$A$2:$XFC$10000,MATCH(E$1,'Mediana Reunião Selic 30D'!$A$2:$XDF$2,0),FALSE)) -> 8 | F4: =IF(VLOOKUP(A4,'Mediana Reunião Selic 30D'!$A$2:$XFC$10000,MATCH(F$1,'Mediana Reunião Selic 30D'!$A$2:$XDF$2,0),FALSE)=0,NA(),VLOOKUP(A4,'Mediana Reunião Selic 30D'!$A$2:$XFC$10000,MATCH(F$1,'Mediana Reunião Selic 30D'!$A$2:$XDF$2,0),FALSE)) -> 8 | G4: =IF(VLOOKUP(A4,'Mediana Reunião Selic 30D'!$A$2:$XFC$10000,MATCH(G$1,'Mediana Reunião Selic 30D'!$A$2:$XDF$2,0),FALSE)=0,NA(),VLOOKUP(A4,'Mediana Reunião Selic 30D'!$A$2:$XFC$10000,MATCH(G$1,'Mediana Reunião Selic 30D'!$A$2:$XDF$2,0),FALSE)) -> #N/A
A5: 44567 | B5: =IF(VLOOKUP(A5,'Mediana Reunião Selic 30D'!$A$2:$XFC$10000,MATCH(B$1,'Mediana Reunião Selic 30D'!$A$2:$XDF$2,0),FALSE)=0,NA(),VLOOKUP(A5,'Mediana Reunião Selic 30D'!$A$2:$XFC$10000,MATCH(B$1,'Mediana Reunião Selic 30D'!$A$2:$XDF$2,0),FALSE)) -> 9 | C5: =IF(VLOOKUP(A5,'Mediana Reunião Selic 30D'!$A$2:$XFC$10000,MATCH(C$1,'Mediana Reunião Selic 30D'!$A$2:$XDF$2,0),FALSE)=0,NA(),VLOOKUP(A5,'Mediana Reunião Selic 30D'!$A$2:$XFC$10000,MATCH(C$1,'Mediana Reunião Selic 30D'!$A$2:$XDF$2,0),FALSE)) -> 8.5 | D5: =IF(VLOOKUP(A5,'Mediana Reunião Selic 30D'!$A$2:$XFC$10000,MATCH(D$1,'Mediana Reunião Selic 30D'!$A$2:$XDF$2,0),FALSE)=0,NA(),VLOOKUP(A5,'Mediana Reunião Selic 30D'!$A$2:$XFC$10000,MATCH(D$1,'Mediana Reunião Selic 30D'!$A$2:$XDF$2,0),FALSE)) -> 8.25 | E5: =IF(VLOOKUP(A5,'Mediana Reunião Selic 30D'!$A$2:$XFC$10000,MATCH(E$1,'Mediana Reunião Selic 30D'!$A$2:$XDF$2,0),FALSE)=0,NA(),VLOOKUP(A5,'Mediana Reunião Selic 30D'!$A$2:$XFC$10000,MATCH(E$1,'Mediana Reunião Selic 30D'!$A$2:$XDF$2,0),FALSE)) -> 8 | F5: =IF(VLOOKUP(A5,'Mediana Reunião Selic 30D'!$A$2:$XFC$10000,MATCH(F$1,'Mediana Reunião Selic 30D'!$A$2:$XDF$2,0),FALSE)=0,NA(),VLOOKUP(A5,'Mediana Reunião Selic 30D'!$A$2:$XFC$10000,MATCH(F$1,'Mediana Reunião Selic 30D'!$A$2:$XDF$2,0),FALSE)) -> 8 | G5: =IF(VLOOKUP(A5,'Mediana Reunião Selic 30D'!$A$2:$XFC$10000,MATCH(G$1,'Mediana Reunião Selic 30D'!$A$2:$XDF$2,0),FALSE)=0,NA(),VLOOKUP(A5,'Mediana Reunião Selic 30D'!$A$2:$XFC$10000,MATCH(G$1,'Mediana Reunião Selic 30D'!$A$2:$XDF$2,0),FALSE)) -> #N/A
A6: 44568 | B6: =IF(VLOOKUP(A6,'Mediana Reunião Selic 30D'!$A$2:$XFC$10000,MATCH(B$1,'Mediana Reunião Selic 30D'!$A$2:$XDF$2,0),FALSE)=0,NA(),VLOOKUP(A6,'Mediana Reunião Selic 30D'!$A$2:$XFC$10000,MATCH(B$1,'Mediana Reunião Selic 30D'!$A$2:$XDF$2,0),FALSE)) -> 9 | C6: =IF(VLOOKUP(A6,'Mediana Reunião Selic 30D'!$A$2:$XFC$10000,MATCH(C$1,'Mediana Reunião Selic 30D'!$A$2:$XDF$2,0),FALSE)=0,NA(),VLOOKUP(A6,'Mediana Reunião Selic 30D'!$A$2:$XFC$10000,MATCH(C$1,'Mediana Reunião Selic 30D'!$A$2:$XDF$2,0),FALSE)) -> 8.5 | D6: =IF(VLOOKUP(A6,'Mediana Reunião Selic 30D'!$A$2:$XFC$10000,MATCH(D$1,'Mediana Reunião Selic 30D'!$A$2:$XDF$2,0),FALSE)=0,NA(),VLOOKUP(A6,'Mediana Reunião Selic 30D'!$A$2:$XFC$10000,MATCH(D$1,'Mediana Reunião Selic 30D'!$A$2:$XDF$2,0),FALSE)) -> 8 | E6: =IF(VLOOKUP(A6,'Mediana Reunião Selic 30D'!$A$2:$XFC$10000,MATCH(E$1,'Mediana Reunião Selic 30D'!$A$2:$XDF$2,0),FALSE)=0,NA(),VLOOKUP(A6,'Mediana Reunião Selic 30D'!$A$2:$XFC$10000,MATCH(E$1,'Mediana Reunião Selic 30D'!$A$2:$XDF$2,0),FALSE)) -> 8 | F6: =IF(VLOOKUP(A6,'Mediana Reunião Selic 30D'!$A$2:$XFC$10000,MATCH(F$1,'Mediana Reunião Selic 30D'!$A$2:$XDF$2,0),FALSE)=0,NA(),VLOOKUP(A6,'Mediana Reunião Selic 30D'!$A$2:$XFC$10000,MATCH(F$1,'Mediana Reunião Selic 30D'!$A$2:$XDF$2,0),FALSE)) -> 8 | G6: =IF(VLOOKUP(A6,'Mediana Reunião Selic 30D'!$A$2:$XFC$10000,MATCH(G$1,'Mediana Reunião Selic 30D'!$A$2:$XDF$2,0),FALSE)=0,NA(),VLOOKUP(A6,'Mediana Reunião Selic 30D'!$A$2:$XFC$10000,MATCH(G$1,'Mediana Reunião Selic 30D'!$A$2:$XDF$2,0),FALSE)) -> #N/A
A7: 44571 | B7: =IF(VLOOKUP(A7,'Mediana Reunião Selic 30D'!$A$2:$XFC$10000,MATCH(B$1,'Mediana Reunião Selic 30D'!$A$2:$XDF$2,0),FALSE)=0,NA(),VLOOKUP(A7,'Mediana Reunião Selic 30D'!$A$2:$XFC$10000,MATCH(B$1,'Mediana Reunião Selic 30D'!$A$2:$XDF$2,0),FALSE)) -> 9 | C7: =IF(VLOOKUP(A7,'Mediana Reunião Selic 30D'!$A$2:$XFC$10000,MATCH(C$1,'Mediana Reunião Selic 30D'!$A$2:$XDF$2,0),FALSE)=0,NA(),VLOOKUP(A7,'Mediana Reunião Selic 30D'!$A$2:$XFC$10000,MATCH(C$1,'Mediana Reunião Selic 30D'!$A$2:$XDF$2,0),FALSE)) -> 8.5 | D7: =IF(VLOOKUP(A7,'Mediana Reunião Selic 30D'!$A$2:$XFC$10000,MATCH(D$1,'Mediana Reunião Selic 30D'!$A$2:$XDF$2,0),FALSE)=0,NA(),VLOOKUP(A7,'Mediana Reunião Selic 30D'!$A$2:$XFC$10000,MATCH(D$1,'Mediana Reunião Selic 30D'!$A$2:$XDF$2,0),FALSE)) -> 8.25 | E7: =IF(VLOOKUP(A7,'Mediana Reunião Selic 30D'!$A$2:$XFC$10000,MATCH(E$1,'Mediana Reunião Selic 30D'!$A$2:$XDF$2,0),FALSE)=0,NA(),VLOOKUP(A7,'Mediana Reunião Selic 30D'!$A$2:$XFC$10000,MATCH(E$1,'Mediana Reunião Selic 30D'!$A$2:$XDF$2,0),FALSE)) -> 8 | F7: =IF(VLOOKUP(A7,'Mediana Reunião Selic 30D'!$A$2:$XFC$10000,MATCH(F$1,'Mediana Reunião Selic 30D'!$A$2:$XDF$2,0),FALSE)=0,NA(),VLOOKUP(A7,'Mediana Reunião Selic 30D'!$A$2:$XFC$10000,MATCH(F$1,'Mediana Reunião Selic 30D'!$A$2:$XDF$2,0),FALSE)) -> 8 | G7: =IF(VLOOKUP(A7,'Mediana Reunião Selic 30D'!$A$2:$XFC$10000,MATCH(G$1,'Mediana Reunião Selic 30D'!$A$2:$XDF$2,0),FALSE)=0,NA(),VLOOKUP(A7,'Mediana Reunião Selic 30D'!$A$2:$XFC$10000,MATCH(G$1,'Mediana Reunião Selic 30D'!$A$2:$XDF$2,0),FALSE)) -> #N/A
A8: 44572 | B8: =IF(VLOOKUP(A8,'Mediana Reunião Selic 30D'!$A$2:$XFC$10000,MATCH(B$1,'Mediana Reunião Selic 30D'!$A$2:$XDF$2,0),FALSE)=0,NA(),VLOOKUP(A8,'Mediana Reunião Selic 30D'!$A$2:$XFC$10000,MATCH(B$1,'Mediana Reunião Selic 30D'!$A$2:$XDF$2,0),FALSE)) -> 9 | C8: =IF(VLOOKUP(A8,'Mediana Reunião Selic 30D'!$A$2:$XFC$10000,MATCH(C$1,'Mediana Reunião Selic 30D'!$A$2:$XDF$2,0),FALSE)=0,NA(),VLOOKUP(A8,'Mediana Reunião Selic 30D'!$A$2:$XFC$10000,MATCH(C$1,'Mediana Reunião Selic 30D'!$A$2:$XDF$2,0),FALSE)) -> 8.5 | D8: =IF(VLOOKUP(A8,'Mediana Reunião Selic 30D'!$A$2:$XFC$10000,MATCH(D$1,'Mediana Reunião Selic 30D'!$A$2:$XDF$2,0),FALSE)=0,NA(),VLOOKUP(A8,'Mediana Reunião Selic 30D'!$A$2:$XFC$10000,MATCH(D$1,'Mediana Reunião Selic 30D'!$A$2:$XDF$2,0),FALSE)) -> 8.25 | E8: =IF(VLOOKUP(A8,'Mediana Reunião Selic 30D'!$A$2:$XFC$10000,MATCH(E$1,'Mediana Reunião Selic 30D'!$A$2:$XDF$2,0),FALSE)=0,NA(),VLOOKUP(A8,'Mediana Reunião Selic 30D'!$A$2:$XFC$10000,MATCH(E$1,'Mediana Reunião Selic 30D'!$A$2:$XDF$2,0),FALSE)) -> 8 | F8: =IF(VLOOKUP(A8,'Mediana Reunião Selic 30D'!$A$2:$XFC$10000,MATCH(F$1,'Mediana Reunião Selic 30D'!$A$2:$XDF$2,0),FALSE)=0,NA(),VLOOKUP(A8,'Mediana Reunião Selic 30D'!$A$2:$XFC$10000,MATCH(F$1,'Mediana Reunião Selic 30D'!$A$2:$XDF$2,0),FALSE)) -> 8 | G8: =IF(VLOOKUP(A8,'Mediana Reunião Selic 30D'!$A$2:$XFC$10000,MATCH(G$1,'Mediana Reunião Selic 30D'!$A$2:$XDF$2,0),FALSE)=0,NA(),VLOOKUP(A8,'Mediana Reunião Selic 30D'!$A$2:$XFC$10000,MATCH(G$1,'Mediana Reunião Selic 30D'!$A$2:$XDF$2,0),FALSE)) -> #N/A
A9: 44573 | B9: =IF(VLOOKUP(A9,'Mediana Reunião Selic 30D'!$A$2:$XFC$10000,MATCH(B$1,'Mediana Reunião Selic 30D'!$A$2:$XDF$2,0),FALSE)=0,NA(),VLOOKUP(A9,'Mediana Reunião Selic 30D'!$A$2:$XFC$10000,MATCH(B$1,'Mediana Reunião Selic 30D'!$A$2:$XDF$2,0),FALSE)) -> 9 | C9: =IF(VLOOKUP(A9,'Mediana Reunião Selic 30D'!$A$2:$XFC$10000,MATCH(C$1,'Mediana Reunião Selic 30D'!$A$2:$XDF$2,0),FALSE)=0,NA(),VLOOKUP(A9,'Mediana Reunião Selic 30D'!$A$2:$XFC$10000,MATCH(C$1,'Mediana Reunião Selic 30D'!$A$2:$XDF$2,0),FALSE)) -> 8.5 | D9: =IF(VLOOKUP(A9,'Mediana Reunião Selic 30D'!$A$2:$XFC$10000,MATCH(D$1,'Mediana Reunião Selic 30D'!$A$2:$XDF$2,0),FALSE)=0,NA(),VLOOKUP(A9,'Mediana Reunião Selic 30D'!$A$2:$XFC$10000,MATCH(D$1,'Mediana Reunião Selic 30D'!$A$2:$XDF$2,0),FALSE)) -> 8.25 | E9: =IF(VLOOKUP(A9,'Mediana Reunião Selic 30D'!$A$2:$XFC$10000,MATCH(E$1,'Mediana Reunião Selic 30D'!$A$2:$XDF$2,0),FALSE)=0,NA(),VLOOKUP(A9,'Mediana Reunião Selic 30D'!$A$2:$XFC$10000,MATCH(E$1,'Mediana Reunião Selic 30D'!$A$2:$XDF$2,0),FALSE)) -> 8 | F9: =IF(VLOOKUP(A9,'Mediana Reunião Selic 30D'!$A$2:$XFC$10000,MATCH(F$1,'Mediana Reunião Selic 30D'!$A$2:$XDF$2,0),FALSE)=0,NA(),VLOOKUP(A9,'Mediana Reunião Selic 30D'!$A$2:$XFC$10000,MATCH(F$1,'Mediana Reunião Selic 30D'!$A$2:$XDF$2,0),FALSE)) -> 8 | G9: =IF(VLOOKUP(A9,'Mediana Reunião Selic 30D'!$A$2:$XFC$10000,MATCH(G$1,'Mediana Reunião Selic 30D'!$A$2:$XDF$2,0),FALSE)=0,NA(),VLOOKUP(A9,'Mediana Reunião Selic 30D'!$A$2:$XFC$10000,MATCH(G$1,'Mediana Reunião Selic 30D'!$A$2:$XDF$2,0),FALSE)) -> #N/A
A10: 44574 | B10: =IF(VLOOKUP(A10,'Mediana Reunião Selic 30D'!$A$2:$XFC$10000,MATCH(B$1,'Mediana Reunião Selic 30D'!$A$2:$XDF$2,0),FALSE)=0,NA(),VLOOKUP(A10,'Mediana Reunião Selic 30D'!$A$2:$XFC$10000,MATCH(B$1,'Mediana Reunião Selic 30D'!$A$2:$XDF$2,0),FALSE)) -> 9 | C10: =IF(VLOOKUP(A10,'Mediana Reunião Selic 30D'!$A$2:$XFC$10000,MATCH(C$1,'Mediana Reunião Selic 30D'!$A$2:$XDF$2,0),FALSE)=0,NA(),VLOOKUP(A10,'Mediana Reunião Selic 30D'!$A$2:$XFC$10000,MATCH(C$1,'Mediana Reunião Selic 30D'!$A$2:$XDF$2,0),FALSE)) -> 8.5 | D10: =IF(VLOOKUP(A10,'Mediana Reunião Selic 30D'!$A$2:$XFC$10000,MATCH(D$1,'Mediana Reunião Selic 30D'!$A$2:$XDF$2,0),FALSE)=0,NA(),VLOOKUP(A10,'Mediana Reunião Selic 30D'!$A$2:$XFC$10000,MATCH(D$1,'Mediana Reunião Selic 30D'!$A$2:$XDF$2,0),FALSE)) -> 8.25 | E10: =IF(VLOOKUP(A10,'Mediana Reunião Selic 30D'!$A$2:$XFC$10000,MATCH(E$1,'Mediana Reunião Selic 30D'!$A$2:$XDF$2,0),FALSE)=0,NA(),VLOOKUP(A10,'Mediana Reunião Selic 30D'!$A$2:$XFC$10000,MATCH(E$1,'Mediana Reunião Selic 30D'!$A$2:$XDF$2,0),FALSE)) -> 8 | F10: =IF(VLOOKUP(A10,'Mediana Reunião Selic 30D'!$A$2:$XFC$10000,MATCH(F$1,'Mediana Reunião Selic 30D'!$A$2:$XDF$2,0),FALSE)=0,NA(),VLOOKUP(A10,'Mediana Reunião Selic 30D'!$A$2:$XFC$10000,MATCH(F$1,'Mediana Reunião Selic 30D'!$A$2:$XDF$2,0),FALSE)) -> 8 | G10: =IF(VLOOKUP(A10,'Mediana Reunião Selic 30D'!$A$2:$XFC$10000,MATCH(G$1,'Mediana Reunião Selic 30D'!$A$2:$XDF$2,0),FALSE)=0,NA(),VLOOKUP(A10,'Mediana Reunião Selic 30D'!$A$2:$XFC$10000,MATCH(G$1,'Mediana Reunião Selic 30D'!$A$2:$XDF$2,0),FALSE)) -> #N/A
A11: 44575 | B11: =IF(VLOOKUP(A11,'Mediana Reunião Selic 30D'!$A$2:$XFC$10000,MATCH(B$1,'Mediana Reunião Selic 30D'!$A$2:$XDF$2,0),FALSE)=0,NA(),VLOOKUP(A11,'Mediana Reunião Selic 30D'!$A$2:$XFC$10000,MATCH(B$1,'Mediana Reunião Selic 30D'!$A$2:$XDF$2,0),FALSE)) -> 9 | C11: =IF(VLOOKUP(A11,'Mediana Reunião Selic 30D'!$A$2:$XFC$10000,MATCH(C$1,'Mediana Reunião Selic 30D'!$A$2:$XDF$2,0),FALSE)=0,NA(),VLOOKUP(A11,'Mediana Reunião Selic 30D'!$A$2:$XFC$10000,MATCH(C$1,'Mediana Reunião Selic 30D'!$A$2:$XDF$2,0),FALSE)) -> 8.5 | D11: =IF(VLOOKUP(A11,'Mediana Reunião Selic 30D'!$A$2:$XFC$10000,MATCH(D$1,'Mediana Reunião Selic 30D'!$A$2:$XDF$2,0),FALSE)=0,NA(),VLOOKUP(A11,'Mediana Reunião Selic 30D'!$A$2:$XFC$10000,MATCH(D$1,'Mediana Reunião Selic 30D'!$A$2:$XDF$2,0),FALSE)) -> 8.25 | E11: =IF(VLOOKUP(A11,'Mediana Reunião Selic 30D'!$A$2:$XFC$10000,MATCH(E$1,'Mediana Reunião Selic 30D'!$A$2:$XDF$2,0),FALSE)=0,NA(),VLOOKUP(A11,'Mediana Reunião Selic 30D'!$A$2:$XFC$10000,MATCH(E$1,'Mediana Reunião Selic 30D'!$A$2:$XDF$2,0),FALSE)) -> 8 | F11: =IF(VLOOKUP(A11,'Mediana Reunião Selic 30D'!$A$2:$XFC$10000,MATCH(F$1,'Mediana Reunião Selic 30D'!$A$2:$XDF$2,0),FALSE)=0,NA(),VLOOKUP(A11,'Mediana Reunião Selic 30D'!$A$2:$XFC$10000,MATCH(F$1,'Mediana Reunião Selic 30D'!$A$2:$XDF$2,0),FALSE)) -> 8 | G11: =IF(VLOOKUP(A11,'Mediana Reunião Selic 30D'!$A$2:$XFC$10000,MATCH(G$1,'Mediana Reunião Selic 30D'!$A$2:$XDF$2,0),FALSE)=0,NA(),VLOOKUP(A11,'Mediana Reunião Selic 30D'!$A$2:$XFC$10000,MATCH(G$1,'Mediana Reunião Selic 30D'!$A$2:$XDF$2,0),FALSE)) -> #N/A
A12: 44578 | B12: =IF(VLOOKUP(A12,'Mediana Reunião Selic 30D'!$A$2:$XFC$10000,MATCH(B$1,'Mediana Reunião Selic 30D'!$A$2:$XDF$2,0),FALSE)=0,NA(),VLOOKUP(A12,'Mediana Reunião Selic 30D'!$A$2:$XFC$10000,MATCH(B$1,'Mediana Reunião Selic 30D'!$A$2:$XDF$2,0),FALSE)) -> 9 | C12: =IF(VLOOKUP(A12,'Mediana Reunião Selic 30D'!$A$2:$XFC$10000,MATCH(C$1,'Mediana Reunião Selic 30D'!$A$2:$XDF$2,0),FALSE)=0,NA(),VLOOKUP(A12,'Mediana Reunião Selic 30D'!$A$2:$XFC$10000,MATCH(C$1,'Mediana Reunião Selic 30D'!$A$2:$XDF$2,0),FALSE)) -> 8.5 | D12: =IF(VLOOKUP(A12,'Mediana Reunião Selic 30D'!$A$2:$XFC$10000,MATCH(D$1,'Mediana Reunião Selic 30D'!$A$2:$XDF$2,0),FALSE)=0,NA(),VLOOKUP(A12,'Mediana Reunião Selic 30D'!$A$2:$XFC$10000,MATCH(D$1,'Mediana Reunião Selic 30D'!$A$2:$XDF$2,0),FALSE)) -> 8.25 | E12: =IF(VLOOKUP(A12,'Mediana Reunião Selic 30D'!$A$2:$XFC$10000,MATCH(E$1,'Mediana Reunião Selic 30D'!$A$2:$XDF$2,0),FALSE)=0,NA(),VLOOKUP(A12,'Mediana Reunião Selic 30D'!$A$2:$XFC$10000,MATCH(E$1,'Mediana Reunião Selic 30D'!$A$2:$XDF$2,0),FALSE)) -> 8 | F12: =IF(VLOOKUP(A12,'Mediana Reunião Selic 30D'!$A$2:$XFC$10000,MATCH(F$1,'Mediana Reunião Selic 30D'!$A$2:$XDF$2,0),FALSE)=0,NA(),VLOOKUP(A12,'Mediana Reunião Selic 30D'!$A$2:$XFC$10000,MATCH(F$1,'Mediana Reunião Selic 30D'!$A$2:$XDF$2,0),FALSE)) -> 8 | G12: =IF(VLOOKUP(A12,'Mediana Reunião Selic 30D'!$A$2:$XFC$10000,MATCH(G$1,'Mediana Reunião Selic 30D'!$A$2:$XDF$2,0),FALSE)=0,NA(),VLOOKUP(A12,'Mediana Reunião Selic 30D'!$A$2:$XFC$10000,MATCH(G$1,'Mediana Reunião Selic 30D'!$A$2:$XDF$2,0),FALSE)) -> #N/A
A13: 44579 | B13: =IF(VLOOKUP(A13,'Mediana Reunião Selic 30D'!$A$2:$XFC$10000,MATCH(B$1,'Mediana Reunião Selic 30D'!$A$2:$XDF$2,0),FALSE)=0,NA(),VLOOKUP(A13,'Mediana Reunião Selic 30D'!$A$2:$XFC$10000,MATCH(B$1,'Mediana Reunião Selic 30D'!$A$2:$XDF$2,0),FALSE)) -> 9 | C13: =IF(VLOOKUP(A13,'Mediana Reunião Selic 30D'!$A$2:$XFC$10000,MATCH(C$1,'Mediana Reunião Selic 30D'!$A$2:$XDF$2,0),FALSE)=0,NA(),VLOOKUP(A13,'Mediana Reunião Selic 30D'!$A$2:$XFC$10000,MATCH(C$1,'Mediana Reunião Selic 30D'!$A$2:$XDF$2,0),FALSE)) -> 8.5 | D13: =IF(VLOOKUP(A13,'Mediana Reunião Selic 30D'!$A$2:$XFC$10000,MATCH(D$1,'Mediana Reunião Selic 30D'!$A$2:$XDF$2,0),FALSE)=0,NA(),VLOOKUP(A13,'Mediana Reunião Selic 30D'!$A$2:$XFC$10000,MATCH(D$1,'Mediana Reunião Selic 30D'!$A$2:$XDF$2,0),FALSE)) -> 8.25 | E13: =IF(VLOOKUP(A13,'Mediana Reunião Selic 30D'!$A$2:$XFC$10000,MATCH(E$1,'Mediana Reunião Selic 30D'!$A$2:$XDF$2,0),FALSE)=0,NA(),VLOOKUP(A13,'Mediana Reunião Selic 30D'!$A$2:$XFC$10000,MATCH(E$1,'Mediana Reunião Selic 30D'!$A$2:$XDF$2,0),FALSE)) -> 8 | F13: =IF(VLOOKUP(A13,'Mediana Reunião Selic 30D'!$A$2:$XFC$10000,MATCH(F$1,'Mediana Reunião Selic 30D'!$A$2:$XDF$2,0),FALSE)=0,NA(),VLOOKUP(A13,'Mediana Reunião Selic 30D'!$A$2:$XFC$10000,MATCH(F$1,'Mediana Reunião Selic 30D'!$A$2:$XDF$2,0),FALSE)) -> 8 | G13: =IF(VLOOKUP(A13,'Mediana Reunião Selic 30D'!$A$2:$XFC$10000,MATCH(G$1,'Mediana Reunião Selic 30D'!$A$2:$XDF$2,0),FALSE)=0,NA(),VLOOKUP(A13,'Mediana Reunião Selic 30D'!$A$2:$XFC$10000,MATCH(G$1,'Mediana Reunião Selic 30D'!$A$2:$XDF$2,0),FALSE)) -> #N/A
... A337: 45051 | B337: =IF(VLOOKUP(A337,'Mediana Reunião Selic 30D'!$A$2:$XFC$10000,MATCH(B$1,'Mediana Reunião Selic 30D'!$A$2:$XDF$2,0),FALSE)=0,NA(),VLOOKUP(A337,'Mediana Reunião Selic 30D'!$A$2:$XFC$10000,MATCH(B$1,'Mediana Reunião Selic 30D'!$A$2:$XDF$2,0),FALSE)) -> 13.75 | C337: =IF(VLOOKUP(A337,'Mediana Reunião Selic 30D'!$A$2:$XFC$10000,MATCH(C$1,'Mediana Reunião Selic 30D'!$A$2:$XDF$2,0),FALSE)=0,NA(),VLOOKUP(A337,'Mediana Reunião Selic 30D'!$A$2:$XFC$10000,MATCH(C$1,'Mediana Reunião Selic 30D'!$A$2:$XDF$2,0),FALSE)) -> 13.75 | D337: =IF(VLOOKUP(A337,'Mediana Reunião Selic 30D'!$A$2:$XFC$10000,MATCH(D$1,'Mediana Reunião Selic 30D'!$A$2:$XDF$2,0),FALSE)=0,NA(),VLOOKUP(A337,'Mediana Reunião Selic 30D'!$A$2:$XFC$10000,MATCH(D$1,'Mediana Reunião Selic 30D'!$A$2:$XDF$2,0),FALSE)) -> 13.375 | E337: =IF(VLOOKUP(A337,'Mediana Reunião Selic 30D'!$A$2:$XFC$10000,MATCH(E$1,'Mediana Reunião Selic 30D'!$A$2:$XDF$2,0),FALSE)=0,NA(),VLOOKUP(A337,'Mediana Reunião Selic 30D'!$A$2:$XFC$10000,MATCH(E$1,'Mediana Reunião Selic 30D'!$A$2:$XDF$2,0),FALSE)) -> 13 | F337: =IF(VLOOKUP(A337,'Mediana Reunião Selic 30D'!$A$2:$XFC$10000,MATCH(F$1,'Mediana Reunião Selic 30D'!$A$2:$XDF$2,0),FALSE)=0,NA(),VLOOKUP(A337,'Mediana Reunião Selic 30D'!$A$2:$XFC$10000,MATCH(F$1,'Mediana Reunião Selic 30D'!$A$2:$XDF$2,0),FALSE)) -> 12.5 | G337: =IF(VLOOKUP(A337,'Mediana Reunião Selic 30D'!$A$2:$XFC$10000,MATCH(G$1,'Mediana Reunião Selic 30D'!$A$2:$XDF$2,0),FALSE)=0,NA(),VLOOKUP(A337,'Mediana Reunião Selic 30D'!$A$2:$XFC$10000,MATCH(G$1,'Mediana Reunião Selic 30D'!$A$2:$XDF$2,0),FALSE)) -> 10

Sheet Mediana Anual Selic TOP 5 LP
A1: Selic - % a.a - Mediana - Período de 02/01/2022 a 11/05/2023 - Base: Top 5 longo prazo
A2: Data | B2: 2022 | C2: 2023 | D2: 2024 | E2: 2025 | F2: 2026 | G2: 2027
A3: 44564 | B3: 11.875 | C3: 7.75 | D3: 6.5 | E3: 6.5 | F3: 6.5
A4: 44565 | B4: 11.875 | C4: 7.75 | D4: 6.5 | E4: 6.5 | F4: 6.5
A5: 44566 | B5: 11.875 | C5: 7.75 | D5: 6.5 | E5: 6.5 | F5: 6.5
A6: 44567 | B6: 11.875 | C6: 7.75 | D6: 6.5 | E6: 6.5 | F6: 6.5
A7: 44568 | B7: 11.875 | C7: 7.75 | D7: 6.5 | E7: 6.5 | F7: 6.5
A8: 44571 | B8: 11.875 | C8: 7.75 | D8: 6.5 | E8: 6.5 | F8: 6.5
A9: 44572 | B9: 11.875 | C9: 8 | D9: 6.5 | E9: 6.5 | F9: 6.5
A10: 44573 | B10: 11.875 | C10: 8 | D10: 6.5 | E10: 6.5 | F10: 6.5
A11: 44574 | B11: 11.875 | C11: 8 | D11: 6.5 | E11: 6.5 | F11: 6.5
A12: 44575 | B12: 11.875 | C12: 8 | D12: 6.5 | E12: 6.5 | F12: 6.5
A13: 44578 | B13: 11.875 | C13: 8 | D13: 6.5 | E13: 6.5 | F13: 6.5
A14: 44579 | B14: 11.625 | C14: 7.75 | D14: 6.5 | E14: 6.5 | F14: 6.5
... A236: 44902 | B236: 13.75 | C236: 13.75 | D236: 11.5 | E236: 10 | F236: 10
A237: 44903 | C237: 13.75 | D237: 11.5 | E237: 10 | F237: 10
A238: 44904 | C238: 13.75 | D238: 11.5 | E238: 10 | F238: 10
A239: 44907 | C239: 13.75 | D239: 11.5 | E239: 10 | F239: 10
A240: 44908 | C240: 13.75 | D240: 11.5 | E240: 10 | F240: 10 | G240: 10
A241: 44909 | C241: 13.75 | D241: 11.5 | E241: 10 | F241: 10 | G241: 10
A242: 44910 | C242: 13.75 | D242: 11.5 | E242: 10 | F242: 10 | G242: 10
A243: 44911 | C243: 13.75 | D243: 11.75 | E243: 10 | F243: 10 | G243: 9.5
A244: 44914 | C244: 13.75 | D244: 11.75 | E244: 10 | F244: 10 | G244: 9.5
A245: 44915 | C245: 13.75 | D245: 11.75 | E245: 10 | F245: 10 | G245: 9.5
A246: 44916 | C246: 13.75 | D246: 11.75 | E246: 10 | F246: 10 | G246: 9.5
A247: 44917 | C247: 13.75 | D247: 11.75 | E247: 10 | F247: 10 | G247: 9.5
A248: 44918 | C248: 13.75 | D248: 11.75 | E248: 10 | F248: 10 | G248: 9.5
A249: 44921 | C249: 13.75 | D249: 11.75 | E249: 10 | F249: 10 | G249: 9.5
A250: 44922 | C250: 13.75 | D250: 11.75 | E250: 10 | F250: 10 | G250: 9.5
A251: 44923 | C251: 13.75 | D251: 11.75 | E251: 10 | F251: 10 | G251: 9.5
... A338: 45051 | C338: 12.25 | D338: 10.125 | E338: 9.5 | F338: 9.25 | G338: 9

Sheet Análises Anual Selic
A1: Data | B1: 2023 | C1: 2024 | D1: 2025 | E1: 2026 | F1: 2027 | H1: 3R/2023 | I1: =VLOOKUP(H1,'Hist Selic Meta'!A:I,6,FALSE) -> 13.75
A2: 44564 | B2: =IF(VLOOKUP(A2,'Mediana Anual Selic TOP 5 LP'!$A$2:$XFC$10000,MATCH(B$1,'Mediana Anual Selic TOP 5 LP'!$A$2:$XDF$2,0),FALSE)=0,NA(),VLOOKUP(A2,'Mediana Anual Selic TOP 5 LP'!$A$2:$XFC$10000,MATCH(B$1,'Mediana Anual Selic TOP 5 LP'!$A$2:$XDF$2,0),FALSE)) -> 7.75 | C2: =IF(VLOOKUP(A2,'Mediana Anual Selic TOP 5 LP'!$A$2:$XFC$10000,MATCH(C$1,'Mediana Anual Selic TOP 5 LP'!$A$2:$XDF$2,0),FALSE)=0,NA(),VLOOKUP(A2,'Mediana Anual Selic TOP 5 LP'!$A$2:$XFC$10000,MATCH(C$1,'Mediana Anual Selic TOP 5 LP'!$A$2:$XDF$2,0),FALSE)) -> 6.5 | D2: =IF(VLOOKUP(A2,'Mediana Anual Selic TOP 5 LP'!$A$2:$XFC$10000,MATCH(D$1,'Mediana Anual Selic TOP 5 LP'!$A$2:$XDF$2,0),FALSE)=0,NA(),VLOOKUP(A2,'Mediana Anual Selic TOP 5 LP'!$A$2:$XFC$10000,MATCH(D$1,'Mediana Anual Selic TOP 5 LP'!$A$2:$XDF$2,0),FALSE)) -> 6.5 | E2: =IF(VLOOKUP(A2,'Mediana Anual Selic TOP 5 LP'!$A$2:$XFC$10000,MATCH(E$1,'Mediana Anual Selic TOP 5 LP'!$A$2:$XDF$2,0),FALSE)=0,NA(),VLOOKUP(A2,'Mediana Anual Selic TOP 5 LP'!$A$2:$XFC$10000,MATCH(E$1,'Mediana Anual Selic TOP 5 LP'!$A$2:$XDF$2,0),FALSE)) -> 6.5 | F2: =IF(VLOOKUP(A2,'Mediana Anual Selic TOP 5 LP'!$A$2:$XFC$10000,MATCH(F$1,'Mediana Anual Selic TOP 5 LP'!$A$2:$XDF$2,0),FALSE)=0,NA(),VLOOKUP(A2,'Mediana Anual Selic TOP 5 LP'!$A$2:$XFC$10000,MATCH(F$1,'Mediana Anual Selic TOP 5 LP'!$A$2:$XDF$2,0),FALSE)) -> #N/A
A3: 44565 | B3: =IF(VLOOKUP(A3,'Mediana Anual Selic TOP 5 LP'!$A$2:$XFC$10000,MATCH(B$1,'Mediana Anual Selic TOP 5 LP'!$A$2:$XDF$2,0),FALSE)=0,NA(),VLOOKUP(A3,'Mediana Anual Selic TOP 5 LP'!$A$2:$XFC$10000,MATCH(B$1,'Mediana Anual Selic TOP 5 LP'!$A$2:$XDF$2,0),FALSE)) -> 7.75 | C3: =IF(VLOOKUP(A3,'Mediana Anual Selic TOP 5 LP'!$A$2:$XFC$10000,MATCH(C$1,'Mediana Anual Selic TOP 5 LP'!$A$2:$XDF$2,0),FALSE)=0,NA(),VLOOKUP(A3,'Mediana Anual Selic TOP 5 LP'!$A$2:$XFC$10000,MATCH(C$1,'Mediana Anual Selic TOP 5 LP'!$A$2:$XDF$2,0),FALSE)) -> 6.5 | D3: =IF(VLOOKUP(A3,'Mediana Anual Selic TOP 5 LP'!$A$2:$XFC$10000,MATCH(D$1,'Mediana Anual Selic TOP 5 LP'!$A$2:$XDF$2,0),FALSE)=0,NA(),VLOOKUP(A3,'Mediana Anual Selic TOP 5 LP'!$A$2:$XFC$10000,MATCH(D$1,'Mediana Anual Selic TOP 5 LP'!$A$2:$XDF$2,0),FALSE)) -> 6.5 | E3: =IF(VLOOKUP(A3,'Mediana Anual Selic TOP 5 LP'!$A$2:$XFC$10000,MATCH(E$1,'Mediana Anual Selic TOP 5 LP'!$A$2:$XDF$2,0),FALSE)=0,NA(),VLOOKUP(A3,'Mediana Anual Selic TOP 5 LP'!$A$2:$XFC$10000,MATCH(E$1,'Mediana Anual Selic TOP 5 LP'!$A$2:$XDF$2,0),FALSE)) -> 6.5 | F3: =IF(VLOOKUP(A3,'Mediana Anual Selic TOP 5 LP'!$A$2:$XFC$10000,MATCH(F$1,'Mediana Anual Selic TOP 5 LP'!$A$2:$XDF$2,0),FALSE)=0,NA(),VLOOKUP(A3,'Mediana Anual Selic TOP 5 LP'!$A$2:$XFC$10000,MATCH(F$1,'Mediana Anual Selic TOP 5 LP'!$A$2:$XDF$2,0),FALSE)) -> #N/A
A4: 44566 | B4: =IF(VLOOKUP(A4,'Mediana Anual Selic TOP 5 LP'!$A$2:$XFC$10000,MATCH(B$1,'Mediana Anual Selic TOP 5 LP'!$A$2:$XDF$2,0),FALSE)=0,NA(),VLOOKUP(A4,'Mediana Anual Selic TOP 5 LP'!$A$2:$XFC$10000,MATCH(B$1,'Mediana Anual Selic TOP 5 LP'!$A$2:$XDF$2,0),FALSE)) -> 7.75 | C4: =IF(VLOOKUP(A4,'Mediana Anual Selic TOP 5 LP'!$A$2:$XFC$10000,MATCH(C$1,'Mediana Anual Selic TOP 5 LP'!$A$2:$XDF$2,0),FALSE)=0,NA(),VLOOKUP(A4,'Mediana Anual Selic TOP 5 LP'!$A$2:$XFC$10000,MATCH(C$1,'Mediana Anual Selic TOP 5 LP'!$A$2:$XDF$2,0),FALSE)) -> 6.5 | D4: =IF(VLOOKUP(A4,'Mediana Anual Selic TOP 5 LP'!$A$2:$XFC$10000,MATCH(D$1,'Mediana Anual Selic TOP 5 LP'!$A$2:$XDF$2,0),FALSE)=0,NA(),VLOOKUP(A4,'Mediana Anual Selic TOP 5 LP'!$A$2:$XFC$10000,MATCH(D$1,'Mediana Anual Selic TOP 5 LP'!$A$2:$XDF$2,0),FALSE)) -> 6.5 | E4: =IF(VLOOKUP(A4,'Mediana Anual Selic TOP 5 LP'!$A$2:$XFC$10000,MATCH(E$1,'Mediana Anual Selic TOP 5 LP'!$A$2:$XDF$2,0),FALSE)=0,NA(),VLOOKUP(A4,'Mediana Anual Selic TOP 5 LP'!$A$2:$XFC$10000,MATCH(E$1,'Mediana Anual Selic TOP 5 LP'!$A$2:$XDF$2,0),FALSE)) -> 6.5 | F4: =IF(VLOOKUP(A4,'Mediana Anual Selic TOP 5 LP'!$A$2:$XFC$10000,MATCH(F$1,'Mediana Anual Selic TOP 5 LP'!$A$2:$XDF$2,0),FALSE)=0,NA(),VLOOKUP(A4,'Mediana Anual Selic TOP 5 LP'!$A$2:$XFC$10000,MATCH(F$1,'Mediana Anual Selic TOP 5 LP'!$A$2:$XDF$2,0),FALSE)) -> #N/A
A5: 44567 | B5: =IF(VLOOKUP(A5,'Mediana Anual Selic TOP 5 LP'!$A$2:$XFC$10000,MATCH(B$1,'Mediana Anual Selic TOP 5 LP'!$A$2:$XDF$2,0),FALSE)=0,NA(),VLOOKUP(A5,'Mediana Anual Selic TOP 5 LP'!$A$2:$XFC$10000,MATCH(B$1,'Mediana Anual Selic TOP 5 LP'!$A$2:$XDF$2,0),FALSE)) -> 7.75 | C5: =IF(VLOOKUP(A5,'Mediana Anual Selic TOP 5 LP'!$A$2:$XFC$10000,MATCH(C$1,'Mediana Anual Selic TOP 5 LP'!$A$2:$XDF$2,0),FALSE)=0,NA(),VLOOKUP(A5,'Mediana Anual Selic TOP 5 LP'!$A$2:$XFC$10000,MATCH(C$1,'Mediana Anual Selic TOP 5 LP'!$A$2:$XDF$2,0),FALSE)) -> 6.5 | D5: =IF(VLOOKUP(A5,'Mediana Anual Selic TOP 5 LP'!$A$2:$XFC$10000,MATCH(D$1,'Mediana Anual Selic TOP 5 LP'!$A$2:$XDF$2,0),FALSE)=0,NA(),VLOOKUP(A5,'Mediana Anual Selic TOP 5 LP'!$A$2:$XFC$10000,MATCH(D$1,'Mediana Anual Selic TOP 5 LP'!$A$2:$XDF$2,0),FALSE)) -> 6.5 | E5: =IF(VLOOKUP(A5,'Mediana Anual Selic TOP 5 LP'!$A$2:$XFC$10000,MATCH(E$1,'Mediana Anual Selic TOP 5 LP'!$A$2:$XDF$2,0),FALSE)=0,NA(),VLOOKUP(A5,'Mediana Anual Selic TOP 5 LP'!$A$2:$XFC$10000,MATCH(E$1,'Mediana Anual Selic TOP 5 LP'!$A$2:$XDF$2,0),FALSE)) -> 6.5 | F5: =IF(VLOOKUP(A5,'Mediana Anual Selic TOP 5 LP'!$A$2:$XFC$10000,MATCH(F$1,'Mediana Anual Selic TOP 5 LP'!$A$2:$XDF$2,0),FALSE)=0,NA(),VLOOKUP(A5,'Mediana Anual Selic TOP 5 LP'!$A$2:$XFC$10000,MATCH(F$1,'Mediana Anual Selic TOP 5 LP'!$A$2:$XDF$2,0),FALSE)) -> #N/A
A6: 44568 | B6: =IF(VLOOKUP(A6,'Mediana Anual Selic TOP 5 LP'!$A$2:$XFC$10000,MATCH(B$1,'Mediana Anual Selic TOP 5 LP'!$A$2:$XDF$2,0),FALSE)=0,NA(),VLOOKUP(A6,'Mediana Anual Selic TOP 5 LP'!$A$2:$XFC$10000,MATCH(B$1,'Mediana Anual Selic TOP 5 LP'!$A$2:$XDF$2,0),FALSE)) -> 7.75 | C6: =IF(VLOOKUP(A6,'Mediana Anual Selic TOP 5 LP'!$A$2:$XFC$10000,MATCH(C$1,'Mediana Anual Selic TOP 5 LP'!$A$2:$XDF$2,0),FALSE)=0,NA(),VLOOKUP(A6,'Mediana Anual Selic TOP 5 LP'!$A$2:$XFC$10000,MATCH(C$1,'Mediana Anual Selic TOP 5 LP'!$A$2:$XDF$2,0),FALSE)) -> 6.5 | D6: =IF(VLOOKUP(A6,'Mediana Anual Selic TOP 5 LP'!$A$2:$XFC$10000,MATCH(D$1,'Mediana Anual Selic TOP 5 LP'!$A$2:$XDF$2,0),FALSE)=0,NA(),VLOOKUP(A6,'Mediana Anual Selic TOP 5 LP'!$A$2:$XFC$10000,MATCH(D$1,'Mediana Anual Selic TOP 5 LP'!$A$2:$XDF$2,0),FALSE)) -> 6.5 | E6: =IF(VLOOKUP(A6,'Mediana Anual Selic TOP 5 LP'!$A$2:$XFC$10000,MATCH(E$1,'Mediana Anual Selic TOP 5 LP'!$A$2:$XDF$2,0),FALSE)=0,NA(),VLOOKUP(A6,'Mediana Anual Selic TOP 5 LP'!$A$2:$XFC$10000,MATCH(E$1,'Mediana Anual Selic TOP 5 LP'!$A$2:$XDF$2,0),FALSE)) -> 6.5 | F6: =IF(VLOOKUP(A6,'Mediana Anual Selic TOP 5 LP'!$A$2:$XFC$10000,MATCH(F$1,'Mediana Anual Selic TOP 5 LP'!$A$2:$XDF$2,0),FALSE)=0,NA(),VLOOKUP(A6,'Mediana Anual Selic TOP 5 LP'!$A$2:$XFC$10000,MATCH(F$1,'Mediana Anual Selic TOP 5 LP'!$A$2:$XDF$2,0),FALSE)) -> #N/A
A7: 44571 | B7: =IF(VLOOKUP(A7,'Mediana Anual Selic TOP 5 LP'!$A$2:$XFC$10000,MATCH(B$1,'Mediana Anual Selic TOP 5 LP'!$A$2:$XDF$2,0),FALSE)=0,NA(),VLOOKUP(A7,'Mediana Anual Selic TOP 5 LP'!$A$2:$XFC$10000,MATCH(B$1,'Mediana Anual Selic TOP 5 LP'!$A$2:$XDF$2,0),FALSE)) -> 7.75 | C7: =IF(VLOOKUP(A7,'Mediana Anual Selic TOP 5 LP'!$A$2:$XFC$10000,MATCH(C$1,'Mediana Anual Selic TOP 5 LP'!$A$2:$XDF$2,0),FALSE)=0,NA(),VLOOKUP(A7,'Mediana Anual Selic TOP 5 LP'!$A$2:$XFC$10000,MATCH(C$1,'Mediana Anual Selic TOP 5 LP'!$A$2:$XDF$2,0),FALSE)) -> 6.5 | D7: =IF(VLOOKUP(A7,'Mediana Anual Selic TOP 5 LP'!$A$2:$XFC$10000,MATCH(D$1,'Mediana Anual Selic TOP 5 LP'!$A$2:$XDF$2,0),FALSE)=0,NA(),VLOOKUP(A7,'Mediana Anual Selic TOP 5 LP'!$A$2:$XFC$10000,MATCH(D$1,'Mediana Anual Selic TOP 5 LP'!$A$2:$XDF$2,0),FALSE)) -> 6.5 | E7: =IF(VLOOKUP(A7,'Mediana Anual Selic TOP 5 LP'!$A$2:$XFC$10000,MATCH(E$1,'Mediana Anual Selic TOP 5 LP'!$A$2:$XDF$2,0),FALSE)=0,NA(),VLOOKUP(A7,'Mediana Anual Selic TOP 5 LP'!$A$2:$XFC$10000,MATCH(E$1,'Mediana Anual Selic TOP 5 LP'!$A$2:$XDF$2,0),FALSE)) -> 6.5 | F7: =IF(VLOOKUP(A7,'Mediana Anual Selic TOP 5 LP'!$A$2:$XFC$10000,MATCH(F$1,'Mediana Anual Selic TOP 5 LP'!$A$2:$XDF$2,0),FALSE)=0,NA(),VLOOKUP(A7,'Mediana Anual Selic TOP 5 LP'!$A$2:$XFC$10000,MATCH(F$1,'Mediana Anual Selic TOP 5 LP'!$A$2:$XDF$2,0),FALSE)) -> #N/A
A8: 44572 | B8: =IF(VLOOKUP(A8,'Mediana Anual Selic TOP 5 LP'!$A$2:$XFC$10000,MATCH(B$1,'Mediana Anual Selic TOP 5 LP'!$A$2:$XDF$2,0),FALSE)=0,NA(),VLOOKUP(A8,'Mediana Anual Selic TOP 5 LP'!$A$2:$XFC$10000,MATCH(B$1,'Mediana Anual Selic TOP 5 LP'!$A$2:$XDF$2,0),FALSE)) -> 8 | C8: =IF(VLOOKUP(A8,'Mediana Anual Selic TOP 5 LP'!$A$2:$XFC$10000,MATCH(C$1,'Mediana Anual Selic TOP 5 LP'!$A$2:$XDF$2,0),FALSE)=0,NA(),VLOOKUP(A8,'Mediana Anual Selic TOP 5 LP'!$A$2:$XFC$10000,MATCH(C$1,'Mediana Anual Selic TOP 5 LP'!$A$2:$XDF$2,0),FALSE)) -> 6.5 | D8: =IF(VLOOKUP(A8,'Mediana Anual Selic TOP 5 LP'!$A$2:$XFC$10000,MATCH(D$1,'Mediana Anual Selic TOP 5 LP'!$A$2:$XDF$2,0),FALSE)=0,NA(),VLOOKUP(A8,'Mediana Anual Selic TOP 5 LP'!$A$2:$XFC$10000,MATCH(D$1,'Mediana Anual Selic TOP 5 LP'!$A$2:$XDF$2,0),FALSE)) -> 6.5 | E8: =IF(VLOOKUP(A8,'Mediana Anual Selic TOP 5 LP'!$A$2:$XFC$10000,MATCH(E$1,'Mediana Anual Selic TOP 5 LP'!$A$2:$XDF$2,0),FALSE)=0,NA(),VLOOKUP(A8,'Mediana Anual Selic TOP 5 LP'!$A$2:$XFC$10000,MATCH(E$1,'Mediana Anual Selic TOP 5 LP'!$A$2:$XDF$2,0),FALSE)) -> 6.5 | F8: =IF(VLOOKUP(A8,'Mediana Anual Selic TOP 5 LP'!$A$2:$XFC$10000,MATCH(F$1,'Mediana Anual Selic TOP 5 LP'!$A$2:$XDF$2,0),FALSE)=0,NA(),VLOOKUP(A8,'Mediana Anual Selic TOP 5 LP'!$A$2:$XFC$10000,MATCH(F$1,'Mediana Anual Selic TOP 5 LP'!$A$2:$XDF$2,0),FALSE)) -> #N/A
A9: 44573 | B9: =IF(VLOOKUP(A9,'Mediana Anual Selic TOP 5 LP'!$A$2:$XFC$10000,MATCH(B$1,'Mediana Anual Selic TOP 5 LP'!$A$2:$XDF$2,0),FALSE)=0,NA(),VLOOKUP(A9,'Mediana Anual Selic TOP 5 LP'!$A$2:$XFC$10000,MATCH(B$1,'Mediana Anual Selic TOP 5 LP'!$A$2:$XDF$2,0),FALSE)) -> 8 | C9: =IF(VLOOKUP(A9,'Mediana Anual Selic TOP 5 LP'!$A$2:$XFC$10000,MATCH(C$1,'Mediana Anual Selic TOP 5 LP'!$A$2:$XDF$2,0),FALSE)=0,NA(),VLOOKUP(A9,'Mediana Anual Selic TOP 5 LP'!$A$2:$XFC$10000,MATCH(C$1,'Mediana Anual Selic TOP 5 LP'!$A$2:$XDF$2,0),FALSE)) -> 6.5 | D9: =IF(VLOOKUP(A9,'Mediana Anual Selic TOP 5 LP'!$A$2:$XFC$10000,MATCH(D$1,'Mediana Anual Selic TOP 5 LP'!$A$2:$XDF$2,0),FALSE)=0,NA(),VLOOKUP(A9,'Mediana Anual Selic TOP 5 LP'!$A$2:$XFC$10000,MATCH(D$1,'Mediana Anual Selic TOP 5 LP'!$A$2:$XDF$2,0),FALSE)) -> 6.5 | E9: =IF(VLOOKUP(A9,'Mediana Anual Selic TOP 5 LP'!$A$2:$XFC$10000,MATCH(E$1,'Mediana Anual Selic TOP 5 LP'!$A$2:$XDF$2,0),FALSE)=0,NA(),VLOOKUP(A9,'Mediana Anual Selic TOP 5 LP'!$A$2:$XFC$10000,MATCH(E$1,'Mediana Anual Selic TOP 5 LP'!$A$2:$XDF$2,0),FALSE)) -> 6.5 | F9: =IF(VLOOKUP(A9,'Mediana Anual Selic TOP 5 LP'!$A$2:$XFC$10000,MATCH(F$1,'Mediana Anual Selic TOP 5 LP'!$A$2:$XDF$2,0),FALSE)=0,NA(),VLOOKUP(A9,'Mediana Anual Selic TOP 5 LP'!$A$2:$XFC$10000,MATCH(F$1,'Mediana Anual Selic TOP 5 LP'!$A$2:$XDF$2,0),FALSE)) -> #N/A
A10: 44574 | B10: =IF(VLOOKUP(A10,'Mediana Anual Selic TOP 5 LP'!$A$2:$XFC$10000,MATCH(B$1,'Mediana Anual Selic TOP 5 LP'!$A$2:$XDF$2,0),FALSE)=0,NA(),VLOOKUP(A10,'Mediana Anual Selic TOP 5 LP'!$A$2:$XFC$10000,MATCH(B$1,'Mediana Anual Selic TOP 5 LP'!$A$2:$XDF$2,0),FALSE)) -> 8 | C10: =IF(VLOOKUP(A10,'Mediana Anual Selic TOP 5 LP'!$A$2:$XFC$10000,MATCH(C$1,'Mediana Anual Selic TOP 5 LP'!$A$2:$XDF$2,0),FALSE)=0,NA(),VLOOKUP(A10,'Mediana Anual Selic TOP 5 LP'!$A$2:$XFC$10000,MATCH(C$1,'Mediana Anual Selic TOP 5 LP'!$A$2:$XDF$2,0),FALSE)) -> 6.5 | D10: =IF(VLOOKUP(A10,'Mediana Anual Selic TOP 5 LP'!$A$2:$XFC$10000,MATCH(D$1,'Mediana Anual Selic TOP 5 LP'!$A$2:$XDF$2,0),FALSE)=0,NA(),VLOOKUP(A10,'Mediana Anual Selic TOP 5 LP'!$A$2:$XFC$10000,MATCH(D$1,'Mediana Anual Selic TOP 5 LP'!$A$2:$XDF$2,0),FALSE)) -> 6.5 | E10: =IF(VLOOKUP(A10,'Mediana Anual Selic TOP 5 LP'!$A$2:$XFC$10000,MATCH(E$1,'Mediana Anual Selic TOP 5 LP'!$A$2:$XDF$2,0),FALSE)=0,NA(),VLOOKUP(A10,'Mediana Anual Selic TOP 5 LP'!$A$2:$XFC$10000,MATCH(E$1,'Mediana Anual Selic TOP 5 LP'!$A$2:$XDF$2,0),FALSE)) -> 6.5 | F10: =IF(VLOOKUP(A10,'Mediana Anual Selic TOP 5 LP'!$A$2:$XFC$10000,MATCH(F$1,'Mediana Anual Selic TOP 5 LP'!$A$2:$XDF$2,0),FALSE)=0,NA(),VLOOKUP(A10,'Mediana Anual Selic TOP 5 LP'!$A$2:$XFC$10000,MATCH(F$1,'Mediana Anual Selic TOP 5 LP'!$A$2:$XDF$2,0),FALSE)) -> #N/A
A11: 44575 | B11: =IF(VLOOKUP(A11,'Mediana Anual Selic TOP 5 LP'!$A$2:$XFC$10000,MATCH(B$1,'Mediana Anual Selic TOP 5 LP'!$A$2:$XDF$2,0),FALSE)=0,NA(),VLOOKUP(A11,'Mediana Anual Selic TOP 5 LP'!$A$2:$XFC$10000,MATCH(B$1,'Mediana Anual Selic TOP 5 LP'!$A$2:$XDF$2,0),FALSE)) -> 8 | C11: =IF(VLOOKUP(A11,'Mediana Anual Selic TOP 5 LP'!$A$2:$XFC$10000,MATCH(C$1,'Mediana Anual Selic TOP 5 LP'!$A$2:$XDF$2,0),FALSE)=0,NA(),VLOOKUP(A11,'Mediana Anual Selic TOP 5 LP'!$A$2:$XFC$10000,MATCH(C$1,'Mediana Anual Selic TOP 5 LP'!$A$2:$XDF$2,0),FALSE)) -> 6.5 | D11: =IF(VLOOKUP(A11,'Mediana Anual Selic TOP 5 LP'!$A$2:$XFC$10000,MATCH(D$1,'Mediana Anual Selic TOP 5 LP'!$A$2:$XDF$2,0),FALSE)=0,NA(),VLOOKUP(A11,'Mediana Anual Selic TOP 5 LP'!$A$2:$XFC$10000,MATCH(D$1,'Mediana Anual Selic TOP 5 LP'!$A$2:$XDF$2,0),FALSE)) -> 6.5 | E11: =IF(VLOOKUP(A11,'Mediana Anual Selic TOP 5 LP'!$A$2:$XFC$10000,MATCH(E$1,'Mediana Anual Selic TOP 5 LP'!$A$2:$XDF$2,0),FALSE)=0,NA(),VLOOKUP(A11,'Mediana Anual Selic TOP 5 LP'!$A$2:$XFC$10000,MATCH(E$1,'Mediana Anual Selic TOP 5 LP'!$A$2:$XDF$2,0),FALSE)) -> 6.5 | F11: =IF(VLOOKUP(A11,'Mediana Anual Selic TOP 5 LP'!$A$2:$XFC$10000,MATCH(F$1,'Mediana Anual Selic TOP 5 LP'!$A$2:$XDF$2,0),FALSE)=0,NA(),VLOOKUP(A11,'Mediana Anual Selic TOP 5 LP'!$A$2:$XFC$10000,MATCH(F$1,'Mediana Anual Selic TOP 5 LP'!$A$2:$XDF$2,0),FALSE)) -> #N/A
A12: 44578 | B12: =IF(VLOOKUP(A12,'Mediana Anual Selic TOP 5 LP'!$A$2:$XFC$10000,MATCH(B$1,'Mediana Anual Selic TOP 5 LP'!$A$2:$XDF$2,0),FALSE)=0,NA(),VLOOKUP(A12,'Mediana Anual Selic TOP 5 LP'!$A$2:$XFC$10000,MATCH(B$1,'Mediana Anual Selic TOP 5 LP'!$A$2:$XDF$2,0),FALSE)) -> 8 | C12: =IF(VLOOKUP(A12,'Mediana Anual Selic TOP 5 LP'!$A$2:$XFC$10000,MATCH(C$1,'Mediana Anual Selic TOP 5 LP'!$A$2:$XDF$2,0),FALSE)=0,NA(),VLOOKUP(A12,'Mediana Anual Selic TOP 5 LP'!$A$2:$XFC$10000,MATCH(C$1,'Mediana Anual Selic TOP 5 LP'!$A$2:$XDF$2,0),FALSE)) -> 6.5 | D12: =IF(VLOOKUP(A12,'Mediana Anual Selic TOP 5 LP'!$A$2:$XFC$10000,MATCH(D$1,'Mediana Anual Selic TOP 5 LP'!$A$2:$XDF$2,0),FALSE)=0,NA(),VLOOKUP(A12,'Mediana Anual Selic TOP 5 LP'!$A$2:$XFC$10000,MATCH(D$1,'Mediana Anual Selic TOP 5 LP'!$A$2:$XDF$2,0),FALSE)) -> 6.5 | E12: =IF(VLOOKUP(A12,'Mediana Anual Selic TOP 5 LP'!$A$2:$XFC$10000,MATCH(E$1,'Mediana Anual Selic TOP 5 LP'!$A$2:$XDF$2,0),FALSE)=0,NA(),VLOOKUP(A12,'Mediana Anual Selic TOP 5 LP'!$A$2:$XFC$10000,MATCH(E$1,'Mediana Anual Selic TOP 5 LP'!$A$2:$XDF$2,0),FALSE)) -> 6.5 | F12: =IF(VLOOKUP(A12,'Mediana Anual Selic TOP 5 LP'!$A$2:$XFC$10000,MATCH(F$1,'Mediana Anual Selic TOP 5 LP'!$A$2:$XDF$2,0),FALSE)=0,NA(),VLOOKUP(A12,'Mediana Anual Selic TOP 5 LP'!$A$2:$XFC$10000,MATCH(F$1,'Mediana Anual Selic TOP 5 LP'!$A$2:$XDF$2,0),FALSE)) -> #N/A
A13: 44579 | B13: =IF(VLOOKUP(A13,'Mediana Anual Selic TOP 5 LP'!$A$2:$XFC$10000,MATCH(B$1,'Mediana Anual Selic TOP 5 LP'!$A$2:$XDF$2,0),FALSE)=0,NA(),VLOOKUP(A13,'Mediana Anual Selic TOP 5 LP'!$A$2:$XFC$10000,MATCH(B$1,'Mediana Anual Selic TOP 5 LP'!$A$2:$XDF$2,0),FALSE)) -> 7.75 | C13: =IF(VLOOKUP(A13,'Mediana Anual Selic TOP 5 LP'!$A$2:$XFC$10000,MATCH(C$1,'Mediana Anual Selic TOP 5 LP'!$A$2:$XDF$2,0),FALSE)=0,NA(),VLOOKUP(A13,'Mediana Anual Selic TOP 5 LP'!$A$2:$XFC$10000,MATCH(C$1,'Mediana Anual Selic TOP 5 LP'!$A$2:$XDF$2,0),FALSE)) -> 6.5 | D13: =IF(VLOOKUP(A13,'Mediana Anual Selic TOP 5 LP'!$A$2:$XFC$10000,MATCH(D$1,'Mediana Anual Selic TOP 5 LP'!$A$2:$XDF$2,0),FALSE)=0,NA(),VLOOKUP(A13,'Mediana Anual Selic TOP 5 LP'!$A$2:$XFC$10000,MATCH(D$1,'Mediana Anual Selic TOP 5 LP'!$A$2:$XDF$2,0),FALSE)) -> 6.5 | E13: =IF(VLOOKUP(A13,'Mediana Anual Selic TOP 5 LP'!$A$2:$XFC$10000,MATCH(E$1,'Mediana Anual Selic TOP 5 LP'!$A$2:$XDF$2,0),FALSE)=0,NA(),VLOOKUP(A13,'Mediana Anual Selic TOP 5 LP'!$A$2:$XFC$10000,MATCH(E$1,'Mediana Anual Selic TOP 5 LP'!$A$2:$XDF$2,0),FALSE)) -> 6.5 | F13: =IF(VLOOKUP(A13,'Mediana Anual Selic TOP 5 LP'!$A$2:$XFC$10000,MATCH(F$1,'Mediana Anual Selic TOP 5 LP'!$A$2:$XDF$2,0),FALSE)=0,NA(),VLOOKUP(A13,'Mediana Anual Selic TOP 5 LP'!$A$2:$XFC$10000,MATCH(F$1,'Mediana Anual Selic TOP 5 LP'!$A$2:$XDF$2,0),FALSE)) -> #N/A
... A337: 45051 | B337: =IF(VLOOKUP(A337,'Mediana Anual Selic TOP 5 LP'!$A$2:$XFC$10000,MATCH(B$1,'Mediana Anual Selic TOP 5 LP'!$A$2:$XDF$2,0),FALSE)=0,NA(),VLOOKUP(A337,'Mediana Anual Selic TOP 5 LP'!$A$2:$XFC$10000,MATCH(B$1,'Mediana Anual Selic TOP 5 LP'!$A$2:$XDF$2,0),FALSE)) -> 12.25 | C337: =IF(VLOOKUP(A337,'Mediana Anual Selic TOP 5 LP'!$A$2:$XFC$10000,MATCH(C$1,'Mediana Anual Selic TOP 5 LP'!$A$2:$XDF$2,0),FALSE)=0,NA(),VLOOKUP(A337,'Mediana Anual Selic TOP 5 LP'!$A$2:$XFC$10000,MATCH(C$1,'Mediana Anual Selic TOP 5 LP'!$A$2:$XDF$2,0),FALSE)) -> 10.125 | D337: =IF(VLOOKUP(A337,'Mediana Anual Selic TOP 5 LP'!$A$2:$XFC$10000,MATCH(D$1,'Mediana Anual Selic TOP 5 LP'!$A$2:$XDF$2,0),FALSE)=0,NA(),VLOOKUP(A337,'Mediana Anual Selic TOP 5 LP'!$A$2:$XFC$10000,MATCH(D$1,'Mediana Anual Selic TOP 5 LP'!$A$2:$XDF$2,0),FALSE)) -> 9.5 | E337: =IF(VLOOKUP(A337,'Mediana Anual Selic TOP 5 LP'!$A$2:$XFC$10000,MATCH(E$1,'Mediana Anual Selic TOP 5 LP'!$A$2:$XDF$2,0),FALSE)=0,NA(),VLOOKUP(A337,'Mediana Anual Selic TOP 5 LP'!$A$2:$XFC$10000,MATCH(E$1,'Mediana Anual Selic TOP 5 LP'!$A$2:$XDF$2,0),FALSE)) -> 9.25 | F337: =IF(VLOOKUP(A337,'Mediana Anual Selic TOP 5 LP'!$A$2:$XFC$10000,MATCH(F$1,'Mediana Anual Selic TOP 5 LP'!$A$2:$XDF$2,0),FALSE)=0,NA(),VLOOKUP(A337,'Mediana Anual Selic TOP 5 LP'!$A$2:$XFC$10000,MATCH(F$1,'Mediana Anual Selic TOP 5 LP'!$A$2:$XDF$2,0),FALSE)) -> 9

Sheet Estatísticas IPCA
A1: Média | L1: 12 M | M1: =((1+B4/100)*(1+C4/100)*(1+D4/100)*(1+E4/100)*(1+F4/100)*(1+G4/100)*(1+H4/100)*(1+I4/100)*(1+J4/100)*(1+K4/100)*(1+L4/100)*(1+M4/100)-1)*100 -> 5.0197838 | X1: +12M | Y1: =((1+N4/100)*(1+O4/100)*(1+P4/100)*(1+Q4/100)*(1+R4/100)*(1+S4/100)*(1+T4/100)*(1+U4/100)*(1+V4/100)*(1+W4/100)*(1+X4/100)*(1+Y4/100)-1)*100 -> 4.1661222
A2: IPCA - variação % - Média - Período de 12/05/2023 a 12/05/2023 - Base: Expectativas informadas nos últimos 30 dias
A3: Data | B3: 45047 | C3: 45078 | D3: 45108 | E3: 45139 | F3: 45170 | G3: 45200 | H3: 45231 | I3: 45261 | J3: 45292 | K3: 45323 | L3: 45352 | M3: 45383 | N3: 45413 | O3: 45444 | P3: 45474 | Q3: 45505 | R3: 45536 | S3: 45566 | T3: 45597 | U3: 45627 | V3: 45658 | W3: 45689 | X3: 45717 | Y3: 45748 | Z3: 45778
A4: 45058 | B4: 0.4626 | C4: 0.4964 | D4: 0.3781 | E4: 0.2394 | F4: 0.3071 | G4: 0.4229 | H4: 0.3462 | I4: 0.5293 | J4: 0.451 | K4: 0.5261 | L4: 0.3846 | M4: 0.3646 | N4: 0.2862 | O4: 0.2495 | P4: 0.2346 | Q4: 0.1946 | R4: 0.2572 | S4: 0.3678 | T4: 0.3359 | U4: 0.5012 | V4: 0.4402 | W4: 0.5058 | X4: 0.3592 | Y4: 0.357 | Z4: 0.2773
A6: Desvio Padrão | L6: 12 M | M6: =((1+B9/100)*(1+C9/100)*(1+D9/100)*(1+E9/100)*(1+F9/100)*(1+G9/100)*(1+H9/100)*(1+I9/100)*(1+J9/100)*(1+K9/100)*(1+L9/100)*(1+M9/100)-1)*100 -> 1.2454252 | X6: +12M | Y6: =((1+N9/100)*(1+O9/100)*(1+P9/100)*(1+Q9/100)*(1+R9/100)*(1+S9/100)*(1+T9/100)*(1+U9/100)*(1+V9/100)*(1+W9/100)*(1+X9/100)*(1+Y9/100)-1)*100 -> 1.1904275
A7: IPCA - variação % - Desvio padrão - Período de 12/05/2023 a 12/05/2023 - Base: Expectativas informadas nos últimos 30 dias
A8: Data | B8: 45047 | C8: 45078 | D8: 45108 | E8: 45139 | F8: 45170 | G8: 45200 | H8: 45231 | I8: 45261 | J8: 45292 | K8: 45323 | L8: 45352 | M8: 45383 | N8: 45413 | O8: 45444 | P8: 45474 | Q8: 45505 | R8: 45536 | S8: 45566 | T8: 45597 | U8: 45627 | V8: 45658 | W8: 45689 | X8: 45717 | Y8: 45748 | Z8: 45778
A9: 45058 | B9: 0.0938 | C9: 0.1308 | D9: 0.1388 | E9: 0.0844 | F9: 0.074 | G9: 0.0839 | H9: 0.0879 | I9: 0.1292 | J9: 0.1256 | K9: 0.1067 | L9: 0.1015 | M9: 0.0818 | N9: 0.0868 | O9: 0.0935 | P9: 0.1125 | Q9: 0.0907 | R9: 0.0689 | S9: 0.0893 | T9: 0.092 | U9: 0.1281 | V9: 0.1044 | W9: 0.1299 | X9: 0.1076 | Y9: 0.0803 | Z9: 0.0456
A11: Máximo | L11: 12 M | M11: =((1+B14/100)*(1+C14/100)*(1+D14/100)*(1+E14/100)*(1+F14/100)*(1+G14/100)*(1+H14/100)*(1+I14/100)*(1+J14/100)*(1+K14/100)*(1+L14/100)*(1+M14/100)-1)*100 -> 9.3031651 | X11: +12M | Y11: =((1+N14/100)*(1+O14/100)*(1+P14/100)*(1+Q14/100)*(1+R14/100)*(1+S14/100)*(1+T14/100)*(1+U14/100)*(1+V14/100)*(1+W14/100)*(1+X14/100)*(1+Y14/100)-1)*100 -> 8.0424261
A12: IPCA - variação % - Máximo - Período de 12/05/2023 a 12/05/2023 - Base: Expectativas informadas nos últimos 30 dias
A13: Data | B13: 45047 | C13: 45078 | D13: 45108 | E13: 45139 | F13: 45170 | G13: 45200 | H13: 45231 | I13: 45261 | J13: 45292 | K13: 45323 | L13: 45352 | M13: 45383 | N13: 45413 | O13: 45444 | P13: 45474 | Q13: 45505 | R13: 45536 | S13: 45566 | T13: 45597 | U13: 45627 | V13: 45658 | W13: 45689 | X13: 45717 | Y13: 45748 | Z13: 45778
A14: 45058 | B14: 0.7 | C14: 0.8 | D14: 0.77 | E14: 0.54 | F14: 0.53 | G14: 0.8 | H14: 0.55 | I14: 1.01 | J14: 0.89 | K14: 0.94 | L14: 0.8 | M14: 0.6 | N14: 0.62 | O14: 0.53 | P14: 0.5 | Q14: 0.48 | R14: 0.42 | S14: 0.64 | T14: 0.6 | U14: 1.0623 | V14: 0.82 | W14: 0.8 | X14: 0.7 | Y14: 0.5898 | Z14: 0.4
A16: Mediana | L16: 12 M | M16: =((1+B19/100)*(1+C19/100)*(1+D19/100)*(1+E19/100)*(1+F19/100)*(1+G19/100)*(1+H19/100)*(1+I19/100)*(1+J19/100)*(1+K19/100)*(1+L19/100)*(1+M19/100)-1)*100 -> 4.9551663 | X16: +12M | Y16: =((1+N19/100)*(1+O19/100)*(1+P19/100)*(1+Q19/100)*(1+R19/100)*(1+S19/100)*(1+T19/100)*(1+U19/100)*(1+V19/100)*(1+W19/100)*(1+X19/100)*(1+Y19/100)-1)*100 -> 4.1410207
A17: IPCA - variação % - Mediana - Período de 12/05/2023 a 12/05/2023 - Base: Expectativas informadas nos últimos 30 dias
A18: Data | B18: 45047 | C18: 45078 | D18: 45108 | E18: 45139 | F18: 45170 | G18: 45200 | H18: 45231 | I18: 45261 | J18: 45292 | K18: 45323 | L18: 45352 | M18: 45383 | N18: 45413 | O18: 45444 | P18: 45474 | Q18: 45505 | R18: 45536 | S18: 45566 | T18: 45597 | U18: 45627 | V18: 45658 | W18: 45689 | X18: 45717 | Y18: 45748 | Z18: 45778
A19: 45058 | B19: 0.45 | C19: 0.5 | D19: 0.37 | E19: 0.24 | F19: 0.31 | G19: 0.42 | H19: 0.34 | I19: 0.54 | J19: 0.4365 | K19: 0.51 | L19: 0.38 | M19: 0.35 | N19: 0.29 | O19: 0.25 | P19: 0.245 | Q19: 0.2 | R19: 0.25 | S19: 0.36 | T19: 0.32 | U19: 0.5 | V19: 0.45 | W19: 0.5 | X19: 0.35 | Y19: 0.35 | Z19: 0.285
A21: Mínimo | L21: 12 M | M21: =((1+B24/100)*(1+C24/100)*(1+D24/100)*(1+E24/100)*(1+F24/100)*(1+G24/100)*(1+H24/100)*(1+I24/100)*(1+J24/100)*(1+K24/100)*(1+L24/100)*(1+M24/100)-1)*100 -> 0.69431508 | X21: +12M | Y21: =((1+N24/100)*(1+O24/100)*(1+P24/100)*(1+Q24/100)*(1+R24/100)*(1+S24/100)*(1+T24/100)*(1+U24/100)*(1+V24/100)*(1+W24/100)*(1+X24/100)*(1+Y24/100)-1)*100 -> 0.32316326
A22: IPCA - variação % - Mínimo - Período de 12/05/2023 a 12/05/2023 - Base: Expectativas informadas nos últimos 30 dias
A23: Data | B23: 45047 | C23: 45078 | D23: 45108 | E23: 45139 | F23: 45170 | G23: 45200 | H23: 45231 | I23: 45261 | J23: 45292 | K23: 45323 | L23: 45352 | M23: 45383 | N23: 45413 | O23: 45444 | P23: 45474 | Q23: 45505 | R23: 45536 | S23: 45566 | T23: 45597 | U23: 45627 | V23: 45658 | W23: 45689 | X23: 45717 | Y23: 45748 | Z23: 45778
A24: 45058 | B24: 0.2 | C24: 0.0686 | D24: -0.2196 | E24: -0.0245 | F24: -0.04 | G24: 0.2 | H24: 0.06 | I24: -0.0614 | J24: 0 | K24: 0.24 | L24: 0.12 | M24: 0.15 | N24: 0 | O24: -0.03 | P24: -0.3717 | Q24: -0.1232 | R24: -0.011 | S24: 0.1 | T24: 0 | U24: 0.22 | V24: 0.19 | W24: 0.1 | X24: 0.1 | Y24: 0.15 | Z24: 0.2

Sheet Estatísticas Selic
A1: Selic Meta atual: | B1: 13.75
A3: Média | F3: 2023 | G3: =+F6 -> 12.5911 | M3: 2024 | N3: =+N6 -> 10.0005
A4: Selic - % a.a - Média - Período de 12/05/2023 a 12/05/2023 - Base: Expectativas informadas nos últimos 30 dias
A5: Data | B5: 4R/2023 | C5: 5R/2023 | D5: 6R/2023 | E5: 7R/2023 | F5: 8R/2023 | G5: 1R/2024 | H5: 2R/2024 | I5: 3R/2024 | J5: 4R/2024 | K5: 5R/2024 | L5: 6R/2024 | M5: 7R/2024 | N5: 8R/2024 | O5: 1R/2025 | P5: 2R/2025 | Q5: 3R/2025
A6: 45058 | B6: 13.7426 | C6: 13.6397 | D6: 13.3676 | E6: 12.9836 | F6: 12.5911 | G6: 12.1491 | H6: 11.724 | I6: 11.2917 | J6: 10.8904 | K6: 10.5646 | L6: 10.3199 | M6: 10.1308 | N6: 10.0005 | O6: 9.7505 | P6: 9.5814 | Q6: 9.3867
B7: =+(B6-$B$1)*100 -> -0.74 | C7: =(+C6-B6)*100 -> -10.29 | D7: =(+D6-C6)*100 -> -27.21 | E7: =(+E6-D6)*100 -> -38.4 | F7: =(+F6-E6)*100 -> -39.25 | G7: =(+G6-F6)*100 -> -44.2 | H7: =(+H6-G6)*100 -> -42.51 | I7: =(+I6-H6)*100 -> -43.23 | J7: =(+J6-I6)*100 -> -40.13 | ... Q7: =(+Q6-P6)*100 -> -19.47
A9: Desvio Padrão
A10: IPCA - variação % - Desvio padrão - Período de 12/05/2023 a 12/05/2023 - Base: Expectativas informadas nos últimos 30 dias
A11: Data | B11: 45047 | C11: 45078 | D11: 45108 | E11: 45139 | F11: 45170 | G11: 45200 | H11: 45231 | I11: 45261 | J11: 45292 | K11: 45323 | L11: 45352 | M11: 45383 | N11: 45413 | O11: 45444 | P11: 45474 | Q11: 45505
A12: 45058 | B12: 0.0938 | C12: 0.1308 | D12: 0.1388 | E12: 0.0844 | F12: 0.074 | G12: 0.0839 | H12: 0.0879 | I12: 0.1292 | J12: 0.1256 | K12: 0.1067 | L12: 0.1015 | M12: 0.0818 | N12: 0.0868 | O12: 0.0935 | P12: 0.1125 | Q12: 0.0907
A15: Máximo | F15: 2023 | G15: =+F18 -> 13.75 | M15: 2024 | N15: =+N18 -> 12.5
A16: Selic - % a.a - Máximo - Período de 12/05/2023 a 12/05/2023 - Base: Expectativas informadas nos últimos 30 dias
A17: Data | B17: 4R/2023 | C17: 5R/2023 | D17: 6R/2023 | E17: 7R/2023 | F17: 8R/2023 | G17: 1R/2024 | H17: 2R/2024 | I17: 3R/2024 | J17: 4R/2024 | K17: 5R/2024 | L17: 6R/2024 | M17: 7R/2024 | N17: 8R/2024 | O17: 1R/2025 | P17: 2R/2025 | Q17: 3R/2025
A18: 45058 | B18: 13.75 | C18: 13.75 | D18: 13.75 | E18: 13.75 | F18: 13.75 | G18: 13.75 | H18: 13.75 | I18: 13.75 | J18: 13.75 | K18: 13.5 | L18: 13 | M18: 12.5 | N18: 12.5 | O18: 12.5 | P18: 12.5 | Q18: 12
B19: =+(B18-$B$1)*100 -> 0 | C19: =(+C18-B18)*100 -> 0 | D19: =(+D18-C18)*100 -> 0 | E19: =(+E18-D18)*100 -> 0 | F19: =(+F18-E18)*100 -> 0 | G19: =(+G18-F18)*100 -> 0 | H19: =(+H18-G18)*100 -> 0 | I19: =(+I18-H18)*100 -> 0 | J19: =(+J18-I18)*100 -> 0 | ... Q19: =(+Q18-P18)*100 -> -50
A21: Mediana | F21: 2023 | G21: =+F24 -> 12.5 | M21: 2024 | N21: =+N24 -> 10
A22: Selic - % a.a - Mediana - Período de 12/05/2023 a 12/05/2023 - Base: Expectativas informadas nos últimos 30 dias
A23: Data | B23: 4R/2023 | C23: 5R/2023 | D23: 6R/2023 | E23: 7R/2023 | F23: 8R/2023 | G23: 1R/2024 | H23: 2R/2024 | I23: 3R/2024 | J23: 4R/2024 | K23: 5R/2024 | L23: 6R/2024 | M23: 7R/2024 | N23: 8R/2024 | O23: 1R/2025 | P23: 2R/2025 | Q23: 3R/2025
A24: 45058 | B24: 13.75 | C24: 13.75 | D24: 13.375 | E24: 13 | F24: 12.5 | G24: 12 | H24: 11.5 | I24: 11.25 | J24: 10.75 | K24: 10.5 | L24: 10.25 | M24: 10 | N24: 10 | O24: 9.75 | P24: 9.5 | Q24: 9.25
B25: =+(B24-$B$1)*100 -> 0 | C25: =(+C24-B24)*100 -> 0 | D25: =(+D24-C24)*100 -> -37.5 | E25: =(+E24-D24)*100 -> -37.5 | F25: =(+F24-E24)*100 -> -50 | G25: =(+G24-F24)*100 -> -50 | H25: =(+H24-G24)*100 -> -50 | I25: =(+I24-H24)*100 -> -25 | J25: =(+J24-I24)*100 -> -50 | ... Q25: =(+Q24-P24)*100 -> -25
A27: Mínimo | F27: 2023 | G27: =+F30 -> 11 | M27: 2024 | N27: =+N30 -> 7.75
A28: Selic - % a.a - Mínimo - Período de 12/05/2023 a 12/05/2023 - Base: Expectativas informadas nos últimos 30 dias
A29: Data | B29: 4R/2023 | C29: 5R/2023 | D29: 6R/2023 | E29: 7R/2023 | F29: 8R/2023 | G29: 1R/2024 | H29: 2R/2024 | I29: 3R/2024 | J29: 4R/2024 | K29: 5R/2024 | L29: 6R/2024 | M29: 7R/2024 | N29: 8R/2024 | O29: 1R/2025 | P29: 2R/2025 | Q29: 3R/2025
A30: 45058 | B30: 12.75 | C30: 12.25 | D30: 11.75 | E30: 11.25 | F30: 11 | G30: 9.75 | H30: 9.25 | I30: 8.75 | J30: 8.75 | K30: 8.25 | L30: 8 | M30: 8 | N30: 7.75 | O30: 7 | P30: 7.5 | Q30: 7
B31: =+(B30-$B$1)*100 -> -100 | C31: =(+C30-B30)*100 -> -50 | D31: =(+D30-C30)*100 -> -50 | E31: =(+E30-D30)*100 -> -50 | F31: =(+F30-E30)*100 -> -25 | G31: =(+G30-F30)*100 -> -125 | H31: =(+H30-G30)*100 -> -50 | I31: =(+I30-H30)*100 -> -50 | J31: =(+J30-I30)*100 -> 0 | ... Q31: =(+Q30-P30)*100 -> -50

Sheet Links 2023
A1: https://www.bcb.gov.br/controleinflacao/faqexpectativa
A3: https://www3.bcb.gov.br/expectativas2/#/consultas

Sheet Feriados
A1: 36892
A2: 36948
A3: 36949
A4: 36994
A5: 37002
A6: 37012
A7: 37056
A8: 37141
A9: 37176
A10: 37197
A11: 37210
A12: 37250
... A936: 65374
