Workbook
Name feriado: [1]FERIADOS!$A$2:$A$1037

Sheet NTN-B
C1: Tx 08/22 | O1: Tx 08/28 | AA1: Tx 05/55
A2: Nr. | B2: Data | C2: 44788 | D2: Preço | E2: Juros | F2: Jr CDI | G2: PU Ajustado | H2: Rent | I2: Acum. | J2: 08/22 | K2: PU + JR CDI | L2: Rent | M2: Acum. | N2: 08/22 | O2: 46980 | P2: Preço | Q2: Juros | R2: Jr CDI | S2: PU Ajustado | T2: Rent | U2: Acum. | V2: 08/28 | W2: PU + JR CDI | X2: Rent | Y2: Acum. | Z2: 08/28 | AA2: 56749 | AB2: Preço | AC2: Juros | AD2: Jr CDI | AE2: PU Ajustado | AF2: Rent | AG2: Acum. | AH2: 05/55 | AI2: PU + JR CDI | AJ2: Rent | AK2: Acum. | AL2: 05/55 | AM2: Tx CDI | AN2: Índice CDI | AO2: Rent | AP2: Acum. | AQ2: CDI | AR2: VNA IPCA | AS2: Rent | AT2: Acum. | AU2: Ret | AX2: Resumos Estatísticos | BB2: Resumos Estatísticos | BF2: Resumos Estatísticos
A3: 1 | B3: 43832 | C3: 1.63 | D3: 3709.6235 | E3: 0 | I3: 1 | J3: 0 | K3: =+D3 -> 3709.6235 | M3: 1 | N3: 0 | O3: 2.87 | P3: 4114.7051 | Q3: 0 | U3: 1 | V3: 0 | W3: =+P3 -> 4114.7051 | Y3: 1 | Z3: 0 | AA3: 3.4854 | AB3: 4948.4811 | AC3: 0 | AG3: 1 | AH3: 0 | AI3: =+AB3 -> 4948.4811 | AK3: 1 | AL3: 0 | AM3: 4.4 | AN3: 1 | AP3: 1 | AQ3: 0 | AR3: 3276.3522 | AT3: 1 | AU3: 0 | AX3: =+C2 -> 44788 | BB3: =+O2 -> 46980 | BF3: =+AA2 -> 56749
A4: =+A3+1 -> 2 | B4: 43833 | C4: 1.63 | D4: 3711.8007 | E4: 0 | G4: =+D4+E4 -> 3711.8007 | H4: =+(G4/D3-1)*100 -> 0.058690673 | I4: =+(1+H4/100)*I3 -> 1.0005869 | J4: =+(I4-1)*100 -> 0.058690673 | K4: =+D4+F4 -> 3711.8007 | L4: =+(K4/K3-1)*100 -> 0.058690673 | M4: =+(1+L4/100)*M3 -> 1.0005869 | N4: =+(M4-1)*100 -> 0.058690673 | O4: 2.9 | P4: 4109.0135 | Q4: 0 | S4: =+P4+Q4 -> 4109.0135 | T4: =+(S4/P3-1)*100 -> -0.13832362 | U4: =+(1+T4/100)*U3 -> 0.99861676 | V4: =+(U4-1)*100 -> -0.13832362 | W4: =+P4+R4 -> 4109.0135 | X4: =+(W4/W3-1)*100 -> -0.13832362 | Y4: =+(1+X4/100)*Y3 -> 0.99861676 | Z4: =+(Y4-1)*100 -> -0.13832362 | AA4: 3.526 | AB4: 4916.0761 | AC4: 0 | AE4: =+AC4+AB4 -> 4916.0761 | AF4: =+(AE4/AB3-1)*100 -> -0.65484678 | AG4: =+(1+AF4/100)*AG3 -> 0.99345153 | AH4: =+(AG4-1)*100 -> -0.65484678 | AI4: =+AB4+AD4 -> 4916.0761 | AJ4: =+(AI4/AI3-1)*100 -> -0.65484678 | AK4: =+(1+AJ4/100)*AK3 -> 0.99345153 | AL4: =+(AK4-1)*100 -> -0.65484678 | AM4: 4.4 | AN4: =+((AM3/100+1)^(1/252))*AN3 -> 1.0001709 | AO4: =+(AN4/AN3-1)*100 -> 0.017088559 | AP4: =+(1+AO4/100)*AP3 -> 1.0001709 | AQ4: =+(AP4-1)*100 -> 0.017088559 | AR4: 3278.0637 | AS4: =+(AR4/AR3-1)*100 -> 0.052239928 | AT4: =+(1+AS4/100)*AT3 -> 1.0005224 | AU4: =+(AT4-1)*100 -> 0.052239928 | AX4: De: | AY4: 44200 | BB4: De: | BC4: 44200 | BF4: De: | BG4: 44200
A5: =+A4+1 -> 3 | B5: 43836 | C5: 1.66 | D5: 3711.339 | E5: 0 | G5: =+D5+E5 -> 3711.339 | H5: =+(G5/D4-1)*100 -> -0.012440161 | I5: =+(1+H5/100)*I4 -> 1.0004624 | J5: =+(I5-1)*100 -> 0.04624321 | K5: =+D5+F5 -> 3711.339 | L5: =+(K5/K4-1)*100 -> -0.012440161 | M5: =+(1+L5/100)*M4 -> 1.0004624 | N5: =+(M5-1)*100 -> 0.04624321 | O5: 2.95 | P5: 4097.8311 | Q5: 0 | S5: =+P5+Q5 -> 4097.8311 | T5: =+(S5/P4-1)*100 -> -0.27214476 | U5: =+(1+T5/100)*U4 -> 0.99589908 | V5: =+(U5-1)*100 -> -0.41009194 | W5: =+P5+R5 -> 4097.8311 | X5: =+(W5/W4-1)*100 -> -0.27214476 | Y5: =+(1+X5/100)*Y4 -> 0.99589908 | Z5: =+(Y5-1)*100 -> -0.41009194 | AA5: 3.5977 | AB5: 4857.2403 | AC5: 0 | AE5: =+AC5+AB5 -> 4857.2403 | AF5: =+(AE5/AB4-1)*100 -> -1.1968044 | AG5: =+(1+AF5/100)*AG4 -> 0.98156186 | AH5: =+(AG5-1)*100 -> -1.8438139 | AI5: =+AB5+AD5 -> 4857.2403 | AJ5: =+(AI5/AI4-1)*100 -> -1.1968044 | AK5: =+(1+AJ5/100)*AK4 -> 0.98156186 | AL5: =+(AK5-1)*100 -> -1.8438139 | AM5: 4.4 | AN5: =+((AM4/100+1)^(1/252))*AN4 -> 1.0003418 | AO5: =+(AN5/AN4-1)*100 -> 0.017088559 | AP5: =+(1+AO5/100)*AP4 -> 1.0003418 | AQ5: =+(AP5-1)*100 -> 0.034180038 | AR5: 3279.7762 | AS5: =+(AR5/AR4-1)*100 -> 0.052239924 | AT5: =+(1+AS5/100)*AT4 -> 1.0010451 | AU5: =+(AT5-1)*100 -> 0.10450714 | AX5: Até: | AY5: 44561 | BB5: Até: | BC5: 44561 | BF5: Até: | BG5: 44561
A6: =+A5+1 -> 4 | B6: 43837 | C6: 1.64 | D6: 3715.2762 | E6: 0 | G6: =+D6+E6 -> 3715.2762 | H6: =+(G6/D5-1)*100 -> 0.10608646 | I6: =+(1+H6/100)*I5 -> 1.0015238 | J6: =+(I6-1)*100 -> 0.15237872 | K6: =+D6+F6 -> 3715.2762 | L6: =+(K6/K5-1)*100 -> 0.10608646 | M6: =+(1+L6/100)*M5 -> 1.0015238 | N6: =+(M6-1)*100 -> 0.15237872 | O6: 2.94 | P6: 4103.2008 | Q6: 0 | S6: =+P6+Q6 -> 4103.2008 | T6: =+(S6/P5-1)*100 -> 0.13103737 | U6: =+(1+T6/100)*U5 -> 0.99720408 | V6: =+(U6-1)*100 -> -0.27959194 | W6: =+P6+R6 -> 4103.2008 | X6: =+(W6/W5-1)*100 -> 0.13103737 | Y6: =+(1+X6/100)*Y5 -> 0.99720408 | Z6: =+(Y6-1)*100 -> -0.27959194 | AA6: 3.6 | AB6: 4858.4881 | AC6: 0 | AE6: =+AC6+AB6 -> 4858.4881 | AF6: =+(AE6/AB5-1)*100 -> 0.025689361 | AG6: =+(1+AF6/100)*AG5 -> 0.98181402 | AH6: =+(AG6-1)*100 -> -1.8185982 | AI6: =+AB6+AD6 -> 4858.4881 | AJ6: =+(AI6/AI5-1)*100 -> 0.025689361 | AK6: =+(1+AJ6/100)*AK5 -> 0.98181402 | AL6: =+(AK6-1)*100 -> -1.8185982 | AM6: 4.4 | AN6: =+((AM5/100+1)^(1/252))*AN5 -> 1.0005127 | AO6: =+(AN6/AN5-1)*100 -> 0.017088559 | AP6: =+(1+AO6/100)*AP5 -> 1.0005127 | AQ6: =+(AP6-1)*100 -> 0.051274438 | AR6: 3281.4895 | AS6: =+(AR6/AR5-1)*100 -> 0.052239937 | AT6: =+(1+AS6/100)*AT5 -> 1.001568 | AU6: =+(AT6-1)*100 -> 0.15680167 | AZ6: + JR CDI | BD6: + JR CDI | BH6: + JR CDI
A7: =+A6+1 -> 5 | B7: 43838 | C7: 1.63 | D7: 3718.3366 | E7: 0 | G7: =+D7+E7 -> 3718.3366 | H7: =+(G7/D6-1)*100 -> 0.082374199 | I7: =+(1+H7/100)*I6 -> 1.0023488 | J7: =+(I7-1)*100 -> 0.23487844 | K7: =+D7+F7 -> 3718.3366 | L7: =+(K7/K6-1)*100 -> 0.082374199 | M7: =+(1+L7/100)*M6 -> 1.0023488 | N7: =+(M7-1)*100 -> 0.23487844 | O7: 2.92 | P7: 4111.3328 | Q7: 0 | S7: =+P7+Q7 -> 4111.3328 | T7: =+(S7/P6-1)*100 -> 0.1981885 | U7: =+(1+T7/100)*U6 -> 0.99918042 | V7: =+(U7-1)*100 -> -0.081957562 | W7: =+P7+R7 -> 4111.3328 | X7: =+(W7/W6-1)*100 -> 0.1981885 | Y7: =+(1+X7/100)*Y6 -> 0.99918042 | Z7: =+(Y7-1)*100 -> -0.081957562 | AA7: 3.57 | AB7: 4887.5479 | AC7: 0 | AE7: =+AC7+AB7 -> 4887.5479 | AF7: =+(AE7/AB6-1)*100 -> 0.59812414 | AG7: =+(1+AF7/100)*AG6 -> 0.98768648 | AH7: =+(AG7-1)*100 -> -1.2313516 | AI7: =+AB7+AD7 -> 4887.5479 | AJ7: =+(AI7/AI6-1)*100 -> 0.59812414 | AK7: =+(1+AJ7/100)*AK6 -> 0.98768648 | AL7: =+(AK7-1)*100 -> -1.2313516 | AM7: 4.4 | AN7: =+((AM6/100+1)^(1/252))*AN6 -> 1.0006837 | AO7: =+(AN7/AN6-1)*100 -> 0.017088559 | AP7: =+(1+AO7/100)*AP6 -> 1.0006837 | AQ7: =+(AP7-1)*100 -> 0.068371759 | AR7: 3283.2038 | AS7: =+(AR7/AR6-1)*100 -> 0.052239905 | AT7: =+(1+AS7/100)*AT6 -> 1.0020912 | AU7: =+(AT7-1)*100 -> 0.20912349 | AX7: Rent Per. | AY7: =((VLOOKUP(AY5,B:AQ,8,FALSE)/VLOOKUP(AY4,B:AQ,8,FALSE))-1)*100 -> 6.7866306 | AZ7: =((VLOOKUP(AY5,B:AQ,12,FALSE)/VLOOKUP(AY4,B:AQ,12,FALSE))-1)*100 -> 6.5907583 | BB7: Rent Per. | BC7: =(((VLOOKUP(BC5,B:AQ,20,FALSE)/VLOOKUP(BC4,B:AQ,20,FALSE))-1)*100) -> -1.1260421 | BD7: =(((VLOOKUP(BC5,B:AQ,22,FALSE)/VLOOKUP(BC4,B:AQ,22,FALSE))-1)*100) -> -0.82768383 | BF7: Rent Per. | BG7: =(((VLOOKUP(BG5,B:AQ,32,FALSE)/VLOOKUP(BG4,B:AQ,32,FALSE))-1)*100) -> -10.747635 | BH7: =(((VLOOKUP(BG5,B:AQ,36,FALSE)/VLOOKUP(BG4,B:AQ,36,FALSE))-1)*100) -> -9.9580218
A8: =+A7+1 -> 6 | B8: 43839 | C8: 1.6409 | D8: 3719.563 | E8: 0 | G8: =+D8+E8 -> 3719.563 | H8: =+(G8/D7-1)*100 -> 0.032981011 | I8: =+(1+H8/100)*I7 -> 1.0026794 | J8: =+(I8-1)*100 -> 0.26793692 | K8: =+D8+F8 -> 3719.563 | L8: =+(K8/K7-1)*100 -> 0.032981011 | M8: =+(1+L8/100)*M7 -> 1.0026794 | N8: =+(M8-1)*100 -> 0.26793692 | O8: 2.91 | P8: 4116.7097 | Q8: 0 | S8: =+P8+Q8 -> 4116.7097 | T8: =+(S8/P7-1)*100 -> 0.1307808 | U8: =+(1+T8/100)*U7 -> 1.0004872 | V8: =+(U8-1)*100 -> 0.048716055 | W8: =+P8+R8 -> 4116.7097 | X8: =+(W8/W7-1)*100 -> 0.1307808 | Y8: =+(1+X8/100)*Y7 -> 1.0004872 | Z8: =+(Y8-1)*100 -> 0.048716055 | AA8: 3.55 | AB8: 4908.1288 | AC8: 0 | AE8: =+AC8+AB8 -> 4908.1288 | AF8: =+(AE8/AB7-1)*100 -> 0.42108819 | AG8: =+(1+AF8/100)*AG7 -> 0.99184552 | AH8: =+(AG8-1)*100 -> -0.81544847 | AI8: =+AB8+AD8 -> 4908.1288 | AJ8: =+(AI8/AI7-1)*100 -> 0.42108819 | AK8: =+(1+AJ8/100)*AK7 -> 0.99184552 | AL8: =+(AK8-1)*100 -> -0.81544847 | AM8: 4.4 | AN8: =+((AM7/100+1)^(1/252))*AN7 -> 1.0008547 | AO8: =+(AN8/AN7-1)*100 -> 0.017088559 | AP8: =+(1+AO8/100)*AP7 -> 1.0008547 | AQ8: =+(AP8-1)*100 -> 0.085472001 | AR8: 3284.9189 | AS8: =+(AR8/AR7-1)*100 -> 0.05223995 | AT8: =+(1+AS8/100)*AT7 -> 1.0026147 | AU8: =+(AT8-1)*100 -> 0.26147269 | AX8: VNA IPCA | AY8: =(((VLOOKUP(AY5,B:AU,43,FALSE)/VLOOKUP(AY4,B:AU,43,FALSE))-1)*100) -> 10.335264 | AZ8: =+AY8 -> 10.335264 | BB8: VNA IPCA | BC8: =(((VLOOKUP(BC5,B:AU,43,FALSE)/VLOOKUP(BC4,B:AU,43,FALSE))-1)*100) -> 10.335264 | BD8: =+BC8 -> 10.335264 | BF8: VNA IPCA | BG8: =(((VLOOKUP(BG5,B:AU,43,FALSE)/VLOOKUP(BG4,B:AU,43,FALSE))-1)*100) -> 10.335264 | BH8: =+BG8 -> 10.335264
A9: =+A8+1 -> 7 | B9: 43840 | C9: 1.7074 | D9: 3719.0558 | E9: 0 | G9: =+D9+E9 -> 3719.0558 | H9: =+(G9/D8-1)*100 -> -0.013635876 | I9: =+(1+H9/100)*I8 -> 1.0025426 | J9: =+(I9-1)*100 -> 0.25426451 | K9: =+D9+F9 -> 3719.0558 | L9: =+(K9/K8-1)*100 -> -0.013635876 | M9: =+(1+L9/100)*M8 -> 1.0025426 | N9: =+(M9-1)*100 -> 0.25426451 | O9: 2.9027 | P9: 4124.8165 | Q9: 0 | S9: =+P9+Q9 -> 4124.8165 | T9: =+(S9/P8-1)*100 -> 0.1969256 | U9: =+(1+T9/100)*U8 -> 1.0024574 | V9: =+(U9-1)*100 -> 0.24573758 | W9: =+P9+R9 -> 4124.8165 | X9: =+(W9/W8-1)*100 -> 0.1969256 | Y9: =+(1+X9/100)*Y8 -> 1.0024574 | Z9: =+(Y9-1)*100 -> 0.24573758 | AA9: 3.55 | AB9: 4915.5062 | AC9: 0 | AE9: =+AC9+AB9 -> 4915.5062 | AF9: =+(AE9/AB8-1)*100 -> 0.15031158 | AG9: =+(1+AF9/100)*AG8 -> 0.99333637 | AH9: =+(AG9-1)*100 -> -0.6663626 | AI9: =+AB9+AD9 -> 4915.5062 | AJ9: =+(AI9/AI8-1)*100 -> 0.15031158 | AK9: =+(1+AJ9/100)*AK8 -> 0.99333637 | AL9: =+(AK9-1)*100 -> -0.6663626 | AM9: 4.4 | AN9: =+((AM8/100+1)^(1/252))*AN8 -> 1.0010258 | AO9: =+(AN9/AN8-1)*100 -> 0.017088559 | AP9: =+(1+AO9/100)*AP8 -> 1.0010258 | AQ9: =+(AP9-1)*100 -> 0.10257517 | AR9: 3289.4008 | AS9: =+(AR9/AR8-1)*100 -> 0.13643856 | AT9: =+(1+AS9/100)*AT8 -> 1.0039827 | AU9: =+(AT9-1)*100 -> 0.39826799 | AX9: CDI | AY9: =(((VLOOKUP(AY5,B:AU,41,FALSE)/VLOOKUP(AY4,B:AU,41,FALSE))-1)*100) -> 4.3912741 | AZ9: =+AY9 -> 4.3912741 | BB9: CDI | BC9: =(((VLOOKUP(BC5,B:AQ,41,FALSE)/VLOOKUP(BC4,B:AQ,41,FALSE))-1)*100) -> 4.3912741 | BD9: =+BC9 -> 4.3912741 | BF9: CDI | BG9: =(((VLOOKUP(BG5,B:AQ,41,FALSE)/VLOOKUP(BG4,B:AQ,41,FALSE))-1)*100) -> 4.3912741 | BH9: =+BG9 -> 4.3912741
A10: =+A9+1 -> 8 | B10: 43843 | C10: 1.77 | D10: 3715.9726 | E10: 0 | G10: =+D10+E10 -> 3715.9726 | H10: =+(G10/D9-1)*100 -> -0.082901177 | I10: =+(1+H10/100)*I9 -> 1.0017115 | J10: =+(I10-1)*100 -> 0.17115254 | K10: =+D10+F10 -> 3715.9726 | L10: =+(K10/K9-1)*100 -> -0.082901177 | M10: =+(1+L10/100)*M9 -> 1.0017115 | N10: =+(M10-1)*100 -> 0.17115254 | O10: 2.96 | P10: 4111.825 | Q10: 0 | S10: =+P10+Q10 -> 4111.825 | T10: =+(S10/P9-1)*100 -> -0.31496002 | U10: =+(1+T10/100)*U9 -> 0.99930004 | V10: =+(U10-1)*100 -> -0.069996413 | W10: =+P10+R10 -> 4111.825 | X10: =+(W10/W9-1)*100 -> -0.31496002 | Y10: =+(1+X10/100)*Y9 -> 0.99930004 | Z10: =+(Y10-1)*100 -> -0.069996413 | AA10: 3.57 | AB10: 4901.6175 | AC10: 0 | AE10: =+AC10+AB10 -> 4901.6175 | AF10: =+(AE10/AB9-1)*100 -> -0.28254968 | AG10: =+(1+AF10/100)*AG9 -> 0.99052971 | AH10: =+(AG10-1)*100 -> -0.94702947 | AI10: =+AB10+AD10 -> 4901.6175 | AJ10: =+(AI10/AI9-1)*100 -> -0.28254968 | AK10: =+(1+AJ10/100)*AK9 -> 0.99052971 | AL10: =+(AK10-1)*100 -> -0.94702947 | AM10: 4.4 | AN10: =+((AM9/100+1)^(1/252))*AN9 -> 1.0011968 | AO10: =+(AN10/AN9-1)*100 -> 0.017088559 | AP10: =+(1+AO10/100)*AP9 -> 1.0011968 | AQ10: =+(AP10-1)*100 -> 0.11968125 | AR10: 3291.282 | AS10: =+(AR10/AR9-1)*100 -> 0.057190811 | AT10: =+(1+AS10/100)*AT9 -> 1.0045569 | AU10: =+(AT10-1)*100 -> 0.45568658 | AX10: %CDI | AY10: =+AY7/AY9*100 -> 154.5481 | AZ10: =+AZ7/AZ9*100 -> 150.08761 | BB10: %CDI | BC10: =+BC7/BC9*100 -> -25.642718 | BD10: =+BD7/BD9*100 -> -18.848375 | BF10: %CDI | BG10: =+BG7/BG9*100 -> -244.7498 | BH10: =+BH7/BH9*100 -> -226.76839
A11: =+A10+1 -> 9 | B11: 43844 | C11: 1.74 | D11: 3720.9695 | E11: 0 | G11: =+D11+E11 -> 3720.9695 | H11: =+(G11/D10-1)*100 -> 0.1344691 | I11: =+(1+H11/100)*I10 -> 1.0030585 | J11: =+(I11-1)*100 -> 0.30585179 | K11: =+D11+F11 -> 3720.9695 | L11: =+(K11/K10-1)*100 -> 0.1344691 | M11: =+(1+L11/100)*M10 -> 1.0030585 | N11: =+(M11-1)*100 -> 0.30585179 | O11: 2.92 | P11: 4125.6895 | Q11: 0 | S11: =+P11+Q11 -> 4125.6895 | T11: =+(S11/P10-1)*100 -> 0.3371858 | U11: =+(1+T11/100)*U10 -> 1.0026695 | V11: =+(U11-1)*100 -> 0.26695337 | W11: =+P11+R11 -> 4125.6895 | X11: =+(W11/W10-1)*100 -> 0.3371858 | Y11: =+(1+X11/100)*Y10 -> 1.0026695 | Z11: =+(Y11-1)*100 -> 0.26695337 | AA11: 3.5309 | AB11: 4939.1834 | AC11: 0 | AE11: =+AC11+AB11 -> 4939.1834 | AF11: =+(AE11/AB10-1)*100 -> 0.76639842 | AG11: =+(1+AF11/100)*AG10 -> 0.99812111 | AH11: =+(AG11-1)*100 -> -0.18788907 | AI11: =+AB11+AD11 -> 4939.1834 | AJ11: =+(AI11/AI10-1)*100 -> 0.76639842 | AK11: =+(1+AJ11/100)*AK10 -> 0.99812111 | AL11: =+(AK11-1)*100 -> -0.18788907 | AM11: 4.4 | AN11: =+((AM10/100+1)^(1/252))*AN10 -> 1.0013679 | AO11: =+(AN11/AN10-1)*100 -> 0.017088559 | AP11: =+(1+AO11/100)*AP10 -> 1.0013679 | AQ11: =+(AP11-1)*100 -> 0.13679026 | AR11: 3293.1644 | AS11: =+(AR11/AR10-1)*100 -> 0.057190845 | AT11: =+(1+AS11/100)*AT10 -> 1.0051314 | AU11: =+(AT11-1)*100 -> 0.51313803 | AX11: Rent a.a. | AY11: =(((1+AY7/100)^(252/NETWORKDAYS(AY4,AY5-1,Feriados!$A$1:$A$936)))-1)*100 -> 6.8427404 | AZ11: =(((1+AZ7/100)^(252/NETWORKDAYS(AY4,AY5-1,Feriados!$A$1:$A$936)))-1)*100 -> 6.6451988 | BB11: Rent a.a. | BC11: =(((1+BC7/100)^(252/NETWORKDAYS(BC4,BC5-1,Feriados!$A$1:$A$936)))-1)*100 -> -1.1349991 | BD11: =(((1+BD7/100)^(252/NETWORKDAYS(BC4,BC5-1,Feriados!$A$1:$A$936)))-1)*100 -> -0.8342776 | BF11: Rent a.a. | BG11: =(((1+BG7/100)^(252/NETWORKDAYS(BG4,BG5-1,Feriados!$A$1:$A$936)))-1)*100 -> -10.828783 | BH11: =(((1+BH7/100)^(252/NETWORKDAYS(BG4,BG5-1,Feriados!$A$1:$A$936)))-1)*100 -> -10.033549
A12: =+A11+1 -> 10 | B12: 43845 | C12: 1.6649 | D12: 3729.8985 | E12: 0 | G12: =+D12+E12 -> 3729.8985 | H12: =+(G12/D11-1)*100 -> 0.23996523 | I12: =+(1+H12/100)*I11 -> 1.0054655 | J12: =+(I12-1)*100 -> 0.54655096 | K12: =+D12+F12 -> 3729.8985 | L12: =+(K12/K11-1)*100 -> 0.23996523 | M12: =+(1+L12/100)*M11 -> 1.0054655 | N12: =+(M12-1)*100 -> 0.54655096 | O12: 2.9 | P12: 4134.0526 | Q12: 0 | S12: =+P12+Q12 -> 4134.0526 | T12: =+(S12/P11-1)*100 -> 0.20270779 | U12: =+(1+T12/100)*U11 -> 1.004702 | V12: =+(U12-1)*100 -> 0.47020229 | W12: =+P12+R12 -> 4134.0526 | X12: =+(W12/W11-1)*100 -> 0.20270779 | Y12: =+(1+X12/100)*Y11 -> 1.004702 | Z12: =+(Y12-1)*100 -> 0.47020229 | AA12: 3.55 | AB12: 4925.9909 | AC12: 0 | AE12: =+AC12+AB12 -> 4925.9909 | AF12: =+(AE12/AB11-1)*100 -> -0.2670981 | AG12: =+(1+AF12/100)*AG11 -> 0.99545515 | AH12: =+(AG12-1)*100 -> -0.45448532 | AI12: =+AB12+AD12 -> 4925.9909 | AJ12: =+(AI12/AI11-1)*100 -> -0.2670981 | AK12: =+(1+AJ12/100)*AK11 -> 0.99545515 | AL12: =+(AK12-1)*100 -> -0.45448532 | AM12: 4.4 | AN12: =+((AM11/100+1)^(1/252))*AN11 -> 1.001539 | AO12: =+(AN12/AN11-1)*100 -> 0.017088559 | AP12: =+(1+AO12/100)*AP11 -> 1.001539 | AQ12: =+(AP12-1)*100 -> 0.1539022 | AR12: 3295.0478 | AS12: =+(AR12/AR11-1)*100 -> 0.057190859 | AT12: =+(1+AS12/100)*AT11 -> 1.0057062 | AU12: =+(AT12-1)*100 -> 0.57062236 | AX12: CDI a.a. | AY12: =(((1+AY9/100)^(252/NETWORKDAYS(AY4,AY5-1,Feriados!$A$1:$A$936)))-1)*100 -> 4.4271708 | AZ12: =+AY12 -> 4.4271708 | BB12: CDI a.a. | BC12: =(((1+BC9/100)^(252/NETWORKDAYS(BC4,BC5-1,Feriados!$A$1:$A$936)))-1)*100 -> 4.4271708 | BD12: =+BC12 -> 4.4271708 | BF12: CDI a.a. | BG12: =(((1+BG9/100)^(252/NETWORKDAYS(BG4,BG5-1,Feriados!$A$1:$A$936)))-1)*100 -> 4.4271708 | BH12: =(((1+BH9/100)^(252/NETWORKDAYS(BG4,BG5-1,Feriados!$A$1:$A$936)))-1)*100 -> 4.4271708
A13: =+A12+1 -> 11 | B13: 43846 | C13: 1.7053 | D13: 3727.1732 | E13: 0 | G13: =+D13+E13 -> 3727.1732 | H13: =+(G13/D12-1)*100 -> -0.073065795 | I13: =+(1+H13/100)*I12 -> 1.0047309 | J13: =+(I13-1)*100 -> 0.47308582 | K13: =+D13+F13 -> 3727.1732 | L13: =+(K13/K12-1)*100 -> -0.073065795 | M13: =+(1+L13/100)*M12 -> 1.0047309 | N13: =+(M13-1)*100 -> 0.47308582 | O13: 2.9486 | P13: 4121.708 | Q13: 0 | S13: =+P13+Q13 -> 4121.708 | T13: =+(S13/P12-1)*100 -> -0.2986081 | U13: =+(1+T13/100)*U12 -> 1.0017019 | V13: =+(U13-1)*100 -> 0.17019013 | W13: =+P13+R13 -> 4121.708 | X13: =+(W13/W12-1)*100 -> -0.2986081 | Y13: =+(1+X13/100)*Y12 -> 1.0017019 | Z13: =+(Y13-1)*100 -> 0.17019013 | AA13: 3.5731 | AB13: 4907.3138 | AC13: 0 | AE13: =+AC13+AB13 -> 4907.3138 | AF13: =+(AE13/AB12-1)*100 -> -0.37915411 | AG13: =+(1+AF13/100)*AG12 -> 0.99168084 | AH13: =+(AG13-1)*100 -> -0.83191623 | AI13: =+AB13+AD13 -> 4907.3138 | AJ13: =+(AI13/AI12-1)*100 -> -0.37915411 | AK13: =+(1+AJ13/100)*AK12 -> 0.99168084 | AL13: =+(AK13-1)*100 -> -0.83191623 | AM13: 4.4 | AN13: =+((AM12/100+1)^(1/252))*AN12 -> 1.0017102 | AO13: =+(AN13/AN12-1)*100 -> 0.017088559 | AP13: =+(1+AO13/100)*AP12 -> 1.0017102 | AQ13: =+(AP13-1)*100 -> 0.17101706 | AR13: 3295.5341 | AS13: =+(AR13/AR12-1)*100 -> 0.014758603 | AT13: =+(1+AS13/100)*AT12 -> 1.0058547 | AU13: =+(AT13-1)*100 -> 0.58546518 | AX13: Maior Ret. Acum | AY13: =MAX(J3:J377) -> 11.181261 | AZ13: =MAX(N3:N377) -> 10.898362 | BB13: Maior Ret. Acum | BC13: =MAX(V3:V900) -> 9.3432385 | BD13: =MAX(Z3:Z900) -> 9.1201143 | BF13: Maior Ret. Acum | BG13: =MAX(AH3:AH900) -> 3.4772431 | BH13: =MAX(AL3:AL900) -> 3.4772431
A14: =+A13+1 -> 12 | B14: 43847 | C14: 1.6428 | D14: 3733.4122 | E14: 0 | G14: =+D14+E14 -> 3733.4122 | H14: =+(G14/D13-1)*100 -> 0.1673926 | I14: =+(1+H14/100)*I13 -> 1.0064127 | J14: =+(I14-1)*100 -> 0.64127033 | K14: =+D14+F14 -> 3733.4122 | L14: =+(K14/K13-1)*100 -> 0.1673926 | M14: =+(1+L14/100)*M13 -> 1.0064127 | N14: =+(M14-1)*100 -> 0.64127033 | O14: 2.9308 | P14: 4127.702 | Q14: 0 | S14: =+P14+Q14 -> 4127.702 | T14: =+(S14/P13-1)*100 -> 0.1454253 | U14: =+(1+T14/100)*U13 -> 1.0031586 | V14: =+(U14-1)*100 -> 0.31586292 | W14: =+P14+R14 -> 4127.702 | X14: =+(W14/W13-1)*100 -> 0.1454253 | Y14: =+(1+X14/100)*Y13 -> 1.0031586 | Z14: =+(Y14-1)*100 -> 0.31586292 | AA14: 3.5536 | AB14: 4925.6685 | AC14: 0 | AE14: =+AC14+AB14 -> 4925.6685 | AF14: =+(AE14/AB13-1)*100 -> 0.37402674 | AG14: =+(1+AF14/100)*AG13 -> 0.99538999 | AH14: =+(AG14-1)*100 -> -0.46100108 | AI14: =+AB14+AD14 -> 4925.6685 | AJ14: =+(AI14/AI13-1)*100 -> 0.37402674 | AK14: =+(1+AJ14/100)*AK13 -> 0.99538999 | AL14: =+(AK14-1)*100 -> -0.46100108 | AM14: 4.4 | AN14: =+((AM13/100+1)^(1/252))*AN13 -> 1.0018813 | AO14: =+(AN14/AN13-1)*100 -> 0.017088559 | AP14: =+(1+AO14/100)*AP13 -> 1.0018813 | AQ14: =+(AP14-1)*100 -> 0.18813484 | AR14: 3296.0204 | AS14: =+(AR14/AR13-1)*100 -> 0.01475864 | AT14: =+(1+AS14/100)*AT13 -> 1.0060031 | AU14: =+(AT14-1)*100 -> 0.60031023 | AX14: Data | AY14: =INDEX($B$2:$AQ$504,MATCH(AY13,J2:J504,0),MATCH("Data",$B$2:$AQ$2,0)) -> 44378 | AZ14: =INDEX($B$2:$AQ$504,MATCH(AZ13,N2:N504,0),MATCH("Data",$B$2:$AQ$2,0)) -> 44378 | BB14: Data | BC14: =INDEX($B$2:$AQ$504,MATCH(BC13,V2:V504,0),MATCH("Data",$B$2:$AQ$2,0)) -> 44200 | BD14: =INDEX($B$2:$AQ$504,MATCH(BD13,Z2:Z504,0),MATCH("Data",$B$2:$AQ$2,0)) -> 44200 | BF14: Data | BG14: =INDEX($B$2:$AQ$504,MATCH(BG13,AH2:AH504,0),MATCH("Data",$B$2:$AQ$2,0)) -> 43875 | BH14: =INDEX($B$2:$AQ$504,MATCH(BH13,AL2:AL504,0),MATCH("Data",$B$2:$AQ$2,0)) -> 43875
A15: =+A14+1 -> 13 | B15: 43850 | C15: 1.6773 | D15: 3731.2073 | E15: 0 | G15: =+D15+E15 -> 3731.2073 | H15: =+(G15/D14-1)*100 -> -0.059058038 | I15: =+(1+H15/100)*I14 -> 1.0058183 | J15: =+(I15-1)*100 -> 0.58183357 | K15: =+D15+F15 -> 3731.2073 | L15: =+(K15/K14-1)*100 -> -0.059058038 | M15: =+(1+L15/100)*M14 -> 1.0058183 | N15: =+(M15-1)*100 -> 0.58183357 | O15: 2.97 | P15: 4117.9865 | Q15: 0 | S15: =+P15+Q15 -> 4117.9865 | T15: =+(S15/P14-1)*100 -> -0.23537232 | U15: =+(1+T15/100)*U14 -> 1.0007975 | V15: =+(U15-1)*100 -> 0.079747148 | W15: =+P15+R15 -> 4117.9865 | X15: =+(W15/W14-1)*100 -> -0.23537232 | Y15: =+(1+X15/100)*Y14 -> 1.0007975 | Z15: =+(Y15-1)*100 -> 0.079747148 | AA15: 3.57 | AB15: 4912.8172 | AC15: 0 | AE15: =+AC15+AB15 -> 4912.8172 | AF15: =+(AE15/AB14-1)*100 -> -0.26090574 | AG15: =+(1+AF15/100)*AG14 -> 0.99279296 | AH15: =+(AG15-1)*100 -> -0.72070404 | AI15: =+AB15+AD15 -> 4912.8172 | AJ15: =+(AI15/AI14-1)*100 -> -0.26090574 | AK15: =+(1+AJ15/100)*AK14 -> 0.99279296 | AL15: =+(AK15-1)*100 -> -0.72070404 | AM15: 4.4 | AN15: =+((AM14/100+1)^(1/252))*AN14 -> 1.0020526 | AO15: =+(AN15/AN14-1)*100 -> 0.017088559 | AP15: =+(1+AO15/100)*AP14 -> 1.0020526 | AQ15: =+(AP15-1)*100 -> 0.20525555 | AR15: 3296.5069 | AS15: =+(AR15/AR14-1)*100 -> 0.014758616 | AT15: =+(1+AS15/100)*AT14 -> 1.0061516 | AU15: =+(AT15-1)*100 -> 0.61515744 | AX15: Menor Ret. Acum | AY15: =MIN(J3:J377) -> -3.1017125 | AZ15: =MIN(N3:N377) -> -2.9791426 | BB15: Menor Ret. Acum | BC15: =MIN(V3:V900) -> -9.4554222 | BD15: =MIN(Z3:Z900) -> -9.1693678 | BF15: Menor Ret. Acum | BG15: =MIN(AH3:AH900) -> -21.156559 | BH15: =MIN(AL3:AL900) -> -21.156559
A16: =+A15+1 -> 14 | B16: 43851 | C16: 1.7 | D16: 3730.037 | E16: 0 | G16: =+D16+E16 -> 3730.037 | H16: =+(G16/D15-1)*100 -> -0.031366684 | I16: =+(1+H16/100)*I15 -> 1.0055028 | J16: =+(I16-1)*100 -> 0.55028439 | K16: =+D16+F16 -> 3730.037 | L16: =+(K16/K15-1)*100 -> -0.031366684 | M16: =+(1+L16/100)*M15 -> 1.0055028 | N16: =+(M16-1)*100 -> 0.55028439 | O16: 2.98 | P16: 4116.3259 | Q16: 0 | S16: =+P16+Q16 -> 4116.3259 | T16: =+(S16/P15-1)*100 -> -0.040324901 | U16: =+(1+T16/100)*U15 -> 1.0003939 | V16: =+(U16-1)*100 -> 0.039390089 | W16: =+P16+R16 -> 4116.3259 | X16: =+(W16/W15-1)*100 -> -0.040324901 | Y16: =+(1+X16/100)*Y15 -> 1.0003939 | Z16: =+(Y16-1)*100 -> 0.039390089 | AA16: 3.5723 | AB16: 4912.2333 | AC16: 0 | AE16: =+AC16+AB16 -> 4912.2333 | AF16: =+(AE16/AB15-1)*100 -> -0.011884057 | AG16: =+(1+AF16/100)*AG15 -> 0.99267498 | AH16: =+(AG16-1)*100 -> -0.73250245 | AI16: =+AB16+AD16 -> 4912.2333 | AJ16: =+(AI16/AI15-1)*100 -> -0.011884057 | AK16: =+(1+AJ16/100)*AK15 -> 0.99267498 | AL16: =+(AK16-1)*100 -> -0.73250245 | AM16: 4.4 | AN16: =+((AM15/100+1)^(1/252))*AN15 -> 1.0022238 | AO16: =+(AN16/AN15-1)*100 -> 0.017088559 | AP16: =+(1+AO16/100)*AP15 -> 1.0022238 | AQ16: =+(AP16-1)*100 -> 0.22237918 | AR16: 3296.9934 | AS16: =+(AR16/AR15-1)*100 -> 0.014758622 | AT16: =+(1+AS16/100)*AT15 -> 1.0063001 | AU16: =+(AT16-1)*100 -> 0.63000685 | AX16: Data | AY16: =INDEX($B$2:$AQ$504,MATCH(AY15,J2:J504,0),MATCH("Data",$B$2:$AQ$2,0)) -> 43913 | AZ16: =INDEX($B$2:$AQ$504,MATCH(AZ15,N2:N504,0),MATCH("Data",$B$2:$AQ$2,0)) -> 43913 | BB16: Data | BC16: =INDEX($B$2:$AQ$504,MATCH(BC15,V2:V504,0),MATCH("Data",$B$2:$AQ$2,0)) -> 43913 | BD16: =INDEX($B$2:$AQ$504,MATCH(BD15,Z2:Z504,0),MATCH("Data",$B$2:$AQ$2,0)) -> 43913 | BF16: Data | BG16: =INDEX($B$2:$AQ$504,MATCH(BG15,AH2:AH504,0),MATCH("Data",$B$2:$AQ$2,0)) -> 43902 | BH16: =INDEX($B$2:$AQ$504,MATCH(BH15,AL2:AL504,0),MATCH("Data",$B$2:$AQ$2,0)) -> 43902
A17: =+A16+1 -> 15 | B17: 43852 | C17: 1.61 | D17: 3738.6366 | E17: 0 | G17: =+D17+E17 -> 3738.6366 | H17: =+(G17/D16-1)*100 -> 0.23055136 | I17: =+(1+H17/100)*I16 -> 1.007821 | J17: =+(I17-1)*100 -> 0.78210443 | K17: =+D17+F17 -> 3738.6366 | L17: =+(K17/K16-1)*100 -> 0.23055136 | M17: =+(1+L17/100)*M16 -> 1.007821 | N17: =+(M17-1)*100 -> 0.78210443 | O17: 2.93 | P17: 4131.1687 | Q17: 0 | S17: =+P17+Q17 -> 4131.1687 | T17: =+(S17/P16-1)*100 -> 0.36058211 | U17: =+(1+T17/100)*U16 -> 1.0040011 | V17: =+(U17-1)*100 -> 0.40011424 | W17: =+P17+R17 -> 4131.1687 | X17: =+(W17/W16-1)*100 -> 0.36058211 | Y17: =+(1+X17/100)*Y16 -> 1.0040011 | Z17: =+(Y17-1)*100 -> 0.40011424 | AA17: 3.5429 | AB17: 4939.2392 | AC17: 0 | AE17: =+AC17+AB17 -> 4939.2392 | AF17: =+(AE17/AB16-1)*100 -> 0.54976814 | AG17: =+(1+AF17/100)*AG16 -> 0.99813239 | AH17: =+(AG17-1)*100 -> -0.18676137 | AI17: =+AB17+AD17 -> 4939.2392 | AJ17: =+(AI17/AI16-1)*100 -> 0.54976814 | AK17: =+(1+AJ17/100)*AK16 -> 0.99813239 | AL17: =+(AK17-1)*100 -> -0.18676137 | AM17: 4.4 | AN17: =+((AM16/100+1)^(1/252))*AN16 -> 1.0023951 | AO17: =+(AN17/AN16-1)*100 -> 0.017088559 | AP17: =+(1+AO17/100)*AP16 -> 1.0023951 | AQ17: =+(AP17-1)*100 -> 0.23950574 | AR17: 3297.48 | AS17: =+(AR17/AR16-1)*100 -> 0.014758628 | AT17: =+(1+AS17/100)*AT16 -> 1.0064486 | AU17: =+(AT17-1)*100 -> 0.64485846 | AX17: Vol. Per. Anualizada | AY17: =_xlfn.STDEV.S(H4:H377)*SQRT(252) -> 4.139802 | AZ17: =_xlfn.STDEV.S(L4:L377)*SQRT(252) -> 4.0165473 | BB17: Vol. Per. Anualizada | BC17: =_xlfn.STDEV.S(T4:T900)*SQRT(252) -> 10.05378 | BD17: =_xlfn.STDEV.S(X4:X900)*SQRT(252) -> 9.693435 | BF17: Vol. Per. Anualizada | BG17: =_xlfn.STDEV.S(AF4:AF900)*SQRT(252) -> 19.94219 | BH17: =_xlfn.STDEV.S(AJ4:AJ900)*SQRT(252) -> 19.680536
A18: =+A17+1 -> 16 | B18: 43853 | C18: 1.6029 | D18: 3740.0426 | E18: 0 | G18: =+D18+E18 -> 3740.0426 | H18: =+(G18/D17-1)*100 -> 0.037605821 | I18: =+(1+H18/100)*I17 -> 1.0082 | J18: =+(I18-1)*100 -> 0.82000437 | K18: =+D18+F18 -> 3740.0426 | L18: =+(K18/K17-1)*100 -> 0.037605821 | M18: =+(1+L18/100)*M17 -> 1.0082 | N18: =+(M18-1)*100 -> 0.82000437 | O18: 2.9276 | P18: 4132.9129 | Q18: 0 | S18: =+P18+Q18 -> 4132.9129 | T18: =+(S18/P17-1)*100 -> 0.042220595 | U18: =+(1+T18/100)*U17 -> 1.004425 | V18: =+(U18-1)*100 -> 0.44250376 | W18: =+P18+R18 -> 4132.9129 | X18: =+(W18/W17-1)*100 -> 0.042220595 | Y18: =+(1+X18/100)*Y17 -> 1.004425 | Z18: =+(Y18-1)*100 -> 0.44250376 | AA18: 3.5508 | AB18: 4933.7515 | AC18: 0 | AE18: =+AC18+AB18 -> 4933.7515 | AF18: =+(AE18/AB17-1)*100 -> -0.11110422 | AG18: =+(1+AF18/100)*AG17 -> 0.99702342 | AH18: =+(AG18-1)*100 -> -0.29765809 | AI18: =+AB18+AD18 -> 4933.7515 | AJ18: =+(AI18/AI17-1)*100 -> -0.11110422 | AK18: =+(1+AJ18/100)*AK17 -> 0.99702342 | AL18: =+(AK18-1)*100 -> -0.29765809 | AM18: 4.4 | AN18: =+((AM17/100+1)^(1/252))*AN17 -> 1.0025664 | AO18: =+(AN18/AN17-1)*100 -> 0.017088559 | AP18: =+(1+AO18/100)*AP17 -> 1.0025664 | AQ18: =+(AP18-1)*100 -> 0.25663523 | AR18: 3297.9666 | AS18: =+(AR18/AR17-1)*100 -> 0.014758634 | AT18: =+(1+AS18/100)*AT17 -> 1.0065971 | AU18: =+(AT18-1)*100 -> 0.65971227
A19: =+A18+1 -> 17 | B19: 43854 | C19: 1.61 | D19: 3739.9883 | E19: 0 | G19: =+D19+E19 -> 3739.9883 | H19: =+(G19/D18-1)*100 -> -0.0014505985 | I19: =+(1+H19/100)*I18 -> 1.0081854 | J19: =+(I19-1)*100 -> 0.81854188 | K19: =+D19+F19 -> 3739.9883 | L19: =+(K19/K18-1)*100 -> -0.0014505985 | M19: =+(1+L19/100)*M18 -> 1.0081854 | N19: =+(M19-1)*100 -> 0.81854188 | O19: 2.8958 | P19: 4142.5237 | Q19: 0 | S19: =+P19+Q19 -> 4142.5237 | T19: =+(S19/P18-1)*100 -> 0.23254279 | U19: =+(1+T19/100)*U18 -> 1.0067608 | V19: =+(U19-1)*100 -> 0.67607556 | W19: =+P19+R19 -> 4142.5237 | X19: =+(W19/W18-1)*100 -> 0.23254279 | Y19: =+(1+X19/100)*Y18 -> 1.0067608 | Z19: =+(Y19-1)*100 -> 0.67607556 | AA19: 3.5514 | AB19: 4934.3419 | AC19: 0 | AE19: =+AC19+AB19 -> 4934.3419 | AF19: =+(AE19/AB18-1)*100 -> 0.011966655 | AG19: =+(1+AF19/100)*AG18 -> 0.99714273 | AH19: =+(AG19-1)*100 -> -0.28572705 | AI19: =+AB19+AD19 -> 4934.3419 | AJ19: =+(AI19/AI18-1)*100 -> 0.011966655 | AK19: =+(1+AJ19/100)*AK18 -> 0.99714273 | AL19: =+(AK19-1)*100 -> -0.28572705 | AM19: 4.4 | AN19: =+((AM18/100+1)^(1/252))*AN18 -> 1.0027377 | AO19: =+(AN19/AN18-1)*100 -> 0.017088559 | AP19: =+(1+AO19/100)*AP18 -> 1.0027377 | AQ19: =+(AP19-1)*100 -> 0.27376764 | AR19: 3298.2533 | AS19: =+(AR19/AR18-1)*100 -> 0.0086909611 | AT19: =+(1+AS19/100)*AT18 -> 1.0066846 | AU19: =+(AT19-1)*100 -> 0.66846056 | AX19: Taxa Entrada | AY19: =+VLOOKUP(AY4,B2:AQ504,2,FALSE) -> 0.0068 | BB19: Taxa Entrada | BC19: =+VLOOKUP(BC4,B2:AQ504,14,FALSE) -> 2.57 | BF19: Taxa Entrada | BG19: =+VLOOKUP(BG4,B2:AQ504,26,FALSE) -> 3.8
A20: =+A19+1 -> 18 | B20: 43857 | C20: 1.59 | D20: 3742.4739 | E20: 0 | G20: =+D20+E20 -> 3742.4739 | H20: =+(G20/D19-1)*100 -> 0.066459673 | I20: =+(1+H20/100)*I19 -> 1.0088555 | J20: =+(I20-1)*100 -> 0.88554555 | K20: =+D20+F20 -> 3742.4739 | L20: =+(K20/K19-1)*100 -> 0.066459673 | M20: =+(1+L20/100)*M19 -> 1.0088555 | N20: =+(M20-1)*100 -> 0.88554555 | O20: 2.9 | P20: 4142.4064 | Q20: 0 | S20: =+P20+Q20 -> 4142.4064 | T20: =+(S20/P19-1)*100 -> -0.0028305934 | U20: =+(1+T20/100)*U19 -> 1.0067323 | V20: =+(U20-1)*100 -> 0.67322583 | W20: =+P20+R20 -> 4142.4064 | X20: =+(W20/W19-1)*100 -> -0.0028305934 | Y20: =+(1+X20/100)*Y19 -> 1.0067323 | Z20: =+(Y20-1)*100 -> 0.67322583 | AA20: 3.5741 | AB20: 4915.9707 | AC20: 0 | AE20: =+AC20+AB20 -> 4915.9707 | AF20: =+(AE20/AB19-1)*100 -> -0.37231281 | AG20: =+(1+AF20/100)*AG19 -> 0.99343024 | AH20: =+(AG20-1)*100 -> -0.65697606 | AI20: =+AB20+AD20 -> 4915.9707 | AJ20: =+(AI20/AI19-1)*100 -> -0.37231281 | AK20: =+(1+AJ20/100)*AK19 -> 0.99343024 | AL20: =+(AK20-1)*100 -> -0.65697606 | AM20: 4.4 | AN20: =+((AM19/100+1)^(1/252))*AN19 -> 1.002909 | AO20: =+(AN20/AN19-1)*100 -> 0.017088559 | AP20: =+(1+AO20/100)*AP19 -> 1.002909 | AQ20: =+(AP20-1)*100 -> 0.29090299 | AR20: 3298.7115 | AS20: =+(AR20/AR19-1)*100 -> 0.013891808 | AT20: =+(1+AS20/100)*AT19 -> 1.0068245 | AU20: =+(AT20-1)*100 -> 0.68244523 | AX20: Taxa de Saída | AY20: =+VLOOKUP(AY5,B2:AQ504,2,FALSE) -> 5.69 | BB20: Taxa de Saída | BC20: =+VLOOKUP(BC5,B3:AQ505,14,FALSE) -> 5.1773 | BF20: Taxa de Saída | BG20: =+VLOOKUP(BG5,B2:AQ504,26,FALSE) -> 5.4327
A21: =+A20+1 -> 19 | B21: 43858 | C21: 1.6247 | D21: 3740.2324 | E21: 0 | G21: =+D21+E21 -> 3740.2324 | H21: =+(G21/D20-1)*100 -> -0.059893777 | I21: =+(1+H21/100)*I20 -> 1.0082512 | J21: =+(I21-1)*100 -> 0.82512139 | K21: =+D21+F21 -> 3740.2324 | L21: =+(K21/K20-1)*100 -> -0.059893777 | M21: =+(1+L21/100)*M20 -> 1.0082512 | N21: =+(M21-1)*100 -> 0.82512139 | O21: 2.87 | P21: 4151.7444 | Q21: 0 | S21: =+P21+Q21 -> 4151.7444 | T21: =+(S21/P20-1)*100 -> 0.22542571 | U21: =+(1+T21/100)*U20 -> 1.0090017 | V21: =+(U21-1)*100 -> 0.90016917 | W21: =+P21+R21 -> 4151.7444 | X21: =+(W21/W20-1)*100 -> 0.22542571 | Y21: =+(1+X21/100)*Y20 -> 1.0090017 | Z21: =+(Y21-1)*100 -> 0.90016917 | AA21: 3.5532 | AB21: 4935.5084 | AC21: 0 | AE21: =+AC21+AB21 -> 4935.5084 | AF21: =+(AE21/AB20-1)*100 -> 0.39743261 | AG21: =+(1+AF21/100)*AG20 -> 0.99737846 | AH21: =+(AG21-1)*100 -> -0.26215448 | AI21: =+AB21+AD21 -> 4935.5084 | AJ21: =+(AI21/AI20-1)*100 -> 0.39743261 | AK21: =+(1+AJ21/100)*AK20 -> 0.99737846 | AL21: =+(AK21-1)*100 -> -0.26215448 | AM21: 4.4 | AN21: =+((AM20/100+1)^(1/252))*AN20 -> 1.0030804 | AO21: =+(AN21/AN20-1)*100 -> 0.017088559 | AP21: =+(1+AO21/100)*AP20 -> 1.0030804 | AQ21: =+(AP21-1)*100 -> 0.30804126 | AR21: 3299.1697 | AS21: =+(AR21/AR20-1)*100 -> 0.013891788 | AT21: =+(1+AS21/100)*AT20 -> 1.0069643 | AU21: =+(AT21-1)*100 -> 0.69643182 | AX21: Diferença | AY21: =+AY20-AY19 -> 5.6832 | BB21: Diferença | BC21: =+BC20-BC19 -> 2.6073 | BF21: Diferença | BG21: =+BG20-BG19 -> 1.6327
A22: =+A21+1 -> 20 | B22: 43859 | C22: 1.64 | D22: 3739.673 | E22: 0 | G22: =+D22+E22 -> 3739.673 | H22: =+(G22/D21-1)*100 -> -0.014956103 | I22: =+(1+H22/100)*I21 -> 1.0081004 | J22: =+(I22-1)*100 -> 0.81004188 | K22: =+D22+F22 -> 3739.673 | L22: =+(K22/K21-1)*100 -> -0.014956103 | M22: =+(1+L22/100)*M21 -> 1.0081004 | N22: =+(M22-1)*100 -> 0.81004188 | O22: 2.8211 | P22: 4166.3479 | Q22: 0 | S22: =+P22+Q22 -> 4166.3479 | T22: =+(S22/P21-1)*100 -> 0.35174299 | U22: =+(1+T22/100)*U21 -> 1.0125508 | V22: =+(U22-1)*100 -> 1.2550784 | W22: =+P22+R22 -> 4166.3479 | X22: =+(W22/W21-1)*100 -> 0.35174299 | Y22: =+(1+X22/100)*Y21 -> 1.0125508 | Z22: =+(Y22-1)*100 -> 1.2550784 | AA22: 3.5332 | AB22: 4954.3618 | AC22: 0 | AE22: =+AC22+AB22 -> 4954.3618 | AF22: =+(AE22/AB21-1)*100 -> 0.38199475 | AG22: =+(1+AF22/100)*AG21 -> 1.0011884 | AH22: =+(AG22-1)*100 -> 0.11883885 | AI22: =+AB22+AD22 -> 4954.3618 | AJ22: =+(AI22/AI21-1)*100 -> 0.38199475 | AK22: =+(1+AJ22/100)*AK21 -> 1.0011884 | AL22: =+(AK22-1)*100 -> 0.11883885 | AM22: 4.4 | AN22: =+((AM21/100+1)^(1/252))*AN21 -> 1.0032518 | AO22: =+(AN22/AN21-1)*100 -> 0.017088559 | AP22: =+(1+AO22/100)*AP21 -> 1.0032518 | AQ22: =+(AP22-1)*100 -> 0.32518246 | AR22: 3299.628 | AS22: =+(AR22/AR21-1)*100 -> 0.013891798 | AT22: =+(1+AS22/100)*AT21 -> 1.0071042 | AU22: =+(AT22-1)*100 -> 0.71042037 | AX22: Máxima | AY22: =MAX(C3:C504) -> 5.986 | BB22: Máxima | BC22: =MAX(O3:O504) -> 5.6761 | BF22: Máxima | BG22: =MAX(AA3:AA504) -> 5.6785
A23: =+A22+1 -> 21 | B23: 43860 | C23: 1.6753 | D23: 3737.404 | E23: 0 | G23: =+D23+E23 -> 3737.404 | H23: =+(G23/D22-1)*100 -> -0.060675519 | I23: =+(1+H23/100)*I22 -> 1.0074887 | J23: =+(I23-1)*100 -> 0.74887486 | K23: =+D23+F23 -> 3737.404 | L23: =+(K23/K22-1)*100 -> -0.060675519 | M23: =+(1+L23/100)*M22 -> 1.0074887 | N23: =+(M23-1)*100 -> 0.74887486 | O23: 2.83 | P23: 4164.9169 | Q23: 0 | S23: =+P23+Q23 -> 4164.9169 | T23: =+(S23/P22-1)*100 -> -0.034345955 | U23: =+(1+T23/100)*U22 -> 1.012203 | V23: =+(U23-1)*100 -> 1.2203014 | W23: =+P23+R23 -> 4164.9169 | X23: =+(W23/W22-1)*100 -> -0.034345955 | Y23: =+(1+X23/100)*Y22 -> 1.012203 | Z23: =+(Y23-1)*100 -> 1.2203014 | AA23: 3.55 | AB23: 4941.0412 | AC23: 0 | AE23: =+AC23+AB23 -> 4941.0412 | AF23: =+(AE23/AB22-1)*100 -> -0.26886648 | AG23: =+(1+AF23/100)*AG22 -> 0.99849653 | AH23: =+(AG23-1)*100 -> -0.15034714 | AI23: =+AB23+AD23 -> 4941.0412 | AJ23: =+(AI23/AI22-1)*100 -> -0.26886648 | AK23: =+(1+AJ23/100)*AK22 -> 0.99849653 | AL23: =+(AK23-1)*100 -> -0.15034714 | AM23: 4.4 | AN23: =+((AM22/100+1)^(1/252))*AN22 -> 1.0034233 | AO23: =+(AN23/AN22-1)*100 -> 0.017088559 | AP23: =+(1+AO23/100)*AP22 -> 1.0034233 | AQ23: =+(AP23-1)*100 -> 0.34232658 | AR23: 3300.0864 | AS23: =+(AR23/AR22-1)*100 -> 0.013891778 | AT23: =+(1+AS23/100)*AT22 -> 1.0072441 | AU23: =+(AT23-1)*100 -> 0.72441084 | AX23: Data | AY23: =INDEX($B$2:$AQ$504,MATCH(AY22,C2:C504,0),MATCH("Data",$B$2:$AQ$2,0)) -> 44552 | BB23: Data | BC23: =INDEX($B$2:$AQ$504,MATCH(BC22,O2:O504,0),MATCH("Data",$B$2:$AQ$2,0)) -> 44497 | BF23: Data | BG23: =INDEX($B$2:$AQ$504,MATCH(BG22,AA2:AA504,0),MATCH("Data",$B$2:$AQ$2,0)) -> 44497
A24: =+A23+1 -> 22 | B24: 43861 | C24: 1.7 | D24: 3736.0517 | E24: 0 | G24: =+D24+E24 -> 3736.0517 | H24: =+(G24/D23-1)*100 -> -0.036180595 | I24: =+(1+H24/100)*I23 -> 1.0071242 | J24: =+(I24-1)*100 -> 0.71242332 | K24: =+D24+F24 -> 3736.0517 | L24: =+(K24/K23-1)*100 -> -0.036180595 | M24: =+(1+L24/100)*M23 -> 1.0071242 | N24: =+(M24-1)*100 -> 0.71242332 | O24: 2.84 | P24: 4163.1818 | Q24: 0 | S24: =+P24+Q24 -> 4163.1818 | T24: =+(S24/P23-1)*100 -> -0.041659894 | U24: =+(1+T24/100)*U23 -> 1.0117813 | V24: =+(U24-1)*100 -> 1.1781331 | W24: =+P24+R24 -> 4163.1818 | X24: =+(W24/W23-1)*100 -> -0.041659894 | Y24: =+(1+X24/100)*Y23 -> 1.0117813 | Z24: =+(Y24-1)*100 -> 1.1781331 | AA24: 3.57 | AB24: 4925.0004 | AC24: 0 | AE24: =+AC24+AB24 -> 4925.0004 | AF24: =+(AE24/AB23-1)*100 -> -0.32464334 | AG24: =+(1+AF24/100)*AG23 -> 0.99525498 | AH24: =+(AG24-1)*100 -> -0.47450239 | AI24: =+AB24+AD24 -> 4925.0004 | AJ24: =+(AI24/AI23-1)*100 -> -0.32464334 | AK24: =+(1+AJ24/100)*AK23 -> 0.99525498 | AL24: =+(AK24-1)*100 -> -0.47450239 | AM24: 4.4 | AN24: =+((AM23/100+1)^(1/252))*AN23 -> 1.0035947 | AO24: =+(AN24/AN23-1)*100 -> 0.017088559 | AP24: =+(1+AO24/100)*AP23 -> 1.0035947 | AQ24: =+(AP24-1)*100 -> 0.35947364 | AR24: 3300.5448 | AS24: =+(AR24/AR23-1)*100 -> 0.013891818 | AT24: =+(1+AS24/100)*AT23 -> 1.007384 | AU24: =+(AT24-1)*100 -> 0.73840329 | AX24: Mínima | AY24: =MIN(C3:C504) -> -0.28 | BB24: Mínima | BC24: =MIN(O3:O504) -> 2.3776 | BF24: Mínima | BG24: =MIN(AA3:AA504) -> 3.3604
A25: =+A24+1 -> 23 | B25: 43864 | C25: 1.68 | D25: 3738.5315 | E25: 0 | G25: =+D25+E25 -> 3738.5315 | H25: =+(G25/D24-1)*100 -> 0.066374857 | I25: =+(1+H25/100)*I24 -> 1.0077927 | J25: =+(I25-1)*100 -> 0.77927105 | K25: =+D25+F25 -> 3738.5315 | L25: =+(K25/K24-1)*100 -> 0.066374857 | M25: =+(1+L25/100)*M24 -> 1.0077927 | N25: =+(M25-1)*100 -> 0.77927105 | O25: 2.8214 | P25: 4169.3818 | Q25: 0 | S25: =+P25+Q25 -> 4169.3818 | T25: =+(S25/P24-1)*100 -> 0.14892333 | U25: =+(1+T25/100)*U24 -> 1.0132881 | V25: =+(U25-1)*100 -> 1.328811 | W25: =+P25+R25 -> 4169.3818 | X25: =+(W25/W24-1)*100 -> 0.14892333 | Y25: =+(1+X25/100)*Y24 -> 1.0132881 | Z25: =+(Y25-1)*100 -> 1.328811 | AA25: 3.54 | AB25: 4952.5217 | AC25: 0 | AE25: =+AC25+AB25 -> 4952.5217 | AF25: =+(AE25/AB24-1)*100 -> 0.55880862 | AG25: =+(1+AF25/100)*AG24 -> 1.0008165 | AH25: =+(AG25-1)*100 -> 0.081654672 | AI25: =+AB25+AD25 -> 4952.5217 | AJ25: =+(AI25/AI24-1)*100 -> 0.55880862 | AK25: =+(1+AJ25/100)*AK24 -> 1.0008165 | AL25: =+(AK25-1)*100 -> 0.081654672 | AM25: 4.4 | AN25: =+((AM24/100+1)^(1/252))*AN24 -> 1.0037662 | AO25: =+(AN25/AN24-1)*100 -> 0.017088559 | AP25: =+(1+AO25/100)*AP24 -> 1.0037662 | AQ25: =+(AP25-1)*100 -> 0.37662363 | AR25: 3301.0033 | AS25: =+(AR25/AR24-1)*100 -> 0.013891767 | AT25: =+(1+AS25/100)*AT24 -> 1.007524 | AU25: =+(AT25-1)*100 -> 0.75239763 | AX25: Data | AY25: =INDEX(B2:AQ504,MATCH(AY24,C2:C504,0),MATCH("Data",B2:AQ2,0)) -> 44089 | BB25: Data | BC25: =INDEX($B$2:$AQ$504,MATCH(BC24,O4:O506,0),MATCH("Data",$B$2:$AQ$2,0)) -> 44042 | BF25: Data | BG25: =INDEX($B$2:$AQ$504,MATCH(BG24,AA4:AA506,0),MATCH("Data",$B$2:$AQ$2,0)) -> 43873
A26: =+A25+1 -> 24 | B26: 43865 | C26: 1.6874 | D26: 3738.6679 | E26: 0 | G26: =+D26+E26 -> 3738.6679 | H26: =+(G26/D25-1)*100 -> 0.0036479564 | I26: =+(1+H26/100)*I25 -> 1.0078295 | J26: =+(I26-1)*100 -> 0.78294743 | K26: =+D26+F26 -> 3738.6679 | L26: =+(K26/K25-1)*100 -> 0.0036479564 | M26: =+(1+L26/100)*M25 -> 1.0078295 | N26: =+(M26-1)*100 -> 0.78294743 | O26: 2.8028 | P26: 4175.5867 | Q26: 0 | S26: =+P26+Q26 -> 4175.5867 | T26: =+(S26/P25-1)*100 -> 0.14882046 | U26: =+(1+T26/100)*U25 -> 1.0147961 | V26: =+(U26-1)*100 -> 1.479609 | W26: =+P26+R26 -> 4175.5867 | X26: =+(W26/W25-1)*100 -> 0.14882046 | Y26: =+(1+X26/100)*Y25 -> 1.0147961 | Z26: =+(Y26-1)*100 -> 1.479609 | AA26: 3.5309 | AB26: 4961.8662 | AC26: 0 | AE26: =+AC26+AB26 -> 4961.8662 | AF26: =+(AE26/AB25-1)*100 -> 0.1886802 | AG26: =+(1+AF26/100)*AG25 -> 1.0027049 | AH26: =+(AG26-1)*100 -> 0.27048894 | AI26: =+AB26+AD26 -> 4961.8662 | AJ26: =+(AI26/AI25-1)*100 -> 0.1886802 | AK26: =+(1+AJ26/100)*AK25 -> 1.0027049 | AL26: =+(AK26-1)*100 -> 0.27048894 | AM26: 4.4 | AN26: =+((AM25/100+1)^(1/252))*AN25 -> 1.0039378 | AO26: =+(AN26/AN25-1)*100 -> 0.017088559 | AP26: =+(1+AO26/100)*AP25 -> 1.0039378 | AQ26: =+(AP26-1)*100 -> 0.39377655 | AR26: 3301.4619 | AS26: =+(AR26/AR25-1)*100 -> 0.013891807 | AT26: =+(1+AS26/100)*AT25 -> 1.0076639 | AU26: =+(AT26-1)*100 -> 0.76639396 | AX26: Ampliude | AY26: =+AY22-AY24 -> 6.266 | BB26: Ampliude | BC26: =+BC22-BC24 -> 3.2985 | BF26: Ampliude | BG26: =+BG22-BG24 -> 2.3181
A27: =+A26+1 -> 25 | B27: 43866 | C27: 1.6845 | D27: 3739.6826 | E27: 0 | G27: =+D27+E27 -> 3739.6826 | H27: =+(G27/D26-1)*100 -> 0.027139506 | I27: =+(1+H27/100)*I26 -> 1.008103 | J27: =+(I27-1)*100 -> 0.81029942 | K27: =+D27+F27 -> 3739.6826 | L27: =+(K27/K26-1)*100 -> 0.027139506 | M27: =+(1+L27/100)*M26 -> 1.008103 | N27: =+(M27-1)*100 -> 0.81029942 | O27: 2.76 | P27: 4188.539 | Q27: 0 | S27: =+P27+Q27 -> 4188.539 | T27: =+(S27/P26-1)*100 -> 0.31019258 | U27: =+(1+T27/100)*U26 -> 1.0179439 | V27: =+(U27-1)*100 -> 1.7943912 | W27: =+P27+R27 -> 4188.539 | X27: =+(W27/W26-1)*100 -> 0.31019258 | Y27: =+(1+X27/100)*Y26 -> 1.0179439 | Z27: =+(Y27-1)*100 -> 1.7943912 | AA27: 3.49 | AB27: 4999.3157 | AC27: 0 | AE27: =+AC27+AB27 -> 4999.3157 | AF27: =+(AE27/AB26-1)*100 -> 0.75474775 | AG27: =+(1+AF27/100)*AG26 -> 1.0102728 | AH27: =+(AG27-1)*100 -> 1.0272782 | AI27: =+AB27+AD27 -> 4999.3157 | AJ27: =+(AI27/AI26-1)*100 -> 0.75474775 | AK27: =+(1+AJ27/100)*AK26 -> 1.0102728 | AL27: =+(AK27-1)*100 -> 1.0272782 | AM27: 4.4 | AN27: =+((AM26/100+1)^(1/252))*AN26 -> 1.0041093 | AO27: =+(AN27/AN26-1)*100 -> 0.017088559 | AP27: =+(1+AO27/100)*AP26 -> 1.0041093 | AQ27: =+(AP27-1)*100 -> 0.4109324 | AR27: 3301.9205 | AS27: =+(AR27/AR26-1)*100 -> 0.013891785 | AT27: =+(1+AS27/100)*AT26 -> 1.0078039 | AU27: =+(AT27-1)*100 -> 0.78039221 | AX27: Média | AY27: =AVERAGE(C3:C504) -> 1.529642 | BB27: Média | BC27: =AVERAGE(O3:O504) -> 3.597695 | BF27: Média | BG27: =AVERAGE(AA3:AA504) -> 4.3776382
A28: =+A27+1 -> 26 | B28: 43867 | C28: 1.7851 | D28: 3731.8933 | E28: 0 | G28: =+D28+E28 -> 3731.8933 | H28: =+(G28/D27-1)*100 -> -0.20828712 | I28: =+(1+H28/100)*I27 -> 1.0060032 | J28: =+(I28-1)*100 -> 0.60032456 | K28: =+D28+F28 -> 3731.8933 | L28: =+(K28/K27-1)*100 -> -0.20828712 | M28: =+(1+L28/100)*M27 -> 1.0060032 | N28: =+(M28-1)*100 -> 0.60032456 | O28: 2.81 | P28: 4175.6637 | Q28: 0 | S28: =+P28+Q28 -> 4175.6637 | T28: =+(S28/P27-1)*100 -> -0.30739434 | U28: =+(1+T28/100)*U27 -> 1.0148148 | V28: =+(U28-1)*100 -> 1.481481 | W28: =+P28+R28 -> 4175.6637 | X28: =+(W28/W27-1)*100 -> -0.30739434 | Y28: =+(1+X28/100)*Y27 -> 1.0148148 | Z28: =+(Y28-1)*100 -> 1.481481 | AA28: 3.4927 | AB28: 4998.2963 | AC28: 0 | AE28: =+AC28+AB28 -> 4998.2963 | AF28: =+(AE28/AB27-1)*100 -> -0.020391591 | AG28: =+(1+AF28/100)*AG27 -> 1.0100668 | AH28: =+(AG28-1)*100 -> 1.0066771 | AI28: =+AB28+AD28 -> 4998.2963 | AJ28: =+(AI28/AI27-1)*100 -> -0.020391591 | AK28: =+(1+AJ28/100)*AK27 -> 1.0100668 | AL28: =+(AK28-1)*100 -> 1.0066771 | AM28: 4.15 | AN28: =+((AM27/100+1)^(1/252))*AN27 -> 1.0042809 | AO28: =+(AN28/AN27-1)*100 -> 0.017088559 | AP28: =+(1+AO28/100)*AP27 -> 1.0042809 | AQ28: =+(AP28-1)*100 -> 0.42809118 | AR28: 3302.3792 | AS28: =+(AR28/AR27-1)*100 -> 0.013891794 | AT28: =+(1+AS28/100)*AT27 -> 1.0079439 | AU28: =+(AT28-1)*100 -> 0.79439242
A29: =+A28+1 -> 27 | B29: 43868 | C29: 1.78 | D29: 3730.0781 | E29: 0 | G29: =+D29+E29 -> 3730.0781 | H29: =+(G29/D28-1)*100 -> -0.048640458 | I29: =+(1+H29/100)*I28 -> 1.0055139 | J29: =+(I29-1)*100 -> 0.5513921 | K29: =+D29+F29 -> 3730.0781 | L29: =+(K29/K28-1)*100 -> -0.048640458 | M29: =+(1+L29/100)*M28 -> 1.0055139 | N29: =+(M29-1)*100 -> 0.5513921 | O29: 2.8373 | P29: 4165.7553 | Q29: 0 | S29: =+P29+Q29 -> 4165.7553 | T29: =+(S29/P28-1)*100 -> -0.23729042 | U29: =+(1+T29/100)*U28 -> 1.0124068 | V29: =+(U29-1)*100 -> 1.2406752 | W29: =+P29+R29 -> 4165.7553 | X29: =+(W29/W28-1)*100 -> -0.23729042 | Y29: =+(1+X29/100)*Y28 -> 1.0124068 | Z29: =+(Y29-1)*100 -> 1.2406752 | AA29: 3.4929 | AB29: 4995.4418 | AC29: 0 | AE29: =+AC29+AB29 -> 4995.4418 | AF29: =+(AE29/AB28-1)*100 -> -0.057109099 | AG29: =+(1+AF29/100)*AG28 -> 1.0094899 | AH29: =+(AG29-1)*100 -> 0.94899312 | AI29: =+AB29+AD29 -> 4995.4418 | AJ29: =+(AI29/AI28-1)*100 -> -0.057109099 | AK29: =+(1+AJ29/100)*AK28 -> 1.0094899 | AL29: =+(AK29-1)*100 -> 0.94899312 | AM29: 4.15 | AN29: =+((AM28/100+1)^(1/252))*AN28 -> 1.004443 | AO29: =+(AN29/AN28-1)*100 -> 0.016137009 | AP29: =+(1+AO29/100)*AP28 -> 1.004443 | AQ29: =+(AP29-1)*100 -> 0.44429727 | AR29: 3300.1597 | AS29: =+(AR29/AR28-1)*100 -> -0.067211027 | AT29: =+(1+AS29/100)*AT28 -> 1.0072665 | AU29: =+(AT29-1)*100 -> 0.72664747
A30: =+A29+1 -> 28 | B30: 43871 | C30: 1.76 | D30: 3732.3721 | E30: 0 | G30: =+D30+E30 -> 3732.3721 | H30: =+(G30/D29-1)*100 -> 0.06150075 | I30: =+(1+H30/100)*I29 -> 1.0061323 | J30: =+(I30-1)*100 -> 0.61323196 | K30: =+D30+F30 -> 3732.3721 | L30: =+(K30/K29-1)*100 -> 0.06150075 | M30: =+(1+L30/100)*M29 -> 1.0061323 | N30: =+(M30-1)*100 -> 0.61323196 | O30: 2.8 | P30: 4176.931 | Q30: 0 | S30: =+P30+Q30 -> 4176.931 | T30: =+(S30/P29-1)*100 -> 0.26827524 | U30: =+(1+T30/100)*U29 -> 1.0151228 | V30: =+(U30-1)*100 -> 1.5122788 | W30: =+P30+R30 -> 4176.931 | X30: =+(W30/W29-1)*100 -> 0.26827524 | Y30: =+(1+X30/100)*Y29 -> 1.0151228 | Z30: =+(Y30-1)*100 -> 1.5122788 | AA30: 3.4568 | AB30: 5028.7006 | AC30: 0 | AE30: =+AC30+AB30 -> 5028.7006 | AF30: =+(AE30/AB29-1)*100 -> 0.66578339 | AG30: =+(1+AF30/100)*AG29 -> 1.0162109 | AH30: =+(AG30-1)*100 -> 1.6210948 | AI30: =+AB30+AD30 -> 5028.7006 | AJ30: =+(AI30/AI29-1)*100 -> 0.66578339 | AK30: =+(1+AJ30/100)*AK29 -> 1.0162109 | AL30: =+(AK30-1)*100 -> 1.6210948 | AM30: 4.15 | AN30: =+((AM29/100+1)^(1/252))*AN29 -> 1.0046051 | AO30: =+(AN30/AN29-1)*100 -> 0.016137009 | AP30: =+(1+AO30/100)*AP29 -> 1.0046051 | AQ30: =+(AP30-1)*100 -> 0.46050597 | AR30: 3300.4606 | AS30: =+(AR30/AR29-1)*100 -> 0.0091191951 | AT30: =+(1+AS30/100)*AT29 -> 1.0073583 | AU30: =+(AT30-1)*100 -> 0.73583293
A31: =+A30+1 -> 29 | B31: 43872 | C31: 1.72 | D31: 3736.3532 | E31: 0 | G31: =+D31+E31 -> 3736.3532 | H31: =+(G31/D30-1)*100 -> 0.10666418 | I31: =+(1+H31/100)*I30 -> 1.0072055 | J31: =+(I31-1)*100 -> 0.72055024 | K31: =+D31+F31 -> 3736.3532 | L31: =+(K31/K30-1)*100 -> 0.10666418 | M31: =+(1+L31/100)*M30 -> 1.0072055 | N31: =+(M31-1)*100 -> 0.72055024 | O31: 2.7538 | P31: 4190.604 | Q31: 0 | S31: =+P31+Q31 -> 4190.604 | T31: =+(S31/P30-1)*100 -> 0.32734731 | U31: =+(1+T31/100)*U30 -> 1.0184458 | V31: =+(U31-1)*100 -> 1.8445765 | W31: =+P31+R31 -> 4190.604 | X31: =+(W31/W30-1)*100 -> 0.32734731 | Y31: =+(1+X31/100)*Y30 -> 1.0184458 | Z31: =+(Y31-1)*100 -> 1.8445765 | AA31: 3.4228 | AB31: 5060.3712 | AC31: 0 | AE31: =+AC31+AB31 -> 5060.3712 | AF31: =+(AE31/AB30-1)*100 -> 0.62979653 | AG31: =+(1+AF31/100)*AG30 -> 1.022611 | AH31: =+(AG31-1)*100 -> 2.2611009 | AI31: =+AB31+AD31 -> 5060.3712 | AJ31: =+(AI31/AI30-1)*100 -> 0.62979653 | AK31: =+(1+AJ31/100)*AK30 -> 1.022611 | AL31: =+(AK31-1)*100 -> 2.2611009 | AM31: 4.15 | AN31: =+((AM30/100+1)^(1/252))*AN30 -> 1.0047672 | AO31: =+(AN31/AN30-1)*100 -> 0.016137009 | AP31: =+(1+AO31/100)*AP30 -> 1.0047672 | AQ31: =+(AP31-1)*100 -> 0.47671729 | AR31: 3300.7616 | AS31: =+(AR31/AR30-1)*100 -> 0.0091192422 | AT31: =+(1+AS31/100)*AT30 -> 1.0074502 | AU31: =+(AT31-1)*100 -> 0.74501927
A32: =+A31+1 -> 30 | B32: 43873 | C32: 1.65 | D32: 3742.8702 | E32: 0 | G32: =+D32+E32 -> 3742.8702 | H32: =+(G32/D31-1)*100 -> 0.17442176 | I32: =+(1+H32/100)*I31 -> 1.0089623 | J32: =+(I32-1)*100 -> 0.89622879 | K32: =+D32+F32 -> 3742.8702 | L32: =+(K32/K31-1)*100 -> 0.17442176 | M32: =+(1+L32/100)*M31 -> 1.0089623 | N32: =+(M32-1)*100 -> 0.89622879 | O32: 2.7 | P32: 4206.4451 | Q32: 0 | S32: =+P32+Q32 -> 4206.4451 | T32: =+(S32/P31-1)*100 -> 0.37801295 | U32: =+(1+T32/100)*U31 -> 1.0222956 | V32: =+(U32-1)*100 -> 2.2295622 | W32: =+P32+R32 -> 4206.4451 | X32: =+(W32/W31-1)*100 -> 0.37801295 | Y32: =+(1+X32/100)*Y31 -> 1.0222956 | Z32: =+(Y32-1)*100 -> 2.2295622 | AA32: 3.3971 | AB32: 5084.7753 | AC32: 0 | AE32: =+AC32+AB32 -> 5084.7753 | AF32: =+(AE32/AB31-1)*100 -> 0.48225853 | AG32: =+(1+AF32/100)*AG31 -> 1.0275426 | AH32: =+(AG32-1)*100 -> 2.7542638 | AI32: =+AB32+AD32 -> 5084.7753 | AJ32: =+(AI32/AI31-1)*100 -> 0.48225853 | AK32: =+(1+AJ32/100)*AK31 -> 1.0275426 | AL32: =+(AK32-1)*100 -> 2.7542638 | AM32: 4.15 | AN32: =+((AM31/100+1)^(1/252))*AN31 -> 1.0049293 | AO32: =+(AN32/AN31-1)*100 -> 0.016137009 | AP32: =+(1+AO32/100)*AP31 -> 1.0049293 | AQ32: =+(AP32-1)*100 -> 0.49293123 | AR32: 3301.0626 | AS32: =+(AR32/AR31-1)*100 -> 0.0091191984 | AT32: =+(1+AS32/100)*AT31 -> 1.0075421 | AU32: =+(AT32-1)*100 -> 0.75420641
A33: =+A32+1 -> 31 | B33: 43874 | C33: 1.62 | D33: 3745.9913 | E33: 0 | G33: =+D33+E33 -> 3745.9913 | H33: =+(G33/D32-1)*100 -> 0.083387048 | I33: =+(1+H33/100)*I32 -> 1.0098036 | J33: =+(I33-1)*100 -> 0.98036318 | K33: =+D33+F33 -> 3745.9913 | L33: =+(K33/K32-1)*100 -> 0.083387048 | M33: =+(1+L33/100)*M32 -> 1.0098036 | N33: =+(M33-1)*100 -> 0.98036318 | O33: 2.71 | P33: 4204.4814 | Q33: 0 | S33: =+P33+Q33 -> 4204.4814 | T33: =+(S33/P32-1)*100 -> -0.046682531 | U33: =+(1+T33/100)*U32 -> 1.0218184 | V33: =+(U33-1)*100 -> 2.1818389 | W33: =+P33+R33 -> 4204.4814 | X33: =+(W33/W32-1)*100 -> -0.046682531 | Y33: =+(1+X33/100)*Y32 -> 1.0218184 | Z33: =+(Y33-1)*100 -> 2.1818389 | AA33: 3.4189 | AB33: 5066.167 | AC33: 0 | AE33: =+AC33+AB33 -> 5066.167 | AF33: =+(AE33/AB32-1)*100 -> -0.36596083 | AG33: =+(1+AF33/100)*AG32 -> 1.0237822 | AH33: =+(AG33-1)*100 -> 2.3782234 | AI33: =+AB33+AD33 -> 5066.167 | AJ33: =+(AI33/AI32-1)*100 -> -0.36596083 | AK33: =+(1+AJ33/100)*AK32 -> 1.0237822 | AL33: =+(AK33-1)*100 -> 2.3782234 | AM33: 4.15 | AN33: =+((AM32/100+1)^(1/252))*AN32 -> 1.0050915 | AO33: =+(AN33/AN32-1)*100 -> 0.016137009 | AP33: =+(1+AO33/100)*AP32 -> 1.0050915 | AQ33: =+(AP33-1)*100 -> 0.50914778 | AR33: 3301.3636 | AS33: =+(AR33/AR32-1)*100 -> 0.0091192151 | AT33: =+(1+AS33/100)*AT32 -> 1.0076339 | AU33: =+(AT33-1)*100 -> 0.7633944
A34: =+A33+1 -> 32 | B34: 43875 | C34: 1.52 | D34: 3755.0361 | E34: 0 | G34: =+D34+E34 -> 3755.0361 | H34: =+(G34/D33-1)*100 -> 0.24145262 | I34: =+(1+H34/100)*I33 -> 1.0122418 | J34: =+(I34-1)*100 -> 1.2241829 | K34: =+D34+F34 -> 3755.0361 | L34: =+(K34/K33-1)*100 -> 0.24145262 | M34: =+(1+L34/100)*M33 -> 1.0122418 | N34: =+(M34-1)*100 -> 1.2241829 | O34: 2.63 | P34: 4227.7189 | Q34: 0 | S34: =+P34+Q34 -> 4227.7189 | T34: =+(S34/P33-1)*100 -> 0.55268505 | U34: =+(1+T34/100)*U33 -> 1.0274658 | V34: =+(U34-1)*100 -> 2.7465826 | W34: =+P34+R34 -> 4227.7189 | X34: =+(W34/W33-1)*100 -> 0.55268505 | Y34: =+(1+X34/100)*Y33 -> 1.0274658 | Z34: =+(Y34-1)*100 -> 2.7465826 | AA34: 3.3604 | AB34: 5120.5518 | AC34: 0 | AE34: =+AC34+AB34 -> 5120.5518 | AF34: =+(AE34/AB33-1)*100 -> 1.0734897 | AG34: =+(1+AF34/100)*AG33 -> 1.0347724 | AH34: =+(AG34-1)*100 -> 3.4772431 | AI34: =+AB34+AD34 -> 5120.5518 | AJ34: =+(AI34/AI33-1)*100 -> 1.0734897 | AK34: =+(1+AJ34/100)*AK33 -> 1.0347724 | AL34: =+(AK34-1)*100 -> 3.4772431 | AM34: 4.15 | AN34: =+((AM33/100+1)^(1/252))*AN33 -> 1.0052537 | AO34: =+(AN34/AN33-1)*100 -> 0.016137009 | AP34: =+(1+AO34/100)*AP33 -> 1.0052537 | AQ34: =+(AP34-1)*100 -> 0.52536695 | AR34: 3301.6647 | AS34: =+(AR34/AR33-1)*100 -> 0.0091192317 | AT34: =+(1+AS34/100)*AT33 -> 1.0077258 | AU34: =+(AT34-1)*100 -> 0.77258325
A35: =+A34+1 -> 33 | B35: 43878 | C35: 1.52 | D35: 3657.987 | E35: 97.616047 | F35: =+(F34*(1+AO34/100))+E35 -> 97.616047 | G35: =+D35+E35 -> 3755.6031 | H35: =+(G35/D34-1)*100 -> 0.015099615 | I35: =+(1+H35/100)*I34 -> 1.0123947 | J35: =+(I35-1)*100 -> 1.2394674 | K35: =+D35+F35 -> 3755.6031 | L35: =+(K35/K34-1)*100 -> 0.015099615 | M35: =+(1+L35/100)*M34 -> 1.0123947 | N35: =+(M35-1)*100 -> 1.2394674 | O35: 2.665 | P35: 4121.1043 | Q35: 97.616047 | R35: =+(R34*(1+AO34/100))+Q35 -> 97.616047 | S35: =+P35+Q35 -> 4218.7203 | T35: =+(S35/P34-1)*100 -> -0.21284811 | U35: =+(1+T35/100)*U34 -> 1.0252789 | V35: =+(U35-1)*100 -> 2.5278885 | W35: =+P35+R35 -> 4218.7203 | X35: =+(W35/W34-1)*100 -> -0.21284811 | Y35: =+(1+X35/100)*Y34 -> 1.0252789 | Z35: =+(Y35-1)*100 -> 2.5278885 | AA35: 3.3923 | AB35: 5092.5525 | AC35: 0 | AE35: =+AC35+AB35 -> 5092.5525 | AF35: =+(AE35/AB34-1)*100 -> -0.54680224 | AG35: =+(1+AF35/100)*AG34 -> 1.0291143 | AH35: =+(AG35-1)*100 -> 2.9114272 | AI35: =+AB35+AD35 -> 5092.5525 | AJ35: =+(AI35/AI34-1)*100 -> -0.54680224 | AK35: =+(1+AJ35/100)*AK34 -> 1.0291143 | AL35: =+(AK35-1)*100 -> 2.9114272 | AM35: 4.15 | AN35: =+((AM34/100+1)^(1/252))*AN34 -> 1.0054159 | AO35: =+(AN35/AN34-1)*100 -> 0.016137009 | AP35: =+(1+AO35/100)*AP34 -> 1.0054159 | AQ35: =+(AP35-1)*100 -> 0.54158874 | AR35: 3301.9658 | AS35: =+(AR35/AR34-1)*100 -> 0.0091192179 | AT35: =+(1+AS35/100)*AT34 -> 1.0078177 | AU35: =+(AT35-1)*100 -> 0.78177292
A36: =+A35+1 -> 34 | B36: 43879 | C36: 1.52 | D36: 3658.4926 | E36: 0 | F36: =+(F35*(1+AO35/100))+E36 -> 97.631799 | G36: =+D36+E36 -> 3658.4926 | H36: =+(G36/D35-1)*100 -> 0.013820989 | I36: =+(1+H36/100)*I35 -> 1.0125346 | J36: =+(I36-1)*100 -> 1.2534597 | K36: =+D36+F36 -> 3756.1244 | L36: =+(K36/K35-1)*100 -> 0.013881188 | M36: =+(1+L36/100)*M35 -> 1.0125352 | N36: =+(M36-1)*100 -> 1.2535206 | O36: 2.7 | P36: 4112.0694 | Q36: 0 | R36: =+(R35*(1+AO35/100))+Q36 -> 97.631799 | S36: =+P36+Q36 -> 4112.0694 | T36: =+(S36/P35-1)*100 -> -0.21923442 | U36: =+(1+T36/100)*U35 -> 1.0230311 | V36: =+(U36-1)*100 -> 2.3031121 | W36: =+P36+R36 -> 4209.7012 | X36: =+(W36/W35-1)*100 -> -0.21378821 | Y36: =+(1+X36/100)*Y35 -> 1.023087 | Z36: =+(Y36-1)*100 -> 2.3086959 | AA36: 3.3917 | AB36: 5094.1701 | AC36: 0 | AE36: =+AC36+AB36 -> 5094.1701 | AF36: =+(AE36/AB35-1)*100 -> 0.031764935 | AG36: =+(1+AF36/100)*AG35 -> 1.0294412 | AH36: =+(AG36-1)*100 -> 2.944117 | AI36: =+AB36+AD36 -> 5094.1701 | AJ36: =+(AI36/AI35-1)*100 -> 0.031764935 | AK36: =+(1+AJ36/100)*AK35 -> 1.0294412 | AL36: =+(AK36-1)*100 -> 2.944117 | AM36: 4.15 | AN36: =+((AM35/100+1)^(1/252))*AN35 -> 1.0055781 | AO36: =+(AN36/AN35-1)*100 -> 0.016137009 | AP36: =+(1+AO36/100)*AP35 -> 1.0055781 | AQ36: =+(AP36-1)*100 -> 0.55781315 | AR36: 3302.2224 | AS36: =+(AR36/AR35-1)*100 -> 0.0077726123 | AT36: =+(1+AS36/100)*AT35 -> 1.0078961 | AU36: =+(AT36-1)*100 -> 0.7896063
A37: =+A36+1 -> 35 | B37: 43880 | C37: 1.4455 | D37: 3665.2895 | E37: 0 | F37: =+(F36*(1+AO36/100))+E37 -> 97.647554 | G37: =+D37+E37 -> 3665.2895 | H37: =+(G37/D36-1)*100 -> 0.1857828 | I37: =+(1+H37/100)*I36 -> 1.0144157 | J37: =+(I37-1)*100 -> 1.4415712 | K37: =+D37+F37 -> 3762.937 | L37: =+(K37/K36-1)*100 -> 0.18137325 | M37: =+(1+L37/100)*M36 -> 1.0143717 | N37: =+(M37-1)*100 -> 1.4371674 | O37: 2.6575 | P37: 4124.7072 | Q37: 0 | R37: =+(R36*(1+AO36/100))+Q37 -> 97.647554 | S37: =+P37+Q37 -> 4124.7072 | T37: =+(S37/P36-1)*100 -> 0.30733587 | U37: =+(1+T37/100)*U36 -> 1.0261753 | V37: =+(U37-1)*100 -> 2.6175262 | W37: =+P37+R37 -> 4222.3548 | X37: =+(W37/W36-1)*100 -> 0.30058235 | Y37: =+(1+X37/100)*Y36 -> 1.0261622 | Z37: =+(Y37-1)*100 -> 2.6162178 | AA37: 3.3803 | AB37: 5105.6261 | AC37: 0 | AE37: =+AC37+AB37 -> 5105.6261 | AF37: =+(AE37/AB36-1)*100 -> 0.22488362 | AG37: =+(1+AF37/100)*AG36 -> 1.0317562 | AH37: =+(AG37-1)*100 -> 3.1756214 | AI37: =+AB37+AD37 -> 5105.6261 | AJ37: =+(AI37/AI36-1)*100 -> 0.22488362 | AK37: =+(1+AJ37/100)*AK36 -> 1.0317562 | AL37: =+(AK37-1)*100 -> 3.1756214 | AM37: 4.15 | AN37: =+((AM36/100+1)^(1/252))*AN36 -> 1.0057404 | AO37: =+(AN37/AN36-1)*100 -> 0.016137009 | AP37: =+(1+AO37/100)*AP36 -> 1.0057404 | AQ37: =+(AP37-1)*100 -> 0.57404017 | AR37: 3302.4791 | AS37: =+(AR37/AR36-1)*100 -> 0.0077726442 | AT37: =+(1+AS37/100)*AT36 -> 1.0079744 | AU37: =+(AT37-1)*100 -> 0.79744032
A38: =+A37+1 -> 36 | B38: 43881 | C38: 1.45 | D38: 3665.4026 | E38: 0 | F38: =+(F37*(1+AO37/100))+E38 -> 97.663312 | G38: =+D38+E38 -> 3665.4026 | H38: =+(G38/D37-1)*100 -> 0.003087014 | I38: =+(1+H38/100)*I37 -> 1.014447 | J38: =+(I38-1)*100 -> 1.4447027 | K38: =+D38+F38 -> 3763.0659 | L38: =+(K38/K37-1)*100 -> 0.0034256591 | M38: =+(1+L38/100)*M37 -> 1.0144064 | N38: =+(M38-1)*100 -> 1.4406423 | O38: 2.68 | P38: 4119.1622 | Q38: 0 | R38: =+(R37*(1+AO37/100))+Q38 -> 97.663312 | S38: =+P38+Q38 -> 4119.1622 | T38: =+(S38/P37-1)*100 -> -0.13443524 | U38: =+(1+T38/100)*U37 -> 1.0247957 | V38: =+(U38-1)*100 -> 2.4795721 | W38: =+P38+R38 -> 4216.8255 | X38: =+(W38/W37-1)*100 -> -0.13095306 | Y38: =+(1+X38/100)*Y37 -> 1.0248184 | Z38: =+(Y38-1)*100 -> 2.4818387 | AA38: 3.4244 | AB38: 5066.6907 | AC38: 0 | AE38: =+AC38+AB38 -> 5066.6907 | AF38: =+(AE38/AB37-1)*100 -> -0.7625987 | AG38: =+(1+AF38/100)*AG37 -> 1.0238881 | AH38: =+(AG38-1)*100 -> 2.3888055 | AI38: =+AB38+AD38 -> 5066.6907 | AJ38: =+(AI38/AI37-1)*100 -> -0.7625987 | AK38: =+(1+AJ38/100)*AK37 -> 1.0238881 | AL38: =+(AK38-1)*100 -> 2.3888055 | AM38: 4.15 | AN38: =+((AM37/100+1)^(1/252))*AN37 -> 1.0059027 | AO38: =+(AN38/AN37-1)*100 -> 0.016137009 | AP38: =+(1+AO38/100)*AP37 -> 1.0059027 | AQ38: =+(AP38-1)*100 -> 0.59026981 | AR38: 3302.7358 | AS38: =+(AR38/AR37-1)*100 -> 0.0077726457 | AT38: =+(1+AS38/100)*AT37 -> 1.0080527 | AU38: =+(AT38-1)*100 -> 0.80527495
A39: =+A38+1 -> 37 | B39: 43882 | C39: 1.46 | D39: 3665.138 | E39: 0 | F39: =+(F38*(1+AO38/100))+E39 -> 97.679071 | G39: =+D39+E39 -> 3665.138 | H39: =+(G39/D38-1)*100 -> -0.00722008 | I39: =+(1+H39/100)*I38 -> 1.0143738 | J39: =+(I39-1)*100 -> 1.4373783 | K39: =+D39+F39 -> 3762.817 | L39: =+(K39/K38-1)*100 -> -0.0066138906 | M39: =+(1+L39/100)*M38 -> 1.0143393 | N39: =+(M39-1)*100 -> 1.4339331 | O39: 2.7279 | P39: 4106.6555 | Q39: 0 | R39: =+(R38*(1+AO38/100))+Q39 -> 97.679071 | S39: =+P39+Q39 -> 4106.6555 | T39: =+(S39/P38-1)*100 -> -0.30362267 | U39: =+(1+T39/100)*U38 -> 1.0216842 | V39: =+(U39-1)*100 -> 2.1684209 | W39: =+P39+R39 -> 4204.3345 | X39: =+(W39/W38-1)*100 -> -0.29621691 | Y39: =+(1+X39/100)*Y38 -> 1.0217827 | Z39: =+(Y39-1)*100 -> 2.1782702 | AA39: 3.4731 | AB39: 5024.2372 | AC39: 0 | AE39: =+AC39+AB39 -> 5024.2372 | AF39: =+(AE39/AB38-1)*100 -> -0.83789244 | AG39: =+(1+AF39/100)*AG38 -> 1.015309 | AH39: =+(AG39-1)*100 -> 1.5308974 | AI39: =+AB39+AD39 -> 5024.2372 | AJ39: =+(AI39/AI38-1)*100 -> -0.83789244 | AK39: =+(1+AJ39/100)*AK38 -> 1.015309 | AL39: =+(AK39-1)*100 -> 1.5308974 | AM39: 4.15 | AN39: =+((AM38/100+1)^(1/252))*AN38 -> 1.006065 | AO39: =+(AN39/AN38-1)*100 -> 0.016137009 | AP39: =+(1+AO39/100)*AP38 -> 1.006065 | AQ39: =+(AP39-1)*100 -> 0.60650207 | AR39: 3303.0658 | AS39: =+(AR39/AR38-1)*100 -> 0.0099918377 | AT39: =+(1+AS39/100)*AT38 -> 1.0081535 | AU39: =+(AT39-1)*100 -> 0.81534724
A40: =+A39+1 -> 38 | B40: 43887 | C40: 1.53 | D40: 3659.768 | E40: 0 | F40: =+(F39*(1+AO39/100))+E40 -> 97.694834 | G40: =+D40+E40 -> 3659.768 | H40: =+(G40/D39-1)*100 -> -0.14651364 | I40: =+(1+H40/100)*I39 -> 1.0128876 | J40: =+(I40-1)*100 -> 1.2887587 | K40: =+D40+F40 -> 3757.4629 | L40: =+(K40/K39-1)*100 -> -0.14229139 | M40: =+(1+L40/100)*M39 -> 1.012896 | N40: =+(M40-1)*100 -> 1.2896014 | O40: 2.8156 | P40: 4083.1407 | Q40: 0 | R40: =+(R39*(1+AO39/100))+Q40 -> 97.694834 | S40: =+P40+Q40 -> 4083.1407 | T40: =+(S40/P39-1)*100 -> -0.57260094 | U40: =+(1+T40/100)*U39 -> 1.015834 | V40: =+(U40-1)*100 -> 1.5834035 | W40: =+P40+R40 -> 4180.8356 | X40: =+(W40/W39-1)*100 -> -0.55892283 | Y40: =+(1+X40/100)*Y39 -> 1.0160717 | Z40: =+(Y40-1)*100 -> 1.6071725 | AA40: 3.5655 | AB40: 4944.0706 | AC40: 0 | AE40: =+AC40+AB40 -> 4944.0706 | AF40: =+(AE40/AB39-1)*100 -> -1.5955976 | AG40: =+(1+AF40/100)*AG39 -> 0.99910873 | AH40: =+(AG40-1)*100 -> -0.089127147 | AI40: =+AB40+AD40 -> 4944.0706 | AJ40: =+(AI40/AI39-1)*100 -> -1.5955976 | AK40: =+(1+AJ40/100)*AK39 -> 0.99910873 | AL40: =+(AK40-1)*100 -> -0.089127147 | AM40: 4.15 | AN40: =+((AM39/100+1)^(1/252))*AN39 -> 1.0062274 | AO40: =+(AN40/AN39-1)*100 -> 0.016137009 | AP40: =+(1+AO40/100)*AP39 -> 1.0062274 | AQ40: =+(AP40-1)*100 -> 0.62273695 | AR40: 3303.3409 | AS40: =+(AR40/AR39-1)*100 -> 0.0083274454 | AT40: =+(1+AS40/100)*AT39 -> 1.0082374 | AU40: =+(AT40-1)*100 -> 0.82374259
...

Sheet Feriados
A1: 36892
A2: 36948
A3: 36949
A4: 36994
A5: 37002
A6: 37012
A7: 37056
A8: 37141
A9: 37176
A10: 37197
A11: 37210
A12: 37250
... A936: 65374
