Workbook
Name feriado: [1]FERIADOS!$A$2:$A$1037

Sheet NTN-B 19 até venc
C1: Tx 08/22 | D1: Tx Mercado | F1: Tesouro Direto | O1: Tx 08/22 | P1: Tx Curva
A2: Nr. | B2: Data | C2: 44788 | D2: Preço | E2: Juros | F2: Jr CDI | G2: PU Ajustado | H2: Rent | I2: Acum. | J2: Ret Mercado | K2: PU + JR CDI | L2: Rent | M2: Acum. | N2: Ret Mercado | O2: 44788 | P2: Preço | Q2: Juros | R2: Jr CDI | S2: PU Ajustado | T2: Rent | U2: Acum. | V2: Ret Curva | W2: PU + JR CDI | X2: Rent | Y2: Acum. | Z2: 08/22 | AA2: Tx CDI | AB2: Índice | AC2: Rent | AD2: Acum. | AE2: CDI | AF2: VNA IPCA | AG2: IPCA % a.m | AH2: IPCA a.a. | AI2: Rent | AJ2: Acum. | AK2: Ret | AN2: Resumos Estatísticos
A3: 1 | B3: 43231 | C3: =VLOOKUP(B3,'Base NTN-B Princ 2019'!A:B,2,FALSE)*100 -> 1.96 | D3: 3013.331 | E3: 0 | I3: 1 | J3: 0 | K3: =+D3 -> 3013.331 | M3: 1 | N3: 0 | O3: 1.96 | P3: 3013.331 | Q3: 0 | U3: 1 | V3: 0 | W3: =+P3 -> 3013.331 | Y3: 1 | Z3: 0 | AA3: 6.39 | AB3: 1 | AD3: 1 | AE3: 0 | AF3: 3072.3947 | AG3: 0.22 | AH3: =+((1+AG3/100)^(252/21)-1)*100 -> 2.6721794 | AJ3: 1 | AK3: 0 | AN3: =+C2 -> 44788
A4: =+A3+1 -> 2 | B4: 43234 | C4: =VLOOKUP(B4,'Base NTN-B Princ 2019'!A:B,2,FALSE)*100 -> 2 | D4: 3012.7187 | E4: 0 | F4: =+(F3*(1+AC3/100))+E4 -> 0 | G4: =+D4+E4 -> 3012.7187 | H4: =+(G4/D3-1)*100 -> -0.020318777 | I4: =+(1+H4/100)*I3 -> 0.99979681 | J4: =+(I4-1)*100 -> -0.020318777 | K4: =+D4+F4 -> 3012.7187 | L4: =+(K4/K3-1)*100 -> -0.020318777 | M4: =+(1+L4/100)*M3 -> 0.99979681 | N4: =+(M4-1)*100 -> -0.020318777 | O4: 1.96 | P4: 3013.8956 | Q4: 0 | R4: =+(R3*(1+AQ3/100))+Q4 -> 0 | S4: =+P4+Q4 -> 3013.8956 | T4: =+(S4/P3-1)*100 -> 0.018736243 | U4: =+(1+T4/100)*U3 -> 1.0001874 | V4: =+(U4-1)*100 -> 0.018736243 | W4: =+P4+R4 -> 3013.8956 | X4: =+(W4/W3-1)*100 -> 0.018736243 | Y4: =+(1+X4/100)*Y3 -> 1.0001874 | Z4: =+(Y4-1)*100 -> 0.018736243 | AA4: 6.39 | AB4: =+((AA3/100+1)^(1/252))*AB3 -> 1.0002458 | AC4: =+(AB4/AB3-1)*100 -> 0.024582942 | AD4: =+(1+AC4/100)*AD3 -> 1.0002458 | AE4: =+(AD4-1)*100 -> 0.024582942 | AF4: 3072.7322 | AG4: 0.22 | AH4: =+((1+AG4/100)^(252/21)-1)*100 -> 2.6721794 | AI4: =+(AF4/AF3-1)*100 -> 0.010986414 | AJ4: =+(1+AI4/100)*AJ3 -> 1.0001099 | AK4: =+(AJ4-1)*100 -> 0.010986414 | AN4: De: | AO4: 43231
A5: =+A4+1 -> 3 | B5: 43235 | C5: =VLOOKUP(B5,'Base NTN-B Princ 2019'!A:B,2,FALSE)*100 -> 2.08 | D5: 3010.9416 | E5: 0 | F5: =+(F4*(1+AC4/100))+E5 -> 0 | G5: =+D5+E5 -> 3010.9416 | H5: =+(G5/D4-1)*100 -> -0.058987751 | I5: =+(1+H5/100)*I4 -> 0.99920705 | J5: =+(I5-1)*100 -> -0.079294542 | K5: =+D5+F5 -> 3010.9416 | L5: =+(K5/K4-1)*100 -> -0.058987751 | M5: =+(1+L5/100)*M4 -> 0.99920705 | N5: =+(M5-1)*100 -> -0.079294542 | O5: 1.96 | P5: 3014.4572 | Q5: 0 | R5: =+(R4*(1+AQ4/100))+Q5 -> 0 | S5: =+P5+Q5 -> 3014.4572 | T5: =+(S5/P4-1)*100 -> 0.018633691 | U5: =+(1+T5/100)*U4 -> 1.0003737 | V5: =+(U5-1)*100 -> 0.037373425 | W5: =+P5+R5 -> 3014.4572 | X5: =+(W5/W4-1)*100 -> 0.018633691 | Y5: =+(1+X5/100)*Y4 -> 1.0003737 | Z5: =+(Y5-1)*100 -> 0.037373425 | AA5: 6.39 | AB5: =+((AA4/100+1)^(1/252))*AB4 -> 1.0004917 | AC5: =+(AB5/AB4-1)*100 -> 0.024582942 | AD5: =+(1+AC5/100)*AD4 -> 1.0004917 | AE5: =+(AD5-1)*100 -> 0.049171928 | AF5: 3073.0698 | AG5: 0.22 | AH5: =+((1+AG5/100)^(252/21)-1)*100 -> 2.6721794 | AI5: =+(AF5/AF4-1)*100 -> 0.010986444 | AJ5: =+(1+AI5/100)*AJ4 -> 1.0002197 | AK5: =+(AJ5-1)*100 -> 0.021974065 | AN5: Até: | AO5: 43600
A6: =+A5+1 -> 4 | B6: 43236 | C6: =VLOOKUP(B6,'Base NTN-B Princ 2019'!A:B,2,FALSE)*100 -> 2.03 | D6: 3013.1529 | E6: 0 | F6: =+(F5*(1+AC5/100))+E6 -> 0 | G6: =+D6+E6 -> 3013.1529 | H6: =+(G6/D5-1)*100 -> 0.073443239 | I6: =+(1+H6/100)*I5 -> 0.9999409 | J6: =+(I6-1)*100 -> -0.00590954 | K6: =+D6+F6 -> 3013.1529 | L6: =+(K6/K5-1)*100 -> 0.073443239 | M6: =+(1+L6/100)*M5 -> 0.9999409 | N6: =+(M6-1)*100 -> -0.00590954 | O6: 1.96 | P6: 3015.1968 | Q6: 0 | R6: =+(R5*(1+AQ5/100))+Q6 -> 0 | S6: =+P6+Q6 -> 3015.1968 | T6: =+(S6/P5-1)*100 -> 0.024537585 | U6: =+(1+T6/100)*U5 -> 1.0006192 | V6: =+(U6-1)*100 -> 0.061920181 | W6: =+P6+R6 -> 3015.1968 | X6: =+(W6/W5-1)*100 -> 0.024537585 | Y6: =+(1+X6/100)*Y5 -> 1.0006192 | Z6: =+(Y6-1)*100 -> 0.061920181 | AA6: 6.39 | AB6: =+((AA5/100+1)^(1/252))*AB5 -> 1.0007377 | AC6: =+(AB6/AB5-1)*100 -> 0.024582942 | AD6: =+(1+AC6/100)*AD5 -> 1.0007377 | AE6: =+(AD6-1)*100 -> 0.073766958 | AF6: 3073.5857 | AG6: 0.37 | AH6: =+((1+AG6/100)^(252/21)-1)*100 -> 4.5314777 | AI6: =+(AF6/AF5-1)*100 -> 0.016788522 | AJ6: =+(1+AI6/100)*AJ5 -> 1.0003877 | AK6: =+(AJ6-1)*100 -> 0.038766276 | AP6: + JR CDI | AR6: Ganho Real
A7: =+A6+1 -> 5 | B7: 43237 | C7: =VLOOKUP(B7,'Base NTN-B Princ 2019'!A:B,2,FALSE)*100 -> 2.18 | D7: 3009.5456 | E7: 0 | F7: =+(F6*(1+AC6/100))+E7 -> 0 | G7: =+D7+E7 -> 3009.5456 | H7: =+(G7/D6-1)*100 -> -0.11971789 | I7: =+(1+H7/100)*I6 -> 0.9987438 | J7: =+(I7-1)*100 -> -0.12562035 | K7: =+D7+F7 -> 3009.5456 | L7: =+(K7/K6-1)*100 -> -0.11971789 | M7: =+(1+L7/100)*M6 -> 0.9987438 | N7: =+(M7-1)*100 -> -0.12562035 | O7: 1.96 | P7: 3015.9367 | Q7: 0 | R7: =+(R6*(1+AQ6/100))+Q7 -> 0 | S7: =+P7+Q7 -> 3015.9367 | T7: =+(S7/P6-1)*100 -> 0.024537038 | U7: =+(1+T7/100)*U6 -> 1.0008647 | V7: =+(U7-1)*100 -> 0.086472413 | W7: =+P7+R7 -> 3015.9367 | X7: =+(W7/W6-1)*100 -> 0.024537038 | Y7: =+(1+X7/100)*Y6 -> 1.0008647 | Z7: =+(Y7-1)*100 -> 0.086472413 | AA7: 6.39 | AB7: =+((AA6/100+1)^(1/252))*AB6 -> 1.0009837 | AC7: =+(AB7/AB6-1)*100 -> 0.024582942 | AD7: =+(1+AC7/100)*AD6 -> 1.0009837 | AE7: =+(AD7-1)*100 -> 0.098368035 | AF7: 3074.1018 | AG7: 0.37 | AH7: =+((1+AG7/100)^(252/21)-1)*100 -> 4.5314777 | AI7: =+(AF7/AF6-1)*100 -> 0.016788567 | AJ7: =+(1+AI7/100)*AJ6 -> 1.0005556 | AK7: =+(AJ7-1)*100 -> 0.055561351 | AN7: Rent Per. | AO7: =((VLOOKUP(AO5,B:AE,8,FALSE)/VLOOKUP(AO4,B:AE,8,FALSE))-1)*100 -> 7.0209361 | AP7: =((VLOOKUP(AO5,B:AE,12,FALSE)/VLOOKUP(AO4,B:AE,12,FALSE))-1)*100 -> 7.0209361 | AR7: =+(((1+AO7/100)/(1+AO8/100))-1)*100 -> 1.9600806
A8: =+A7+1 -> 6 | B8: 43238 | C8: =VLOOKUP(B8,'Base NTN-B Princ 2019'!A:B,2,FALSE)*100 -> 2.35 | D8: 3005.4051 | E8: 0 | F8: =+(F7*(1+AC7/100))+E8 -> 0 | G8: =+D8+E8 -> 3005.4051 | H8: =+(G8/D7-1)*100 -> -0.13757854 | I8: =+(1+H8/100)*I7 -> 0.99736974 | J8: =+(I8-1)*100 -> -0.26302607 | K8: =+D8+F8 -> 3005.4051 | L8: =+(K8/K7-1)*100 -> -0.13757854 | M8: =+(1+L8/100)*M7 -> 0.99736974 | N8: =+(M8-1)*100 -> -0.26302607 | O8: 1.96 | P8: 3016.6736 | Q8: 0 | R8: =+(R7*(1+AQ7/100))+Q8 -> 0 | S8: =+P8+Q8 -> 3016.6736 | T8: =+(S8/P7-1)*100 -> 0.024434465 | U8: =+(1+T8/100)*U7 -> 1.0011093 | V8: =+(U8-1)*100 -> 0.11092801 | W8: =+P8+R8 -> 3016.6736 | X8: =+(W8/W7-1)*100 -> 0.024434465 | Y8: =+(1+X8/100)*Y7 -> 1.0011093 | Z8: =+(Y8-1)*100 -> 0.11092801 | AA8: 6.39 | AB8: =+((AA7/100+1)^(1/252))*AB7 -> 1.0012298 | AC8: =+(AB8/AB7-1)*100 -> 0.024582942 | AD8: =+(1+AC8/100)*AD7 -> 1.0012298 | AE8: =+(AD8-1)*100 -> 0.12297516 | AF8: 3074.6179 | AG8: 0.37 | AH8: =+((1+AG8/100)^(252/21)-1)*100 -> 4.5314777 | AI8: =+(AF8/AF7-1)*100 -> 0.016788546 | AJ8: =+(1+AI8/100)*AJ7 -> 1.0007236 | AK8: =+(AJ8-1)*100 -> 0.072359225 | AN8: VNA IPCA | AO8: =(((VLOOKUP(AO5,B:AK,31,FALSE)/VLOOKUP(AO4,B:AK,31,FALSE))-1)*100) -> 4.9635656 | AP8: =+AO8 -> 4.9635656
A9: =+A8+1 -> 7 | B9: 43241 | C9: =VLOOKUP(B9,'Base NTN-B Princ 2019'!A:B,2,FALSE)*100 -> 2.37 | D9: 3005.6145 | E9: 0 | F9: =+(F8*(1+AC8/100))+E9 -> 0 | G9: =+D9+E9 -> 3005.6145 | H9: =+(G9/D8-1)*100 -> 0.0069658163 | I9: =+(1+H9/100)*I8 -> 0.99743921 | J9: =+(I9-1)*100 -> -0.25607857 | K9: =+D9+F9 -> 3005.6145 | L9: =+(K9/K8-1)*100 -> 0.0069658163 | M9: =+(1+L9/100)*M8 -> 0.99743921 | N9: =+(M9-1)*100 -> -0.25607857 | O9: 1.96 | P9: 3017.4138 | Q9: 0 | R9: =+(R8*(1+AQ8/100))+Q9 -> 0 | S9: =+P9+Q9 -> 3017.4138 | T9: =+(S9/P8-1)*100 -> 0.024535866 | U9: =+(1+T9/100)*U8 -> 1.0013549 | V9: =+(U9-1)*100 -> 0.13549109 | W9: =+P9+R9 -> 3017.4138 | X9: =+(W9/W8-1)*100 -> 0.024535866 | Y9: =+(1+X9/100)*Y8 -> 1.0013549 | Z9: =+(Y9-1)*100 -> 0.13549109 | AA9: 6.39 | AB9: =+((AA8/100+1)^(1/252))*AB8 -> 1.0014759 | AC9: =+(AB9/AB8-1)*100 -> 0.024582942 | AD9: =+(1+AC9/100)*AD8 -> 1.0014759 | AE9: =+(AD9-1)*100 -> 0.14758833 | AF9: 3075.134 | AG9: 0.37 | AH9: =+((1+AG9/100)^(252/21)-1)*100 -> 4.5314777 | AI9: =+(AF9/AF8-1)*100 -> 0.016788558 | AJ9: =+(1+AI9/100)*AJ8 -> 1.0008916 | AK9: =+(AJ9-1)*100 -> 0.089159931 | AN9: CDI | AO9: =(((VLOOKUP(AO5,B:AK,27,FALSE)/VLOOKUP(AO4,B:AK,27,FALSE))-1)*100) -> 6.3960713 | AP9: =+AO9 -> 6.3960713 | AR9: =+(((1+AO9/100)/(1+AO8/100))-1)*100 -> 1.3647647
A10: =+A9+1 -> 8 | B10: 43242 | C10: =VLOOKUP(B10,'Base NTN-B Princ 2019'!A:B,2,FALSE)*100 -> 2.48 | D10: 3003.2618 | E10: 0 | F10: =+(F9*(1+AC9/100))+E10 -> 0 | G10: =+D10+E10 -> 3003.2618 | H10: =+(G10/D9-1)*100 -> -0.07827614 | I10: =+(1+H10/100)*I9 -> 0.99665846 | J10: =+(I10-1)*100 -> -0.33415427 | K10: =+D10+F10 -> 3003.2618 | L10: =+(K10/K9-1)*100 -> -0.07827614 | M10: =+(1+L10/100)*M9 -> 0.99665846 | N10: =+(M10-1)*100 -> -0.33415427 | O10: 1.96 | P10: 3018.151 | Q10: 0 | R10: =+(R9*(1+AQ9/100))+Q10 -> 0 | S10: =+P10+Q10 -> 3018.151 | T10: =+(S10/P9-1)*100 -> 0.024433308 | U10: =+(1+T10/100)*U9 -> 1.0015996 | V10: =+(U10-1)*100 -> 0.1599575 | W10: =+P10+R10 -> 3018.151 | X10: =+(W10/W9-1)*100 -> 0.024433308 | Y10: =+(1+X10/100)*Y9 -> 1.0015996 | Z10: =+(Y10-1)*100 -> 0.1599575 | AA10: 6.39 | AB10: =+((AA9/100+1)^(1/252))*AB9 -> 1.0017221 | AC10: =+(AB10/AB9-1)*100 -> 0.024582942 | AD10: =+(1+AC10/100)*AD9 -> 1.0017221 | AE10: =+(AD10-1)*100 -> 0.17220756 | AF10: 3075.6503 | AG10: 0.37 | AH10: =+((1+AG10/100)^(252/21)-1)*100 -> 4.5314777 | AI10: =+(AF10/AF9-1)*100 -> 0.016788569 | AJ10: =+(1+AI10/100)*AJ9 -> 1.0010596 | AK10: =+(AJ10-1)*100 -> 0.10596347 | AN10: %CDI | AO10: =+AO7/AO9*100 -> 109.76951 | AP10: =+AP7/AP9*100 -> 109.76951
A11: =+A10+1 -> 9 | B11: 43243 | C11: =VLOOKUP(B11,'Base NTN-B Princ 2019'!A:B,2,FALSE)*100 -> 2.47 | D11: 3004.3413 | E11: 0 | F11: =+(F10*(1+AC10/100))+E11 -> 0 | G11: =+D11+E11 -> 3004.3413 | H11: =+(G11/D10-1)*100 -> 0.035942488 | I11: =+(1+H11/100)*I10 -> 0.99701668 | J11: =+(I11-1)*100 -> -0.29833188 | K11: =+D11+F11 -> 3004.3413 | L11: =+(K11/K10-1)*100 -> 0.035942488 | M11: =+(1+L11/100)*M10 -> 0.99701668 | N11: =+(M11-1)*100 -> -0.29833188 | O11: 1.96 | P11: 3018.8915 | Q11: 0 | R11: =+(R10*(1+AQ10/100))+Q11 -> 0 | S11: =+P11+Q11 -> 3018.8915 | T11: =+(S11/P10-1)*100 -> 0.024534624 | U11: =+(1+T11/100)*U10 -> 1.0018453 | V11: =+(U11-1)*100 -> 0.18453137 | W11: =+P11+R11 -> 3018.8915 | X11: =+(W11/W10-1)*100 -> 0.024534624 | Y11: =+(1+X11/100)*Y10 -> 1.0018453 | Z11: =+(Y11-1)*100 -> 0.18453137 | AA11: 6.39 | AB11: =+((AA10/100+1)^(1/252))*AB10 -> 1.0019683 | AC11: =+(AB11/AB10-1)*100 -> 0.024582942 | AD11: =+(1+AC11/100)*AD10 -> 1.0019683 | AE11: =+(AD11-1)*100 -> 0.19683283 | AF11: 3076.1667 | AG11: 0.37 | AH11: =+((1+AG11/100)^(252/21)-1)*100 -> 4.5314777 | AI11: =+(AF11/AF10-1)*100 -> 0.016788547 | AJ11: =+(1+AI11/100)*AJ10 -> 1.0012277 | AK11: =+(AJ11-1)*100 -> 0.12276981 | AN11: Rent a.a. | AO11: =(((1+AO7/100)^(252/NETWORKDAYS(AO4,AO5-1,Feriados!$A$1:$A$936)))-1)*100 -> 7.0209361 | AP11: =(((1+AP7/100)^(252/NETWORKDAYS(AO4,AO5-1,Feriados!$A$1:$A$936)))-1)*100 -> 7.0209361
A12: =+A11+1 -> 10 | B12: 43244 | C12: =VLOOKUP(B12,'Base NTN-B Princ 2019'!A:B,2,FALSE)*100 -> 2.6 | D12: 3000.1316 | E12: 0 | F12: =+(F11*(1+AC11/100))+E12 -> 0 | G12: =+D12+E12 -> 3000.1316 | H12: =+(G12/D11-1)*100 -> -0.14011757 | I12: =+(1+H12/100)*I11 -> 0.99561969 | J12: =+(I12-1)*100 -> -0.43803144 | K12: =+D12+F12 -> 3000.1316 | L12: =+(K12/K11-1)*100 -> -0.14011757 | M12: =+(1+L12/100)*M11 -> 0.99561969 | N12: =+(M12-1)*100 -> -0.43803144 | O12: 1.96 | P12: 3018.2883 | Q12: 0 | R12: =+(R11*(1+AQ11/100))+Q12 -> 0 | S12: =+P12+Q12 -> 3018.2883 | T12: =+(S12/P11-1)*100 -> -0.019981076 | U12: =+(1+T12/100)*U11 -> 1.0016451 | V12: =+(U12-1)*100 -> 0.16451343 | W12: =+P12+R12 -> 3018.2883 | X12: =+(W12/W11-1)*100 -> -0.019981076 | Y12: =+(1+X12/100)*Y11 -> 1.0016451 | Z12: =+(Y12-1)*100 -> 0.16451343 | AA12: 6.39 | AB12: =+((AA11/100+1)^(1/252))*AB11 -> 1.0022146 | AC12: =+(AB12/AB11-1)*100 -> 0.024582942 | AD12: =+(1+AC12/100)*AD11 -> 1.0022146 | AE12: =+(AD12-1)*100 -> 0.22146416 | AF12: 3075.317 | AG12: 0.23 | AH12: =+((1+AG12/100)^(252/21)-1)*100 -> 2.7951831 | AI12: =+(AF12/AF11-1)*100 -> -0.02762126 | AJ12: =+(1+AI12/100)*AJ11 -> 1.0009511 | AK12: =+(AJ12-1)*100 -> 0.095114635 | AN12: CDI a.a. | AO12: =(((1+AO9/100)^(252/NETWORKDAYS(AO4,AO5-1,Feriados!$A$1:$A$936)))-1)*100 -> 6.3960713 | AP12: =+AO12 -> 6.3960713
A13: =+A12+1 -> 11 | B13: 43245 | C13: =VLOOKUP(B13,'Base NTN-B Princ 2019'!A:B,2,FALSE)*100 -> 2.59 | D13: 3001.0324 | E13: 0 | F13: =+(F12*(1+AC12/100))+E13 -> 0 | G13: =+D13+E13 -> 3001.0324 | H13: =+(G13/D12-1)*100 -> 0.030023783 | I13: =+(1+H13/100)*I12 -> 0.99591861 | J13: =+(I13-1)*100 -> -0.40813917 | K13: =+D13+F13 -> 3001.0324 | L13: =+(K13/K12-1)*100 -> 0.030023783 | M13: =+(1+L13/100)*M12 -> 0.99591861 | N13: =+(M13-1)*100 -> -0.40813917 | O13: 1.96 | P13: 3018.8373 | Q13: 0 | R13: =+(R12*(1+AQ12/100))+Q13 -> 0 | S13: =+P13+Q13 -> 3018.8373 | T13: =+(S13/P12-1)*100 -> 0.018187494 | U13: =+(1+T13/100)*U12 -> 1.0018273 | V13: =+(U13-1)*100 -> 0.18273084 | W13: =+P13+R13 -> 3018.8373 | X13: =+(W13/W12-1)*100 -> 0.018187494 | Y13: =+(1+X13/100)*Y12 -> 1.0018273 | Z13: =+(Y13-1)*100 -> 0.18273084 | AA13: 6.39 | AB13: =+((AA12/100+1)^(1/252))*AB12 -> 1.002461 | AC13: =+(AB13/AB12-1)*100 -> 0.024582942 | AD13: =+(1+AC13/100)*AD12 -> 1.002461 | AE13: =+(AD13-1)*100 -> 0.24610155 | AF13: 3075.6381 | AG13: 0.23 | AH13: =+((1+AG13/100)^(252/21)-1)*100 -> 2.7951831 | AI13: =+(AF13/AF12-1)*100 -> 0.010443086 | AJ13: =+(1+AI13/100)*AJ12 -> 1.0010557 | AK13: =+(AJ13-1)*100 -> 0.10556765 | AN13: Maior Ret. Acum | AO13: =MAX(J3:J255) -> 7.0209361 | AP13: =MAX(N3:N255) -> 7.0209361
A14: =+A13+1 -> 12 | B14: 43248 | C14: =VLOOKUP(B14,'Base NTN-B Princ 2019'!A:B,2,FALSE)*100 -> 2.56 | D14: 3002.4901 | E14: 0 | F14: =+(F13*(1+AC13/100))+E14 -> 0 | G14: =+D14+E14 -> 3002.4901 | H14: =+(G14/D13-1)*100 -> 0.048571852 | I14: =+(1+H14/100)*I13 -> 0.99640234 | J14: =+(I14-1)*100 -> -0.35976556 | K14: =+D14+F14 -> 3002.4901 | L14: =+(K14/K13-1)*100 -> 0.048571852 | M14: =+(1+L14/100)*M13 -> 0.99640234 | N14: =+(M14-1)*100 -> -0.35976556 | O14: 1.96 | P14: 3019.3863 | Q14: 0 | R14: =+(R13*(1+AQ13/100))+Q14 -> 0 | S14: =+P14+Q14 -> 3019.3863 | T14: =+(S14/P13-1)*100 -> 0.01818687 | U14: =+(1+T14/100)*U13 -> 1.0020095 | V14: =+(U14-1)*100 -> 0.20095094 | W14: =+P14+R14 -> 3019.3863 | X14: =+(W14/W13-1)*100 -> 0.01818687 | Y14: =+(1+X14/100)*Y13 -> 1.0020095 | Z14: =+(Y14-1)*100 -> 0.20095094 | AA14: 6.39 | AB14: =+((AA13/100+1)^(1/252))*AB13 -> 1.0027074 | AC14: =+(AB14/AB13-1)*100 -> 0.024582942 | AD14: =+(1+AC14/100)*AD13 -> 1.0027074 | AE14: =+(AD14-1)*100 -> 0.27074499 | AF14: 3075.9593 | AG14: 0.23 | AH14: =+((1+AG14/100)^(252/21)-1)*100 -> 2.7951831 | AI14: =+(AF14/AF13-1)*100 -> 0.010443069 | AJ14: =+(1+AI14/100)*AJ13 -> 1.0011602 | AK14: =+(AJ14-1)*100 -> 0.11602175 | AN14: Data | AO14: =INDEX($B$2:$AE$255,MATCH(AO13,J2:J255,0),MATCH("Data",$B$2:$AE$2,0)) -> 43600 | AP14: =INDEX($B$2:$AE$255,MATCH(AP13,N2:N255,0),MATCH("Data",$B$2:$AE$2,0)) -> 43600
A15: =+A14+1 -> 13 | B15: 43249 | C15: =VLOOKUP(B15,'Base NTN-B Princ 2019'!A:B,2,FALSE)*100 -> 2.47 | D15: 3005.6153 | E15: 0 | F15: =+(F14*(1+AC14/100))+E15 -> 0 | G15: =+D15+E15 -> 3005.6153 | H15: =+(G15/D14-1)*100 -> 0.10408937 | I15: =+(1+H15/100)*I14 -> 0.99743949 | J15: =+(I15-1)*100 -> -0.25605066 | K15: =+D15+F15 -> 3005.6153 | L15: =+(K15/K14-1)*100 -> 0.10408937 | M15: =+(1+L15/100)*M14 -> 0.99743949 | N15: =+(M15-1)*100 -> -0.25605066 | O15: 1.96 | P15: 3019.9323 | Q15: 0 | R15: =+(R14*(1+AQ14/100))+Q15 -> 0 | S15: =+P15+Q15 -> 3019.9323 | T15: =+(S15/P14-1)*100 -> 0.018084403 | U15: =+(1+T15/100)*U14 -> 1.0021907 | V15: =+(U15-1)*100 -> 0.21907169 | W15: =+P15+R15 -> 3019.9323 | X15: =+(W15/W14-1)*100 -> 0.018084403 | Y15: =+(1+X15/100)*Y14 -> 1.0021907 | Z15: =+(Y15-1)*100 -> 0.21907169 | AA15: 6.39 | AB15: =+((AA14/100+1)^(1/252))*AB14 -> 1.0029539 | AC15: =+(AB15/AB14-1)*100 -> 0.024582942 | AD15: =+(1+AC15/100)*AD14 -> 1.0029539 | AE15: =+(AD15-1)*100 -> 0.29539449 | AF15: 3076.2806 | AG15: 0.23 | AH15: =+((1+AG15/100)^(252/21)-1)*100 -> 2.7951831 | AI15: =+(AF15/AF14-1)*100 -> 0.010443083 | AJ15: =+(1+AI15/100)*AJ14 -> 1.0012648 | AK15: =+(AJ15-1)*100 -> 0.12647695 | AN15: Menor Ret. Acum | AO15: =MIN(J3:J255) -> -0.43803144 | AP15: =MIN(N3:N255) -> -0.43803144
A16: =+A15+1 -> 14 | B16: 43250 | C16: =VLOOKUP(B16,'Base NTN-B Princ 2019'!A:B,2,FALSE)*100 -> 2.4 | D16: 3008.172 | E16: 0 | F16: =+(F15*(1+AC15/100))+E16 -> 0 | G16: =+D16+E16 -> 3008.172 | H16: =+(G16/D15-1)*100 -> 0.085064844 | I16: =+(1+H16/100)*I15 -> 0.99828796 | J16: =+(I16-1)*100 -> -0.17120363 | K16: =+D16+F16 -> 3008.172 | L16: =+(K16/K15-1)*100 -> 0.085064844 | M16: =+(1+L16/100)*M15 -> 0.99828796 | N16: =+(M16-1)*100 -> -0.17120363 | O16: 1.96 | P16: 3020.4815 | Q16: 0 | R16: =+(R15*(1+AQ15/100))+Q16 -> 0 | S16: =+P16+Q16 -> 3020.4815 | T16: =+(S16/P15-1)*100 -> 0.018185739 | U16: =+(1+T16/100)*U15 -> 1.002373 | V16: =+(U16-1)*100 -> 0.23729727 | W16: =+P16+R16 -> 3020.4815 | X16: =+(W16/W15-1)*100 -> 0.018185739 | Y16: =+(1+X16/100)*Y15 -> 1.002373 | Z16: =+(Y16-1)*100 -> 0.23729727 | AA16: 6.39 | AB16: =+((AA15/100+1)^(1/252))*AB15 -> 1.0032005 | AC16: =+(AB16/AB15-1)*100 -> 0.024582942 | AD16: =+(1+AC16/100)*AD15 -> 1.0032005 | AE16: =+(AD16-1)*100 -> 0.32005005 | AF16: 3076.6018 | AG16: 0.23 | AH16: =+((1+AG16/100)^(252/21)-1)*100 -> 2.7951831 | AI16: =+(AF16/AF15-1)*100 -> 0.010443098 | AJ16: =+(1+AI16/100)*AJ15 -> 1.0013693 | AK16: =+(AJ16-1)*100 -> 0.13693325 | AN16: Data | AO16: =INDEX($B$2:$AE$255,MATCH(AO15,J2:J255,0),MATCH("Data",$B$2:$AE$2,0)) -> 43244 | AP16: =INDEX($B$2:$AE$255,MATCH(AP15,N2:N255,0),MATCH("Data",$B$2:$AE$2,0)) -> 43244
A17: =+A16+1 -> 15 | B17: 43252 | C17: =VLOOKUP(B17,'Base NTN-B Princ 2019'!A:B,2,FALSE)*100 -> 2.37 | D17: 3009.6 | E17: 0 | F17: =+(F16*(1+AC16/100))+E17 -> 0 | G17: =+D17+E17 -> 3009.6 | H17: =+(G17/D16-1)*100 -> 0.047470423 | I17: =+(1+H17/100)*I16 -> 0.99876186 | J17: =+(I17-1)*100 -> -0.12381448 | K17: =+D17+F17 -> 3009.6 | L17: =+(K17/K16-1)*100 -> 0.047470423 | M17: =+(1+L17/100)*M16 -> 0.99876186 | N17: =+(M17-1)*100 -> -0.12381448 | O17: 1.96 | P17: 3021.0277 | Q17: 0 | R17: =+(R16*(1+AQ16/100))+Q17 -> 0 | S17: =+P17+Q17 -> 3021.0277 | T17: =+(S17/P16-1)*100 -> 0.018083209 | U17: =+(1+T17/100)*U16 -> 1.0025542 | V17: =+(U17-1)*100 -> 0.25542339 | W17: =+P17+R17 -> 3021.0277 | X17: =+(W17/W16-1)*100 -> 0.018083209 | Y17: =+(1+X17/100)*Y16 -> 1.0025542 | Z17: =+(Y17-1)*100 -> 0.25542339 | AA17: 6.39 | AB17: =+((AA16/100+1)^(1/252))*AB16 -> 1.0034471 | AC17: =+(AB17/AB16-1)*100 -> 0.024582942 | AD17: =+(1+AC17/100)*AD16 -> 1.0034471 | AE17: =+(AD17-1)*100 -> 0.34471167 | AF17: 3076.9231 | AG17: 0.23 | AH17: =+((1+AG17/100)^(252/21)-1)*100 -> 2.7951831 | AI17: =+(AF17/AF16-1)*100 -> 0.01044308 | AJ17: =+(1+AI17/100)*AJ16 -> 1.0014739 | AK17: =+(AJ17-1)*100 -> 0.14739063 | AN17: Vol. Per. Anualizada | AO17: =_xlfn.STDEV.S(H4:H255)*SQRT(252) -> 0.82273997 | AP17: =_xlfn.STDEV.S(L4:L255)*SQRT(252) -> 0.82273997
A18: =+A17+1 -> 16 | B18: 43255 | C18: =VLOOKUP(B18,'Base NTN-B Princ 2019'!A:B,2,FALSE)*100 -> 2.28 | D18: 3012.6869 | E18: 0 | F18: =+(F17*(1+AC17/100))+E18 -> 0 | G18: =+D18+E18 -> 3012.6869 | H18: =+(G18/D17-1)*100 -> 0.10256818 | I18: =+(1+H18/100)*I17 -> 0.99978627 | J18: =+(I18-1)*100 -> -0.021373291 | K18: =+D18+F18 -> 3012.6869 | L18: =+(K18/K17-1)*100 -> 0.10256818 | M18: =+(1+L18/100)*M17 -> 0.99978627 | N18: =+(M18-1)*100 -> -0.021373291 | O18: 1.96 | P18: 3021.5771 | Q18: 0 | R18: =+(R17*(1+AQ17/100))+Q18 -> 0 | S18: =+P18+Q18 -> 3021.5771 | T18: =+(S18/P17-1)*100 -> 0.01818454 | U18: =+(1+T18/100)*U17 -> 1.0027365 | V18: =+(U18-1)*100 -> 0.27365437 | W18: =+P18+R18 -> 3021.5771 | X18: =+(W18/W17-1)*100 -> 0.01818454 | Y18: =+(1+X18/100)*Y17 -> 1.0027365 | Z18: =+(Y18-1)*100 -> 0.27365437 | AA18: 6.39 | AB18: =+((AA17/100+1)^(1/252))*AB17 -> 1.0036938 | AC18: =+(AB18/AB17-1)*100 -> 0.024582942 | AD18: =+(1+AC18/100)*AD17 -> 1.0036938 | AE18: =+(AD18-1)*100 -> 0.36937935 | AF18: 3077.2444 | AG18: 0.23 | AH18: =+((1+AG18/100)^(252/21)-1)*100 -> 2.7951831 | AI18: =+(AF18/AF17-1)*100 -> 0.010443095 | AJ18: =+(1+AI18/100)*AJ17 -> 1.0015785 | AK18: =+(AJ18-1)*100 -> 0.15784912 | AR18: IPCA + 1,96% a.a.
A19: =+A18+1 -> 17 | B19: 43256 | C19: =VLOOKUP(B19,'Base NTN-B Princ 2019'!A:B,2,FALSE)*100 -> 2.32 | D19: 3012.1675 | E19: 0 | F19: =+(F18*(1+AC18/100))+E19 -> 0 | G19: =+D19+E19 -> 3012.1675 | H19: =+(G19/D18-1)*100 -> -0.017240524 | I19: =+(1+H19/100)*I18 -> 0.9996139 | J19: =+(I19-1)*100 -> -0.03861013 | K19: =+D19+F19 -> 3012.1675 | L19: =+(K19/K18-1)*100 -> -0.017240524 | M19: =+(1+L19/100)*M18 -> 0.9996139 | N19: =+(M19-1)*100 -> -0.03861013 | O19: 1.96 | P19: 3022.1265 | Q19: 0 | R19: =+(R18*(1+AQ18/100))+Q19 -> 0 | S19: =+P19+Q19 -> 3022.1265 | T19: =+(S19/P18-1)*100 -> 0.018183882 | U19: =+(1+T19/100)*U18 -> 1.0029189 | V19: =+(U19-1)*100 -> 0.29188802 | W19: =+P19+R19 -> 3022.1265 | X19: =+(W19/W18-1)*100 -> 0.018183882 | Y19: =+(1+X19/100)*Y18 -> 1.0029189 | Z19: =+(Y19-1)*100 -> 0.29188802 | AA19: 6.39 | AB19: =+((AA18/100+1)^(1/252))*AB18 -> 1.0039405 | AC19: =+(AB19/AB18-1)*100 -> 0.024582942 | AD19: =+(1+AC19/100)*AD18 -> 1.0039405 | AE19: =+(AD19-1)*100 -> 0.3940531 | AF19: 3077.5658 | AG19: 0.23 | AH19: =+((1+AG19/100)^(252/21)-1)*100 -> 2.7951831 | AI19: =+(AF19/AF18-1)*100 -> 0.010443077 | AJ19: =+(1+AI19/100)*AJ18 -> 1.0016831 | AK19: =+(AJ19-1)*100 -> 0.16830868 | AN19: Taxa Entrada | AO19: =+VLOOKUP(AO4,B2:AE255,2,FALSE) -> 1.96 | AR19: =+(((1+AO19/100)*(1+AO8/100))-1)*100 -> 7.0208515
A20: =+A19+1 -> 18 | B20: 43257 | C20: =VLOOKUP(B20,'Base NTN-B Princ 2019'!A:B,2,FALSE)*100 -> 2.5 | D20: 3007.8222 | E20: 0 | F20: =+(F19*(1+AC19/100))+E20 -> 0 | G20: =+D20+E20 -> 3007.8222 | H20: =+(G20/D19-1)*100 -> -0.14426017 | I20: =+(1+H20/100)*I19 -> 0.99817185 | J20: =+(I20-1)*100 -> -0.1828146 | K20: =+D20+F20 -> 3007.8222 | L20: =+(K20/K19-1)*100 -> -0.14426017 | M20: =+(1+L20/100)*M19 -> 0.99817185 | N20: =+(M20-1)*100 -> -0.1828146 | O20: 1.96 | P20: 3022.673 | Q20: 0 | R20: =+(R19*(1+AQ19/100))+Q20 -> 0 | S20: =+P20+Q20 -> 3022.673 | T20: =+(S20/P19-1)*100 -> 0.018081473 | U20: =+(1+T20/100)*U19 -> 1.0031002 | V20: =+(U20-1)*100 -> 0.31002227 | W20: =+P20+R20 -> 3022.673 | X20: =+(W20/W19-1)*100 -> 0.018081473 | Y20: =+(1+X20/100)*Y19 -> 1.0031002 | Z20: =+(Y20-1)*100 -> 0.31002227 | AA20: 6.39 | AB20: =+((AA19/100+1)^(1/252))*AB19 -> 1.0041873 | AC20: =+(AB20/AB19-1)*100 -> 0.024582942 | AD20: =+(1+AC20/100)*AD19 -> 1.0041873 | AE20: =+(AD20-1)*100 -> 0.41873291 | AF20: 3077.8872 | AG20: 0.23 | AH20: =+((1+AG20/100)^(252/21)-1)*100 -> 2.7951831 | AI20: =+(AF20/AF19-1)*100 -> 0.010443091 | AJ20: =+(1+AI20/100)*AJ19 -> 1.0017877 | AK20: =+(AJ20-1)*100 -> 0.17876935 | AN20: Taxa de Saída | AO20: =+VLOOKUP(AO5,B2:AE255,2,FALSE) -> -0.94
A21: =+A20+1 -> 19 | B21: 43258 | C21: =VLOOKUP(B21,'Base NTN-B Princ 2019'!A:B,2,FALSE)*100 -> 2.67 | D21: 3003.8052 | E21: 0 | F21: =+(F20*(1+AC20/100))+E21 -> 0 | G21: =+D21+E21 -> 3003.8052 | H21: =+(G21/D20-1)*100 -> -0.13354942 | I21: =+(1+H21/100)*I20 -> 0.9968388 | J21: =+(I21-1)*100 -> -0.31611987 | K21: =+D21+F21 -> 3003.8052 | L21: =+(K21/K20-1)*100 -> -0.13354942 | M21: =+(1+L21/100)*M20 -> 0.9968388 | N21: =+(M21-1)*100 -> -0.31611987 | O21: 1.96 | P21: 3023.2226 | Q21: 0 | R21: =+(R20*(1+AQ20/100))+Q21 -> 0 | S21: =+P21+Q21 -> 3023.2226 | T21: =+(S21/P20-1)*100 -> 0.018182748 | U21: =+(1+T21/100)*U20 -> 1.0032826 | V21: =+(U21-1)*100 -> 0.32826138 | W21: =+P21+R21 -> 3023.2226 | X21: =+(W21/W20-1)*100 -> 0.018182748 | Y21: =+(1+X21/100)*Y20 -> 1.0032826 | Z21: =+(Y21-1)*100 -> 0.32826138 | AA21: 6.39 | AB21: =+((AA20/100+1)^(1/252))*AB20 -> 1.0044342 | AC21: =+(AB21/AB20-1)*100 -> 0.024582942 | AD21: =+(1+AC21/100)*AD20 -> 1.0044342 | AE21: =+(AD21-1)*100 -> 0.44341879 | AF21: 3078.2086 | AG21: 0.23 | AH21: =+((1+AG21/100)^(252/21)-1)*100 -> 2.7951831 | AI21: =+(AF21/AF20-1)*100 -> 0.010443105 | AJ21: =+(1+AI21/100)*AJ20 -> 1.0018923 | AK21: =+(AJ21-1)*100 -> 0.18923112 | AN21: Diferença | AO21: =+AO20-AO19 -> -2.9
A22: =+A21+1 -> 20 | B22: 43259 | C22: =VLOOKUP(B22,'Base NTN-B Princ 2019'!A:B,2,FALSE)*100 -> 2.8 | D22: 3004.8539 | E22: 0 | F22: =+(F21*(1+AC21/100))+E22 -> 0 | G22: =+D22+E22 -> 3004.8539 | H22: =+(G22/D21-1)*100 -> 0.034910452 | I22: =+(1+H22/100)*I21 -> 0.9971868 | J22: =+(I22-1)*100 -> -0.28131978 | K22: =+D22+F22 -> 3004.8539 | L22: =+(K22/K21-1)*100 -> 0.034910452 | M22: =+(1+L22/100)*M21 -> 0.9971868 | N22: =+(M22-1)*100 -> -0.28131978 | O22: 1.96 | P22: 3027.7358 | Q22: 0 | R22: =+(R21*(1+AQ21/100))+Q22 -> 0 | S22: =+P22+Q22 -> 3027.7358 | T22: =+(S22/P21-1)*100 -> 0.14928391 | U22: =+(1+T22/100)*U21 -> 1.0047804 | V22: =+(U22-1)*100 -> 0.47803534 | W22: =+P22+R22 -> 3027.7358 | X22: =+(W22/W21-1)*100 -> 0.14928391 | Y22: =+(1+X22/100)*Y21 -> 1.0047804 | Z22: =+(Y22-1)*100 -> 0.47803534 | AA22: 6.39 | AB22: =+((AA21/100+1)^(1/252))*AB21 -> 1.0046811 | AC22: =+(AB22/AB21-1)*100 -> 0.024582942 | AD22: =+(1+AC22/100)*AD21 -> 1.0046811 | AE22: =+(AD22-1)*100 -> 0.46811073 | AF22: 3082.5654 | AG22: 0.4 | AH22: =+((1+AG22/100)^(252/21)-1)*100 -> 4.9070208 | AI22: =+(AF22/AF21-1)*100 -> 0.14153472 | AJ22: =+(1+AI22/100)*AJ21 -> 1.0033103 | AK22: =+(AJ22-1)*100 -> 0.33103367 | AN22: Máxima | AO22: =MAX(C3:C255) -> 3.61
A23: =+A22+1 -> 21 | B23: 43262 | C23: =VLOOKUP(B23,'Base NTN-B Princ 2019'!A:B,2,FALSE)*100 -> 2.82 | D23: 3005.1896 | E23: 0 | F23: =+(F22*(1+AC22/100))+E23 -> 0 | G23: =+D23+E23 -> 3005.1896 | H23: =+(G23/D22-1)*100 -> 0.011172457 | I23: =+(1+H23/100)*I22 -> 0.99729821 | J23: =+(I23-1)*100 -> -0.27017875 | K23: =+D23+F23 -> 3005.1896 | L23: =+(K23/K22-1)*100 -> 0.011172457 | M23: =+(1+L23/100)*M22 -> 0.99729821 | N23: =+(M23-1)*100 -> -0.27017875 | O23: 1.96 | P23: 3028.5165 | Q23: 0 | R23: =+(R22*(1+AQ22/100))+Q23 -> 0 | S23: =+P23+Q23 -> 3028.5165 | T23: =+(S23/P22-1)*100 -> 0.025786795 | U23: =+(1+T23/100)*U22 -> 1.0050395 | V23: =+(U23-1)*100 -> 0.5039454 | W23: =+P23+R23 -> 3028.5165 | X23: =+(W23/W22-1)*100 -> 0.025786795 | Y23: =+(1+X23/100)*Y22 -> 1.0050395 | Z23: =+(Y23-1)*100 -> 0.5039454 | AA23: 6.39 | AB23: =+((AA22/100+1)^(1/252))*AB22 -> 1.0049281 | AC23: =+(AB23/AB22-1)*100 -> 0.024582942 | AD23: =+(1+AC23/100)*AD22 -> 1.0049281 | AE23: =+(AD23-1)*100 -> 0.49280875 | AF23: 3083.1248 | AG23: 0.4 | AH23: =+((1+AG23/100)^(252/21)-1)*100 -> 4.9070208 | AI23: =+(AF23/AF22-1)*100 -> 0.018149591 | AJ23: =+(1+AI23/100)*AJ22 -> 1.0034924 | AK23: =+(AJ23-1)*100 -> 0.34924334 | AN23: Data | AO23: =INDEX($B$2:$AE$255,MATCH(AO22,C2:C255,0),MATCH("Data",$B$2:$AE$2,0)) -> 43433
A24: =+A23+1 -> 22 | B24: 43263 | C24: =VLOOKUP(B24,'Base NTN-B Princ 2019'!A:B,2,FALSE)*100 -> 2.84 | D24: 3005.5315 | E24: 0 | F24: =+(F23*(1+AC23/100))+E24 -> 0 | G24: =+D24+E24 -> 3005.5315 | H24: =+(G24/D23-1)*100 -> 0.011377219 | I24: =+(1+H24/100)*I23 -> 0.99741168 | J24: =+(I24-1)*100 -> -0.25883227 | K24: =+D24+F24 -> 3005.5315 | L24: =+(K24/K23-1)*100 -> 0.011377219 | M24: =+(1+L24/100)*M23 -> 0.99741168 | N24: =+(M24-1)*100 -> -0.25883227 | O24: 1.96 | P24: 3029.3005 | Q24: 0 | R24: =+(R23*(1+AQ23/100))+Q24 -> 0 | S24: =+P24+Q24 -> 3029.3005 | T24: =+(S24/P23-1)*100 -> 0.025888021 | U24: =+(1+T24/100)*U23 -> 1.0052996 | V24: =+(U24-1)*100 -> 0.52996389 | W24: =+P24+R24 -> 3029.3005 | X24: =+(W24/W23-1)*100 -> 0.025888021 | Y24: =+(1+X24/100)*Y23 -> 1.0052996 | Z24: =+(Y24-1)*100 -> 0.52996389 | AA24: 6.39 | AB24: =+((AA23/100+1)^(1/252))*AB23 -> 1.0051751 | AC24: =+(AB24/AB23-1)*100 -> 0.024582942 | AD24: =+(1+AC24/100)*AD23 -> 1.0051751 | AE24: =+(AD24-1)*100 -> 0.51751284 | AF24: 3083.6844 | AG24: 0.4 | AH24: =+((1+AG24/100)^(252/21)-1)*100 -> 4.9070208 | AI24: =+(AF24/AF23-1)*100 -> 0.018149606 | AJ24: =+(1+AI24/100)*AJ23 -> 1.0036746 | AK24: =+(AJ24-1)*100 -> 0.36745634 | AN24: Mínima | AO24: =MIN(C3:C255) -> -1.58
A25: =+A24+1 -> 23 | B25: 43264 | C25: =VLOOKUP(B25,'Base NTN-B Princ 2019'!A:B,2,FALSE)*100 -> 2.75 | D25: 3008.8127 | E25: 0 | F25: =+(F24*(1+AC24/100))+E25 -> 0 | G25: =+D25+E25 -> 3008.8127 | H25: =+(G25/D24-1)*100 -> 0.1091726 | I25: =+(1+H25/100)*I24 -> 0.99850058 | J25: =+(I25-1)*100 -> -0.14994224 | K25: =+D25+F25 -> 3008.8127 | L25: =+(K25/K24-1)*100 -> 0.1091726 | M25: =+(1+L25/100)*M24 -> 0.99850058 | N25: =+(M25-1)*100 -> -0.14994224 | O25: 1.96 | P25: 3030.0848 | Q25: 0 | R25: =+(R24*(1+AQ24/100))+Q25 -> 0 | S25: =+P25+Q25 -> 3030.0848 | T25: =+(S25/P24-1)*100 -> 0.025887461 | U25: =+(1+T25/100)*U24 -> 1.0055599 | V25: =+(U25-1)*100 -> 0.55598854 | W25: =+P25+R25 -> 3030.0848 | X25: =+(W25/W24-1)*100 -> 0.025887461 | Y25: =+(1+X25/100)*Y24 -> 1.0055599 | Z25: =+(Y25-1)*100 -> 0.55598854 | AA25: 6.39 | AB25: =+((AA24/100+1)^(1/252))*AB24 -> 1.0054222 | AC25: =+(AB25/AB24-1)*100 -> 0.024582942 | AD25: =+(1+AC25/100)*AD24 -> 1.0054222 | AE25: =+(AD25-1)*100 -> 0.542223 | AF25: 3084.2441 | AG25: 0.4 | AH25: =+((1+AG25/100)^(252/21)-1)*100 -> 4.9070208 | AI25: =+(AF25/AF24-1)*100 -> 0.01814962 | AJ25: =+(1+AI25/100)*AJ24 -> 1.0038567 | AK25: =+(AJ25-1)*100 -> 0.38567265 | AN25: Data | AO25: =INDEX(B2:AE255,MATCH(AO24,C2:C255,0),MATCH("Data",B2:AE2,0)) -> 43595
A26: =+A25+1 -> 24 | B26: 43265 | C26: =VLOOKUP(B26,'Base NTN-B Princ 2019'!A:B,2,FALSE)*100 -> 2.74 | D26: 3009.9511 | E26: 0 | F26: =+(F25*(1+AC25/100))+E26 -> 0 | G26: =+D26+E26 -> 3009.9511 | H26: =+(G26/D25-1)*100 -> 0.037834525 | I26: =+(1+H26/100)*I25 -> 0.99887836 | J26: =+(I26-1)*100 -> -0.11216445 | K26: =+D26+F26 -> 3009.9511 | L26: =+(K26/K25-1)*100 -> 0.037834525 | M26: =+(1+L26/100)*M25 -> 0.99887836 | N26: =+(M26-1)*100 -> -0.11216445 | O26: 1.96 | P26: 3030.8661 | Q26: 0 | R26: =+(R25*(1+AQ25/100))+Q26 -> 0 | S26: =+P26+Q26 -> 3030.8661 | T26: =+(S26/P25-1)*100 -> 0.025785054 | U26: =+(1+T26/100)*U25 -> 1.0058192 | V26: =+(U26-1)*100 -> 0.58191696 | W26: =+P26+R26 -> 3030.8661 | X26: =+(W26/W25-1)*100 -> 0.025785054 | Y26: =+(1+X26/100)*Y25 -> 1.0058192 | Z26: =+(Y26-1)*100 -> 0.58191696 | AA26: 6.39 | AB26: =+((AA25/100+1)^(1/252))*AB25 -> 1.0056694 | AC26: =+(AB26/AB25-1)*100 -> 0.024582942 | AD26: =+(1+AC26/100)*AD25 -> 1.0056694 | AE26: =+(AD26-1)*100 -> 0.56693924 | AF26: 3084.8039 | AG26: 0.4 | AH26: =+((1+AG26/100)^(252/21)-1)*100 -> 4.9070208 | AI26: =+(AF26/AF25-1)*100 -> 0.018149601 | AJ26: =+(1+AI26/100)*AJ25 -> 1.0040389 | AK26: =+(AJ26-1)*100 -> 0.40389225 | AN26: Ampliude | AO26: =+AO22-AO24 -> 5.19
A27: =+A26+1 -> 25 | B27: 43266 | C27: =VLOOKUP(B27,'Base NTN-B Princ 2019'!A:B,2,FALSE)*100 -> 3.03 | D27: 3003.1511 | E27: 0 | F27: =+(F26*(1+AC26/100))+E27 -> 0 | G27: =+D27+E27 -> 3003.1511 | H27: =+(G27/D26-1)*100 -> -0.22591586 | I27: =+(1+H27/100)*I26 -> 0.99662173 | J27: =+(I27-1)*100 -> -0.33782691 | K27: =+D27+F27 -> 3003.1511 | L27: =+(K27/K26-1)*100 -> -0.22591586 | M27: =+(1+L27/100)*M26 -> 0.99662173 | N27: =+(M27-1)*100 -> -0.33782691 | O27: 1.96 | P27: 3031.6506 | Q27: 0 | R27: =+(R26*(1+AQ26/100))+Q27 -> 0 | S27: =+P27+Q27 -> 3031.6506 | T27: =+(S27/P26-1)*100 -> 0.025886264 | U27: =+(1+T27/100)*U26 -> 1.0060795 | V27: =+(U27-1)*100 -> 0.60795386 | W27: =+P27+R27 -> 3031.6506 | X27: =+(W27/W26-1)*100 -> 0.025886264 | Y27: =+(1+X27/100)*Y26 -> 1.0060795 | Z27: =+(Y27-1)*100 -> 0.60795386 | AA27: 6.39 | AB27: =+((AA26/100+1)^(1/252))*AB26 -> 1.0059166 | AC27: =+(AB27/AB26-1)*100 -> 0.024582942 | AD27: =+(1+AC27/100)*AD26 -> 1.0059166 | AE27: =+(AD27-1)*100 -> 0.59166155 | AF27: 3085.3637 | AG27: 0.4 | AH27: =+((1+AG27/100)^(252/21)-1)*100 -> 4.9070208 | AI27: =+(AF27/AF26-1)*100 -> 0.018149614 | AJ27: =+(1+AI27/100)*AJ26 -> 1.0042212 | AK27: =+(AJ27-1)*100 -> 0.42211517 | AN27: Média | AO27: =AVERAGE(C3:C255) -> 2.1022925
A28: =+A27+1 -> 26 | B28: 43269 | C28: =VLOOKUP(B28,'Base NTN-B Princ 2019'!A:B,2,FALSE)*100 -> 2.82 | D28: 3010.2875 | E28: 0 | F28: =+(F27*(1+AC27/100))+E28 -> 0 | G28: =+D28+E28 -> 3010.2875 | H28: =+(G28/D27-1)*100 -> 0.23762963 | I28: =+(1+H28/100)*I27 -> 0.99899 | J28: =+(I28-1)*100 -> -0.10100006 | K28: =+D28+F28 -> 3010.2875 | L28: =+(K28/K27-1)*100 -> 0.23762963 | M28: =+(1+L28/100)*M27 -> 0.99899 | N28: =+(M28-1)*100 -> -0.10100006 | O28: 1.96 | P28: 3033.1503 | Q28: 0 | R28: =+(R27*(1+AQ27/100))+Q28 -> 0 | S28: =+P28+Q28 -> 3033.1503 | T28: =+(S28/P27-1)*100 -> 0.049468035 | U28: =+(1+T28/100)*U27 -> 1.0065772 | V28: =+(U28-1)*100 -> 0.65772264 | W28: =+P28+R28 -> 3033.1503 | X28: =+(W28/W27-1)*100 -> 0.049468035 | Y28: =+(1+X28/100)*Y27 -> 1.0065772 | Z28: =+(Y28-1)*100 -> 0.65772264 | AA28: 6.39 | AB28: =+((AA27/100+1)^(1/252))*AB27 -> 1.0061639 | AC28: =+(AB28/AB27-1)*100 -> 0.024582942 | AD28: =+(1+AC28/100)*AD27 -> 1.0061639 | AE28: =+(AD28-1)*100 -> 0.61638994 | AF28: 3086.6513 | AG28: 0.88 | AH28: =+((1+AG28/100)^(252/21)-1)*100 -> 11.086397 | AI28: =+(AF28/AF27-1)*100 -> 0.041730153 | AJ28: =+(1+AI28/100)*AJ27 -> 1.0046402 | AK28: =+(AJ28-1)*100 -> 0.46402147
A29: =+A28+1 -> 27 | B29: 43270 | C29: =VLOOKUP(B29,'Base NTN-B Princ 2019'!A:B,2,FALSE)*100 -> 2.76 | D29: 3013.4521 | E29: 0 | F29: =+(F28*(1+AC28/100))+E29 -> 0 | G29: =+D29+E29 -> 3013.4521 | H29: =+(G29/D28-1)*100 -> 0.10512431 | I29: =+(1+H29/100)*I28 -> 1.0000402 | J29: =+(I29-1)*100 -> 0.0040180784 | K29: =+D29+F29 -> 3013.4521 | L29: =+(K29/K28-1)*100 -> 0.10512431 | M29: =+(1+L29/100)*M28 -> 1.0000402 | N29: =+(M29-1)*100 -> 0.0040180784 | O29: 1.96 | P29: 3034.6477 | Q29: 0 | R29: =+(R28*(1+AQ28/100))+Q29 -> 0 | S29: =+P29+Q29 -> 3034.6477 | T29: =+(S29/P28-1)*100 -> 0.049365637 | U29: =+(1+T29/100)*U28 -> 1.0070741 | V29: =+(U29-1)*100 -> 0.70741296 | W29: =+P29+R29 -> 3034.6477 | X29: =+(W29/W28-1)*100 -> 0.049365637 | Y29: =+(1+X29/100)*Y28 -> 1.0070741 | Z29: =+(Y29-1)*100 -> 0.70741296 | AA29: 6.39 | AB29: =+((AA28/100+1)^(1/252))*AB28 -> 1.0064112 | AC29: =+(AB29/AB28-1)*100 -> 0.024582942 | AD29: =+(1+AC29/100)*AD28 -> 1.0064112 | AE29: =+(AD29-1)*100 -> 0.64112441 | AF29: 3087.9393 | AG29: 0.88 | AH29: =+((1+AG29/100)^(252/21)-1)*100 -> 11.086397 | AI29: =+(AF29/AF28-1)*100 -> 0.041730143 | AJ29: =+(1+AI29/100)*AJ28 -> 1.0050595 | AK29: =+(AJ29-1)*100 -> 0.50594525
A30: =+A29+1 -> 28 | B30: 43271 | C30: =VLOOKUP(B30,'Base NTN-B Princ 2019'!A:B,2,FALSE)*100 -> 2.57 | D30: 3020.023 | E30: 0 | F30: =+(F29*(1+AC29/100))+E30 -> 0 | G30: =+D30+E30 -> 3020.023 | H30: =+(G30/D29-1)*100 -> 0.21805524 | I30: =+(1+H30/100)*I29 -> 1.0022208 | J30: =+(I30-1)*100 -> 0.22208208 | K30: =+D30+F30 -> 3020.023 | L30: =+(K30/K29-1)*100 -> 0.21805524 | M30: =+(1+L30/100)*M29 -> 1.0022208 | N30: =+(M30-1)*100 -> 0.22208208 | O30: 1.96 | P30: 3036.1488 | Q30: 0 | R30: =+(R29*(1+AQ29/100))+Q30 -> 0 | S30: =+P30+Q30 -> 3036.1488 | T30: =+(S30/P29-1)*100 -> 0.04946683 | U30: =+(1+T30/100)*U29 -> 1.0075723 | V30: =+(U30-1)*100 -> 0.75722973 | W30: =+P30+R30 -> 3036.1488 | X30: =+(W30/W29-1)*100 -> 0.04946683 | Y30: =+(1+X30/100)*Y29 -> 1.0075723 | Z30: =+(Y30-1)*100 -> 0.75722973 | AA30: 6.39 | AB30: =+((AA29/100+1)^(1/252))*AB29 -> 1.0066586 | AC30: =+(AB30/AB29-1)*100 -> 0.024582942 | AD30: =+(1+AC30/100)*AD29 -> 1.0066586 | AE30: =+(AD30-1)*100 -> 0.66586496 | AF30: 3089.2279 | AG30: 0.88 | AH30: =+((1+AG30/100)^(252/21)-1)*100 -> 11.086397 | AI30: =+(AF30/AF29-1)*100 -> 0.041730159 | AJ30: =+(1+AI30/100)*AJ29 -> 1.0054789 | AK30: =+(AJ30-1)*100 -> 0.54788654
A31: =+A30+1 -> 29 | B31: 43272 | C31: =VLOOKUP(B31,'Base NTN-B Princ 2019'!A:B,2,FALSE)*100 -> 2.61 | D31: 3020.5385 | E31: 0 | F31: =+(F30*(1+AC30/100))+E31 -> 0 | G31: =+D31+E31 -> 3020.5385 | H31: =+(G31/D30-1)*100 -> 0.017067618 | I31: =+(1+H31/100)*I30 -> 1.0023919 | J31: =+(I31-1)*100 -> 0.2391876 | K31: =+D31+F31 -> 3020.5385 | L31: =+(K31/K30-1)*100 -> 0.017067618 | M31: =+(1+L31/100)*M30 -> 1.0023919 | N31: =+(M31-1)*100 -> 0.2391876 | O31: 1.96 | P31: 3037.6507 | Q31: 0 | R31: =+(R30*(1+AQ30/100))+Q31 -> 0 | S31: =+P31+Q31 -> 3037.6507 | T31: =+(S31/P30-1)*100 -> 0.049466251 | U31: =+(1+T31/100)*U30 -> 1.0080707 | V31: =+(U31-1)*100 -> 0.80707055 | W31: =+P31+R31 -> 3037.6507 | X31: =+(W31/W30-1)*100 -> 0.049466251 | Y31: =+(1+X31/100)*Y30 -> 1.0080707 | Z31: =+(Y31-1)*100 -> 0.80707055 | AA31: 6.39 | AB31: =+((AA30/100+1)^(1/252))*AB30 -> 1.0069061 | AC31: =+(AB31/AB30-1)*100 -> 0.024582942 | AD31: =+(1+AC31/100)*AD30 -> 1.0069061 | AE31: =+(AD31-1)*100 -> 0.69061159 | AF31: 3090.5171 | AG31: 0.88 | AH31: =+((1+AG31/100)^(252/21)-1)*100 -> 11.086397 | AI31: =+(AF31/AF30-1)*100 -> 0.041730168 | AJ31: =+(1+AI31/100)*AJ30 -> 1.0058985 | AK31: =+(AJ31-1)*100 -> 0.58984534
A32: =+A31+1 -> 30 | B32: 43273 | C32: =VLOOKUP(B32,'Base NTN-B Princ 2019'!A:B,2,FALSE)*100 -> 2.53 | D32: 3026.7612 | E32: 0 | F32: =+(F31*(1+AC31/100))+E32 -> 0 | G32: =+D32+E32 -> 3026.7612 | H32: =+(G32/D31-1)*100 -> 0.20601277 | I32: =+(1+H32/100)*I31 -> 1.0044569 | J32: =+(I32-1)*100 -> 0.44569312 | K32: =+D32+F32 -> 3026.7612 | L32: =+(K32/K31-1)*100 -> 0.20601277 | M32: =+(1+L32/100)*M31 -> 1.0044569 | N32: =+(M32-1)*100 -> 0.44569312 | O32: 1.96 | P32: 3041.732 | Q32: 0 | R32: =+(R31*(1+AQ31/100))+Q32 -> 0 | S32: =+P32+Q32 -> 3041.732 | T32: =+(S32/P31-1)*100 -> 0.13435893 | U32: =+(1+T32/100)*U31 -> 1.0094251 | V32: =+(U32-1)*100 -> 0.94251386 | W32: =+P32+R32 -> 3041.732 | X32: =+(W32/W31-1)*100 -> 0.13435893 | Y32: =+(1+X32/100)*Y31 -> 1.0094251 | Z32: =+(Y32-1)*100 -> 0.94251386 | AA32: 6.39 | AB32: =+((AA31/100+1)^(1/252))*AB31 -> 1.0071536 | AC32: =+(AB32/AB31-1)*100 -> 0.024582942 | AD32: =+(1+AC32/100)*AD31 -> 1.0071536 | AE32: =+(AD32-1)*100 -> 0.71536431 | AF32: 3094.4302 | AG32: 1.24 | AH32: =+((1+AG32/100)^(252/21)-1)*100 -> 15.937956 | AI32: =+(AF32/AF31-1)*100 -> 0.12661687 | AJ32: =+(1+AI32/100)*AJ31 -> 1.0071721 | AK32: =+(AJ32-1)*100 -> 0.71720906
A33: =+A32+1 -> 31 | B33: 43276 | C33: =VLOOKUP(B33,'Base NTN-B Princ 2019'!A:B,2,FALSE)*100 -> 2.6 | D33: 3027.0177 | E33: 0 | F33: =+(F32*(1+AC32/100))+E33 -> 0 | G33: =+D33+E33 -> 3027.0177 | H33: =+(G33/D32-1)*100 -> 0.0084745701 | I33: =+(1+H33/100)*I32 -> 1.0045421 | J33: =+(I33-1)*100 -> 0.45420547 | K33: =+D33+F33 -> 3027.0177 | L33: =+(K33/K32-1)*100 -> 0.0084745701 | M33: =+(1+L33/100)*M32 -> 1.0045421 | N33: =+(M33-1)*100 -> 0.45420547 | O33: 1.96 | P33: 3043.7498 | Q33: 0 | R33: =+(R32*(1+AQ32/100))+Q33 -> 0 | S33: =+P33+Q33 -> 3043.7498 | T33: =+(S33/P32-1)*100 -> 0.066336185 | U33: =+(1+T33/100)*U32 -> 1.0100948 | V33: =+(U33-1)*100 -> 1.0094753 | W33: =+P33+R33 -> 3043.7498 | X33: =+(W33/W32-1)*100 -> 0.066336185 | Y33: =+(1+X33/100)*Y32 -> 1.0100948 | Z33: =+(Y33-1)*100 -> 1.0094753 | AA33: 6.39 | AB33: =+((AA32/100+1)^(1/252))*AB32 -> 1.0074012 | AC33: =+(AB33/AB32-1)*100 -> 0.024582942 | AD33: =+(1+AC33/100)*AD32 -> 1.0074012 | AE33: =+(AD33-1)*100 -> 0.74012311 | AF33: 3096.2467 | AG33: 1.24 | AH33: =+((1+AG33/100)^(252/21)-1)*100 -> 15.937956 | AI33: =+(AF33/AF32-1)*100 -> 0.058701761 | AJ33: =+(1+AI33/100)*AJ32 -> 1.0077633 | AK33: =+(AJ33-1)*100 -> 0.77633183
A34: =+A33+1 -> 32 | B34: 43277 | C34: =VLOOKUP(B34,'Base NTN-B Princ 2019'!A:B,2,FALSE)*100 -> 2.6 | D34: 3029.1044 | E34: 0 | F34: =+(F33*(1+AC33/100))+E34 -> 0 | G34: =+D34+E34 -> 3029.1044 | H34: =+(G34/D33-1)*100 -> 0.068936465 | I34: =+(1+H34/100)*I33 -> 1.0052346 | J34: =+(I34-1)*100 -> 0.52345504 | K34: =+D34+F34 -> 3029.1044 | L34: =+(K34/K33-1)*100 -> 0.068936465 | M34: =+(1+L34/100)*M33 -> 1.0052346 | N34: =+(M34-1)*100 -> 0.52345504 | O34: 1.96 | P34: 3045.772 | Q34: 0 | R34: =+(R33*(1+AQ33/100))+Q34 -> 0 | S34: =+P34+Q34 -> 3045.772 | T34: =+(S34/P33-1)*100 -> 0.066437359 | U34: =+(1+T34/100)*U33 -> 1.0107658 | V34: =+(U34-1)*100 -> 1.0765833 | W34: =+P34+R34 -> 3045.772 | X34: =+(W34/W33-1)*100 -> 0.066437359 | Y34: =+(1+X34/100)*Y33 -> 1.0107658 | Z34: =+(Y34-1)*100 -> 1.0765833 | AA34: 6.39 | AB34: =+((AA33/100+1)^(1/252))*AB33 -> 1.0076489 | AC34: =+(AB34/AB33-1)*100 -> 0.024582942 | AD34: =+(1+AC34/100)*AD33 -> 1.0076489 | AE34: =+(AD34-1)*100 -> 0.764888 | AF34: 3098.0642 | AG34: 1.24 | AH34: =+((1+AG34/100)^(252/21)-1)*100 -> 15.937956 | AI34: =+(AF34/AF33-1)*100 -> 0.058701751 | AJ34: =+(1+AI34/100)*AJ33 -> 1.0083549 | AK34: =+(AJ34-1)*100 -> 0.8354893
A35: =+A34+1 -> 33 | B35: 43278 | C35: =VLOOKUP(B35,'Base NTN-B Princ 2019'!A:B,2,FALSE)*100 -> 2.64 | D35: 3030.1603 | E35: 0 | F35: =+(F34*(1+AC34/100))+E35 -> 0 | G35: =+D35+E35 -> 3030.1603 | H35: =+(G35/D34-1)*100 -> 0.0348573 | I35: =+(1+H35/100)*I34 -> 1.0055849 | J35: =+(I35-1)*100 -> 0.55849481 | K35: =+D35+F35 -> 3030.1603 | L35: =+(K35/K34-1)*100 -> 0.0348573 | M35: =+(1+L35/100)*M34 -> 1.0055849 | N35: =+(M35-1)*100 -> 0.55849481 | O35: 1.96 | P35: 3047.7955 | Q35: 0 | R35: =+(R34*(1+AQ34/100))+Q35 -> 0 | S35: =+P35+Q35 -> 3047.7955 | T35: =+(S35/P34-1)*100 -> 0.066436752 | U35: =+(1+T35/100)*U34 -> 1.0114374 | V35: =+(U35-1)*100 -> 1.1437353 | W35: =+P35+R35 -> 3047.7955 | X35: =+(W35/W34-1)*100 -> 0.066436752 | Y35: =+(1+X35/100)*Y34 -> 1.0114374 | Z35: =+(Y35-1)*100 -> 1.1437353 | AA35: 6.39 | AB35: =+((AA34/100+1)^(1/252))*AB34 -> 1.0078966 | AC35: =+(AB35/AB34-1)*100 -> 0.024582942 | AD35: =+(1+AC35/100)*AD34 -> 1.0078966 | AE35: =+(AD35-1)*100 -> 0.78965897 | AF35: 3099.8828 | AG35: 1.24 | AH35: =+((1+AG35/100)^(252/21)-1)*100 -> 15.937956 | AI35: =+(AF35/AF34-1)*100 -> 0.05870172 | AJ35: =+(1+AI35/100)*AJ34 -> 1.0089468 | AK35: =+(AJ35-1)*100 -> 0.89468147
A36: =+A35+1 -> 34 | B36: 43279 | C36: =VLOOKUP(B36,'Base NTN-B Princ 2019'!A:B,2,FALSE)*100 -> 2.76 | D36: 3029.1754 | E36: 0 | F36: =+(F35*(1+AC35/100))+E36 -> 0 | G36: =+D36+E36 -> 3029.1754 | H36: =+(G36/D35-1)*100 -> -0.032501911 | I36: =+(1+H36/100)*I35 -> 1.0052581 | J36: =+(I36-1)*100 -> 0.52581137 | K36: =+D36+F36 -> 3029.1754 | L36: =+(K36/K35-1)*100 -> -0.032501911 | M36: =+(1+L36/100)*M35 -> 1.0052581 | N36: =+(M36-1)*100 -> 0.52581137 | O36: 1.96 | P36: 3049.8172 | Q36: 0 | R36: =+(R35*(1+AQ35/100))+Q36 -> 0 | S36: =+P36+Q36 -> 3049.8172 | T36: =+(S36/P35-1)*100 -> 0.066334437 | U36: =+(1+T36/100)*U35 -> 1.0121083 | V36: =+(U36-1)*100 -> 1.2108284 | W36: =+P36+R36 -> 3049.8172 | X36: =+(W36/W35-1)*100 -> 0.066334437 | Y36: =+(1+X36/100)*Y35 -> 1.0121083 | Z36: =+(Y36-1)*100 -> 1.2108284 | AA36: 6.39 | AB36: =+((AA35/100+1)^(1/252))*AB35 -> 1.0081444 | AC36: =+(AB36/AB35-1)*100 -> 0.024582942 | AD36: =+(1+AC36/100)*AD35 -> 1.0081444 | AE36: =+(AD36-1)*100 -> 0.81443603 | AF36: 3101.7025 | AG36: 1.24 | AH36: =+((1+AG36/100)^(252/21)-1)*100 -> 15.937956 | AI36: =+(AF36/AF35-1)*100 -> 0.058701767 | AJ36: =+(1+AI36/100)*AJ35 -> 1.0095391 | AK36: =+(AJ36-1)*100 -> 0.95390843
A37: =+A36+1 -> 35 | B37: 43280 | C37: =VLOOKUP(B37,'Base NTN-B Princ 2019'!A:B,2,FALSE)*100 -> 2.71 | D37: 3032.555 | E37: 0 | F37: =+(F36*(1+AC36/100))+E37 -> 0 | G37: =+D37+E37 -> 3032.555 | H37: =+(G37/D36-1)*100 -> 0.11156822 | I37: =+(1+H37/100)*I36 -> 1.0063797 | J37: =+(I37-1)*100 -> 0.63796623 | K37: =+D37+F37 -> 3032.555 | L37: =+(K37/K36-1)*100 -> 0.11156822 | M37: =+(1+L37/100)*M36 -> 1.0063797 | N37: =+(M37-1)*100 -> 0.63796623 | O37: 1.96 | P37: 3051.8434 | Q37: 0 | R37: =+(R36*(1+AQ36/100))+Q37 -> 0 | S37: =+P37+Q37 -> 3051.8434 | T37: =+(S37/P36-1)*100 -> 0.066435555 | U37: =+(1+T37/100)*U36 -> 1.0127807 | V37: =+(U37-1)*100 -> 1.2780684 | W37: =+P37+R37 -> 3051.8434 | X37: =+(W37/W36-1)*100 -> 0.066435555 | Y37: =+(1+X37/100)*Y36 -> 1.0127807 | Z37: =+(Y37-1)*100 -> 1.2780684 | AA37: 6.39 | AB37: =+((AA36/100+1)^(1/252))*AB36 -> 1.0083922 | AC37: =+(AB37/AB36-1)*100 -> 0.024582942 | AD37: =+(1+AC37/100)*AD36 -> 1.0083922 | AE37: =+(AD37-1)*100 -> 0.83921919 | AF37: 3103.5233 | AG37: 1.24 | AH37: =+((1+AG37/100)^(252/21)-1)*100 -> 15.937956 | AI37: =+(AF37/AF36-1)*100 -> 0.058701729 | AJ37: =+(1+AI37/100)*AJ36 -> 1.0101317 | AK37: =+(AJ37-1)*100 -> 1.0131701
A38: =+A37+1 -> 36 | B38: 43283 | C38: =VLOOKUP(B38,'Base NTN-B Princ 2019'!A:B,2,FALSE)*100 -> 2.7 | D38: 3034.9128 | E38: 0 | F38: =+(F37*(1+AC37/100))+E38 -> 0 | G38: =+D38+E38 -> 3034.9128 | H38: =+(G38/D37-1)*100 -> 0.077748202 | I38: =+(1+H38/100)*I37 -> 1.0071621 | J38: =+(I38-1)*100 -> 0.71621044 | K38: =+D38+F38 -> 3034.9128 | L38: =+(K38/K37-1)*100 -> 0.077748202 | M38: =+(1+L38/100)*M37 -> 1.0071621 | N38: =+(M38-1)*100 -> 0.71621044 | O38: 1.96 | P38: 3053.8709 | Q38: 0 | R38: =+(R37*(1+AQ37/100))+Q38 -> 0 | S38: =+P38+Q38 -> 3053.8709 | T38: =+(S38/P37-1)*100 -> 0.066434994 | U38: =+(1+T38/100)*U37 -> 1.0134535 | V38: =+(U38-1)*100 -> 1.3453525 | W38: =+P38+R38 -> 3053.8709 | X38: =+(W38/W37-1)*100 -> 0.066434994 | Y38: =+(1+X38/100)*Y37 -> 1.0134535 | Z38: =+(Y38-1)*100 -> 1.3453525 | AA38: 6.39 | AB38: =+((AA37/100+1)^(1/252))*AB37 -> 1.0086401 | AC38: =+(AB38/AB37-1)*100 -> 0.024582942 | AD38: =+(1+AC38/100)*AD37 -> 1.0086401 | AE38: =+(AD38-1)*100 -> 0.86400844 | AF38: 3105.3451 | AG38: 1.24 | AH38: =+((1+AG38/100)^(252/21)-1)*100 -> 15.937956 | AI38: =+(AF38/AF37-1)*100 -> 0.058701767 | AJ38: =+(1+AI38/100)*AJ37 -> 1.0107247 | AK38: =+(AJ38-1)*100 -> 1.0724666
A39: =+A38+1 -> 37 | B39: 43284 | C39: =VLOOKUP(B39,'Base NTN-B Princ 2019'!A:B,2,FALSE)*100 -> 2.74 | D39: 3036.0014 | E39: 0 | F39: =+(F38*(1+AC38/100))+E39 -> 0 | G39: =+D39+E39 -> 3036.0014 | H39: =+(G39/D38-1)*100 -> 0.035870817 | I39: =+(1+H39/100)*I38 -> 1.0075234 | J39: =+(I39-1)*100 -> 0.75233817 | K39: =+D39+F39 -> 3036.0014 | L39: =+(K39/K38-1)*100 -> 0.035870817 | M39: =+(1+L39/100)*M38 -> 1.0075234 | N39: =+(M39-1)*100 -> 0.75233817 | O39: 1.96 | P39: 3055.8997 | Q39: 0 | R39: =+(R38*(1+AQ38/100))+Q39 -> 0 | S39: =+P39+Q39 -> 3055.8997 | T39: =+(S39/P38-1)*100 -> 0.066434373 | U39: =+(1+T39/100)*U38 -> 1.0141268 | V39: =+(U39-1)*100 -> 1.4126806 | W39: =+P39+R39 -> 3055.8997 | X39: =+(W39/W38-1)*100 -> 0.066434373 | Y39: =+(1+X39/100)*Y38 -> 1.0141268 | Z39: =+(Y39-1)*100 -> 1.4126806 | AA39: 6.39 | AB39: =+((AA38/100+1)^(1/252))*AB38 -> 1.008888 | AC39: =+(AB39/AB38-1)*100 -> 0.024582942 | AD39: =+(1+AC39/100)*AD38 -> 1.008888 | AE39: =+(AD39-1)*100 -> 0.88880378 | AF39: 3107.168 | AG39: 1.24 | AH39: =+((1+AG39/100)^(252/21)-1)*100 -> 15.937956 | AI39: =+(AF39/AF38-1)*100 -> 0.05870172 | AJ39: =+(1+AI39/100)*AJ38 -> 1.011318 | AK39: =+(AJ39-1)*100 -> 1.1317979
... A42: =+A41+1 -> 40 | B42: 43287 | C42: =VLOOKUP(B42,'Base NTN-B Princ 2019'!A:B,2,FALSE)*100 -> 2.91 | D42: 3038.5118 | E42: 0 | F42: =+(F41*(1+AC41/100))+E42 -> 0 | G42: =+D42+E42 -> 3038.5118 | H42: =+(G42/D41-1)*100 -> -0.039619752 | I42: =+(1+H42/100)*I41 -> 1.0083565 | J42: =+(I42-1)*100 -> 0.83564826 | K42: =+D42+F42 -> 3038.5118 | L42: =+(K42/K41-1)*100 -> -0.039619752 | M42: =+(1+L42/100)*M41 -> 1.0083565 | N42: =+(M42-1)*100 -> 0.83564826 | O42: 1.96 | P42: 3062.4234 | Q42: 0 | R42: =+(R41*(1+AQ41/100))+Q42 -> 0 | S42: =+P42+Q42 -> 3062.4234 | T42: =+(S42/P41-1)*100 -> 0.080562276 | U42: =+(1+T42/100)*U41 -> 1.0162918 | V42: =+(U42-1)*100 -> 1.629175 | W42: =+P42+R42 -> 3062.4234 | X42: =+(W42/W41-1)*100 -> 0.080562276 | Y42: =+(1+X42/100)*Y41 -> 1.0162918 | Z42: =+(Y42-1)*100 -> 1.629175 | AA42: 6.39 | AB42: =+((AA41/100+1)^(1/252))*AB41 -> 1.0096323 | AC42: =+(AB42/AB41-1)*100 -> 0.024582942 | AD42: =+(1+AC42/100)*AD41 -> 1.0096323 | AE42: =+(AD42-1)*100 -> 0.96322638 | AF42: 3113.0826 | AG42: 1.26 | AH42: =+((1+AG42/100)^(252/21)-1)*100 -> 16.213097 | AI42: =+(AF42/AF41-1)*100 -> 0.072830353 | AJ42: =+(1+AI42/100)*AJ41 -> 1.0132431 | AK42: =+(AJ42-1)*100 -> 1.3243062
...

Sheet NTN-B 22 até venc
C1: Tx 08/22 | D1: Tx Mercado | F1: Anbima | O1: Tx 08/22 | P1: Tx Curva
A2: Nr. | B2: Data | C2: 44788 | D2: Preço | E2: Juros | F2: Jr CDI | G2: PU Ajustado | H2: Rent | I2: Acum. | J2: Ret Mercado | K2: PU + JR CDI | L2: Rent | M2: Acum. | N2: Ret Mercado | O2: 44788 | P2: Preço | Q2: Juros | R2: Jr CDI | S2: PU Ajustado | T2: Rent | U2: Acum. | V2: Ret Curva | W2: PU + JR CDI | X2: Rent | Y2: Acum. | Z2: 08/22 | AA2: Tx CDI | AB2: Índice | AC2: Rent | AD2: Acum. | AE2: CDI | AF2: VNA IPCA | AG2: IPCA % a.m | AH2: IPCA a.a. | AI2: Rent | AJ2: Acum. | AK2: Ret | AN2: Resumos Estatísticos | AT2: Resumos Estatísticos | AX2: CURVA
A3: 1 | B3: 44421 | C3: 2.32 | D3: 3840.7301 | E3: 0 | I3: 1 | J3: 0 | K3: =+D3 -> 3840.7301 | M3: 1 | N3: 0 | O3: 2.32 | P3: 3840.7301 | Q3: 0 | U3: 1 | V3: 0 | W3: =+P3 -> 3840.7301 | Y3: 1 | Z3: 0 | AA3: 5.15 | AB3: 1 | AD3: 1 | AE3: 0 | AF3: 3606.3227 | AG3: 0.96 | AH3: =+((1+AG3/100)^(252/21)-1)*100 -> 12.148147 | AJ3: 1 | AK3: 0 | AN3: =+C2 -> 44788 | AT3: =+I2 -> Acum.
A4: =+A3+1 -> 2 | B4: 44424 | C4: 2.345 | D4: 3735.1935 | E4: 106.66006 | F4: =+(F3*(1+AC3/100))+E4 -> 106.66006 | G4: =+D4+E4 -> 3841.8536 | H4: =+(G4/D3-1)*100 -> 0.029252641 | I4: =+(1+H4/100)*I3 -> 1.0002925 | J4: =+(I4-1)*100 -> 0.029252641 | K4: =+D4+F4 -> 3841.8536 | L4: =+(K4/K3-1)*100 -> 0.029252641 | M4: =+(1+L4/100)*M3 -> 1.0002925 | N4: =+(M4-1)*100 -> 0.029252641 | O4: =+O3 -> 2.32 | P4: 3736.0883 | Q4: 106.66006 | R4: =+(R3*(1+AQ3/100))+Q4 -> 106.66006 | S4: =+P4+Q4 -> 3842.7483 | T4: =+(S4/P3-1)*100 -> 0.05254915 | U4: =+(1+T4/100)*U3 -> 1.0005255 | V4: =+(U4-1)*100 -> 0.05254915 | W4: =+P4+R4 -> 3842.7483 | X4: =+(W4/W3-1)*100 -> 0.05254915 | Y4: =+(1+X4/100)*Y3 -> 1.0005255 | Z4: =+(Y4-1)*100 -> 0.05254915 | AA4: 5.15 | AB4: =+((AA3/100+1)^(1/252))*AB3 -> 1.0001993 | AC4: =+(AB4/AB3-1)*100 -> 0.019929651 | AD4: =+(1+AC4/100)*AD3 -> 1.0001993 | AE4: =+(AD4-1)*100 -> 0.019929651 | AF4: 3607.8892 | AG4: 0.96 | AH4: =+((1+AG4/100)^(252/21)-1)*100 -> 12.148147 | AI4: =+(AF4/AF3-1)*100 -> 0.043436268 | AJ4: =+(1+AI4/100)*AJ3 -> 1.0004344 | AK4: =+(AJ4-1)*100 -> 0.043436268 | AN4: De: | AO4: 44421 | AT4: De: | AU4: 44421
A5: =+A4+1 -> 3 | B5: 44425 | C5: 2.273 | D5: 3739.0852 | E5: 0 | F5: =+(F4*(1+AC4/100))+E5 -> 106.68132 | G5: =+D5+E5 -> 3739.0852 | H5: =+(G5/D4-1)*100 -> 0.10418863 | I5: =+(1+H5/100)*I4 -> 1.0013347 | J5: =+(I5-1)*100 -> 0.13347175 | K5: =+D5+F5 -> 3845.7665 | L5: =+(K5/K4-1)*100 -> 0.10184938 | M5: =+(1+L5/100)*M4 -> 1.0013113 | N5: =+(M5-1)*100 -> 0.13113181 | O5: =+O4 -> 2.32 | P5: 3737.4035 | Q5: 0 | R5: =+(R4*(1+AQ4/100))+Q5 -> 106.66006 | S5: =+P5+Q5 -> 3737.4035 | T5: =+(S5/P4-1)*100 -> 0.035201952 | U5: =+(1+T5/100)*U4 -> 1.0008777 | V5: =+(U5-1)*100 -> 0.0877696 | W5: =+P5+R5 -> 3844.0635 | X5: =+(W5/W4-1)*100 -> 0.03422488 | Y5: =+(1+X5/100)*Y4 -> 1.0008679 | Z5: =+(Y5-1)*100 -> 0.086792014 | AA5: 5.15 | AB5: =+((AA4/100+1)^(1/252))*AB4 -> 1.0003986 | AC5: =+(AB5/AB4-1)*100 -> 0.019929651 | AD5: =+(1+AC5/100)*AD4 -> 1.0003986 | AE5: =+(AD5-1)*100 -> 0.039863274 | AF5: 3608.8316 | AG5: 0.55 | AH5: =+((1+AG5/100)^(252/21)-1)*100 -> 6.8033559 | AI5: =+(AF5/AF4-1)*100 -> 0.026122116 | AJ5: =+(1+AI5/100)*AJ4 -> 1.0006957 | AK5: =+(AJ5-1)*100 -> 0.069569731 | AN5: Até: | AO5: 44788 | AT5: Até: | AU5: 44788 | AY5: + JR CDI
A6: =+A5+1 -> 4 | B6: 44426 | C6: 2.3209 | D6: 3738.6902 | E6: 0 | F6: =+(F5*(1+AC5/100))+E6 -> 106.70258 | G6: =+D6+E6 -> 3738.6902 | H6: =+(G6/D5-1)*100 -> -0.010563707 | I6: =+(1+H6/100)*I5 -> 1.0012289 | J6: =+(I6-1)*100 -> 0.12289394 | K6: =+D6+F6 -> 3845.3928 | L6: =+(K6/K5-1)*100 -> -0.0097178231 | M6: =+(1+L6/100)*M5 -> 1.001214 | N6: =+(M6-1)*100 -> 0.12140125 | O6: =+O5 -> 2.32 | P6: 3738.7227 | Q6: 0 | R6: =+(R5*(1+AQ5/100))+Q6 -> 106.66006 | S6: =+P6+Q6 -> 3738.7227 | T6: =+(S6/P5-1)*100 -> 0.035297688 | U6: =+(1+T6/100)*U5 -> 1.001231 | V6: =+(U6-1)*100 -> 0.12309827 | W6: =+P6+R6 -> 3845.3827 | X6: =+(W6/W5-1)*100 -> 0.034318293 | Y6: =+(1+X6/100)*Y5 -> 1.0012114 | Z6: =+(Y6-1)*100 -> 0.12114009 | AA6: 5.15 | AB6: =+((AA5/100+1)^(1/252))*AB5 -> 1.000598 | AC6: =+(AB6/AB5-1)*100 -> 0.019929651 | AD6: =+(1+AC6/100)*AD5 -> 1.000598 | AE6: =+(AD6-1)*100 -> 0.059800869 | AF6: 3609.7743 | AG6: 0.55 | AH6: =+((1+AG6/100)^(252/21)-1)*100 -> 6.8033559 | AI6: =+(AF6/AF5-1)*100 -> 0.026122111 | AJ6: =+(1+AI6/100)*AJ5 -> 1.0009571 | AK6: =+(AJ6-1)*100 -> 0.095710015 | AP6: + JR CDI | AR6: Ganho Real | AV6: + JR CDI | AX6: Ganho Real | AY6: Ganho Real
A7: =+A6+1 -> 5 | B7: 44427 | C7: 2.3926 | D7: 3737.4643 | E7: 0 | F7: =+(F6*(1+AC6/100))+E7 -> 106.72385 | G7: =+D7+E7 -> 3737.4643 | H7: =+(G7/D6-1)*100 -> -0.032789879 | I7: =+(1+H7/100)*I6 -> 1.0009006 | J7: =+(I7-1)*100 -> 0.090063768 | K7: =+D7+F7 -> 3844.1881 | L7: =+(K7/K6-1)*100 -> -0.031327009 | M7: =+(1+L7/100)*M6 -> 1.0009004 | N7: =+(M7-1)*100 -> 0.090036206 | O7: =+O6 -> 2.32 | P7: 3740.0387 | Q7: 0 | R7: =+(R6*(1+AQ6/100))+Q7 -> 106.66006 | S7: =+P7+Q7 -> 3740.0387 | T7: =+(S7/P6-1)*100 -> 0.035200284 | U7: =+(1+T7/100)*U6 -> 1.0015834 | V7: =+(U7-1)*100 -> 0.15834188 | W7: =+P7+R7 -> 3846.6988 | X7: =+(W7/W6-1)*100 -> 0.034223927 | Y7: =+(1+X7/100)*Y6 -> 1.0015541 | Z7: =+(Y7-1)*100 -> 0.15540548 | AA7: 5.15 | AB7: =+((AA6/100+1)^(1/252))*AB6 -> 1.0007974 | AC7: =+(AB7/AB6-1)*100 -> 0.019929651 | AD7: =+(1+AC7/100)*AD6 -> 1.0007974 | AE7: =+(AD7-1)*100 -> 0.079742438 | AF7: 3610.7173 | AG7: 0.55 | AH7: =+((1+AG7/100)^(252/21)-1)*100 -> 6.8033559 | AI7: =+(AF7/AF6-1)*100 -> 0.026122132 | AJ7: =+(1+AI7/100)*AJ6 -> 1.0012186 | AK7: =+(AJ7-1)*100 -> 0.12185715 | AN7: Rent Per. | AO7: =((VLOOKUP(AO5,B:AE,8,FALSE)/VLOOKUP(AO4,B:AE,8,FALSE))-1)*100 -> 12.739888 | AP7: =((VLOOKUP(AO5,B:AE,12,FALSE)/VLOOKUP(AO4,B:AE,12,FALSE))-1)*100 -> 12.604105 | AR7: =+(((1+AO7/100)/(1+AO8/100))-1)*100 -> 2.3817121 | AT7: Rent Per. | AU7: =((VLOOKUP(AO5,B:AE,20,FALSE)/VLOOKUP(AO4,B:AE,20,FALSE))-1)*100 -> 12.672006 | AV7: =((VLOOKUP(AO5,B:AE,24,FALSE)/VLOOKUP(AO4,B:AE,20,FALSE))-1)*100 -> 12.163641 | AX7: =+(((1+AU7/100)/(1+AU8/100))-1)*100 -> 2.3200665 | AY7: =+(((1+AV7/100)/(1+AV8/100))-1)*100 -> 1.8584088
A8: =+A7+1 -> 6 | B8: 44428 | C8: 2.4509 | D8: 3736.7359 | E8: 0 | F8: =+(F7*(1+AC7/100))+E8 -> 106.74512 | G8: =+D8+E8 -> 3736.7359 | H8: =+(G8/D7-1)*100 -> -0.019489123 | I8: =+(1+H8/100)*I7 -> 1.0007056 | J8: =+(I8-1)*100 -> 0.070557092 | K8: =+D8+F8 -> 3843.481 | L8: =+(K8/K7-1)*100 -> -0.018394763 | M8: =+(1+L8/100)*M7 -> 1.0007162 | N8: =+(M8-1)*100 -> 0.071624881 | O8: =+O7 -> 2.32 | P8: 3741.3552 | Q8: 0 | R8: =+(R7*(1+AQ7/100))+Q8 -> 106.66006 | S8: =+P8+Q8 -> 3741.3552 | T8: =+(S8/P7-1)*100 -> 0.035199475 | U8: =+(1+T8/100)*U7 -> 1.001936 | V8: =+(U8-1)*100 -> 0.19359709 | W8: =+P8+R8 -> 3848.0153 | X8: =+(W8/W7-1)*100 -> 0.034223475 | Y8: =+(1+X8/100)*Y7 -> 1.0018968 | Z8: =+(Y8-1)*100 -> 0.18968214 | AA8: 5.15 | AB8: =+((AA7/100+1)^(1/252))*AB7 -> 1.0009969 | AC8: =+(AB8/AB7-1)*100 -> 0.019929651 | AD8: =+(1+AC8/100)*AD7 -> 1.0009969 | AE8: =+(AD8-1)*100 -> 0.099687981 | AF8: 3611.6605 | AG8: 0.55 | AH8: =+((1+AG8/100)^(252/21)-1)*100 -> 6.8033559 | AI8: =+(AF8/AF7-1)*100 -> 0.026122123 | AJ8: =+(1+AI8/100)*AJ7 -> 1.0014801 | AK8: =+(AJ8-1)*100 -> 0.1480111 | AN8: VNA IPCA | AO8: =(((VLOOKUP(AO5,B:AK,31,FALSE)/VLOOKUP(AO4,B:AK,31,FALSE))-1)*100) -> 10.117213 | AP8: =+AO8 -> 10.117213 | AT8: VNA IPCA | AU8: =(((VLOOKUP(AO5,B:AK,31,FALSE)/VLOOKUP(AO4,B:AK,31,FALSE))-1)*100) -> 10.117213 | AV8: =+AU8 -> 10.117213
A9: =+A8+1 -> 7 | B9: 44431 | C9: 2.568 | D9: 3733.9657 | E9: 0 | F9: =+(F8*(1+AC8/100))+E9 -> 106.76639 | G9: =+D9+E9 -> 3733.9657 | H9: =+(G9/D8-1)*100 -> -0.074133016 | I9: =+(1+H9/100)*I8 -> 0.99996372 | J9: =+(I9-1)*100 -> -0.0036282295 | K9: =+D9+F9 -> 3840.7321 | L9: =+(K9/K8-1)*100 -> -0.07152061 | M9: =+(1+L9/100)*M8 -> 1.0000005 | N9: =+(M9-1)*100 -> 5.3043653e-05 | O9: =+O8 -> 2.32 | P9: 3742.6721 | Q9: 0 | R9: =+(R8*(1+AQ8/100))+Q9 -> 106.66006 | S9: =+P9+Q9 -> 3742.6721 | T9: =+(S9/P8-1)*100 -> 0.035198663 | U9: =+(1+T9/100)*U8 -> 1.0022886 | V9: =+(U9-1)*100 -> 0.2288639 | W9: =+P9+R9 -> 3849.3322 | X9: =+(W9/W8-1)*100 -> 0.034223019 | Y9: =+(1+X9/100)*Y8 -> 1.0022397 | Z9: =+(Y9-1)*100 -> 0.22397007 | AA9: 5.15 | AB9: =+((AA8/100+1)^(1/252))*AB8 -> 1.0011964 | AC9: =+(AB9/AB8-1)*100 -> 0.019929651 | AD9: =+(1+AC9/100)*AD8 -> 1.0011964 | AE9: =+(AD9-1)*100 -> 0.1196375 | AF9: 3612.6039 | AG9: 0.55 | AH9: =+((1+AG9/100)^(252/21)-1)*100 -> 6.8033559 | AI9: =+(AF9/AF8-1)*100 -> 0.02612214 | AJ9: =+(1+AI9/100)*AJ8 -> 1.0017417 | AK9: =+(AJ9-1)*100 -> 0.17417191 | AN9: CDI | AO9: =(((VLOOKUP(AO5,B:AK,27,FALSE)/VLOOKUP(AO4,B:AK,27,FALSE))-1)*100) -> 9.7595627 | AP9: =+AO9 -> 9.7595627 | AR9: =+(((1+AO9/100)/(1+AO8/100))-1)*100 -> -0.32479085 | AT9: CDI | AU9: =(((VLOOKUP(AO5,B:AK,27,FALSE)/VLOOKUP(AO4,B:AK,27,FALSE))-1)*100) -> 9.7595627 | AV9: =+AU9 -> 9.7595627 | AX9: =+(((1+AU9/100)/(1+AU8/100))-1)*100 -> -0.32479085 | AY9: =+(((1+AV9/100)/(1+AV8/100))-1)*100 -> -0.32479085
A10: =+A9+1 -> 8 | B10: 44432 | C10: 2.6294 | D10: 3733.1741 | E10: 0 | F10: =+(F9*(1+AC9/100))+E10 -> 106.78767 | G10: =+D10+E10 -> 3733.1741 | H10: =+(G10/D9-1)*100 -> -0.021200864 | I10: =+(1+H10/100)*I9 -> 0.99975172 | J10: =+(I10-1)*100 -> -0.024828324 | K10: =+D10+F10 -> 3839.9618 | L10: =+(K10/K9-1)*100 -> -0.0200575 | M10: =+(1+L10/100)*M9 -> 0.99979996 | N10: =+(M10-1)*100 -> -0.020004467 | O10: =+O9 -> 2.32 | P10: 3743.9931 | Q10: 0 | R10: =+(R9*(1+AQ9/100))+Q10 -> 106.66006 | S10: =+P10+Q10 -> 3743.9931 | T10: =+(S10/P9-1)*100 -> 0.035294356 | U10: =+(1+T10/100)*U9 -> 1.0026424 | V10: =+(U10-1)*100 -> 0.26423903 | W10: =+P10+R10 -> 3850.6531 | X10: =+(W10/W9-1)*100 -> 0.034316394 | Y10: =+(1+X10/100)*Y9 -> 1.0025836 | Z10: =+(Y10-1)*100 -> 0.25836333 | AA10: 5.15 | AB10: =+((AA9/100+1)^(1/252))*AB9 -> 1.0013959 | AC10: =+(AB10/AB9-1)*100 -> 0.019929651 | AD10: =+(1+AC10/100)*AD9 -> 1.0013959 | AE10: =+(AD10-1)*100 -> 0.13959099 | AF10: 3613.5476 | AG10: 0.55 | AH10: =+((1+AG10/100)^(252/21)-1)*100 -> 6.8033559 | AI10: =+(AF10/AF9-1)*100 -> 0.026122128 | AJ10: =+(1+AI10/100)*AJ9 -> 1.0020034 | AK10: =+(AJ10-1)*100 -> 0.20033953 | AN10: %CDI | AO10: =+AO7/AO9*100 -> 130.53749 | AP10: =+AP7/AP9*100 -> 129.14621 | AT10: %CDI | AU10: =+AU7/AU9*100 -> 129.84194 | AV10: =+AV7/AV9*100 -> 124.63306
A11: =+A10+1 -> 9 | B11: 44433 | C11: 2.5731 | D11: 3736.4915 | E11: 0 | F11: =+(F10*(1+AC10/100))+E11 -> 106.80895 | G11: =+D11+E11 -> 3736.4915 | H11: =+(G11/D10-1)*100 -> 0.088862022 | I11: =+(1+H11/100)*I10 -> 1.0006401 | J11: =+(I11-1)*100 -> 0.064011635 | K11: =+D11+F11 -> 3843.3004 | L11: =+(K11/K10-1)*100 -> 0.086945043 | M11: =+(1+L11/100)*M10 -> 1.0006692 | N11: =+(M11-1)*100 -> 0.066923184 | O11: =+O10 -> 2.32 | P11: 3745.3108 | Q11: 0 | R11: =+(R10*(1+AQ10/100))+Q11 -> 106.66006 | S11: =+P11+Q11 -> 3745.3108 | T11: =+(S11/P10-1)*100 -> 0.035196994 | U11: =+(1+T11/100)*U10 -> 1.0029953 | V11: =+(U11-1)*100 -> 0.29952903 | W11: =+P11+R11 -> 3851.9709 | X11: =+(W11/W10-1)*100 -> 0.034222065 | Y11: =+(1+X11/100)*Y10 -> 1.0029267 | Z11: =+(Y11-1)*100 -> 0.29267381 | AA11: 5.15 | AB11: =+((AA10/100+1)^(1/252))*AB10 -> 1.0015955 | AC11: =+(AB11/AB10-1)*100 -> 0.019929651 | AD11: =+(1+AC11/100)*AD10 -> 1.0015955 | AE11: =+(AD11-1)*100 -> 0.15954846 | AF11: 3614.4915 | AG11: 0.55 | AH11: =+((1+AG11/100)^(252/21)-1)*100 -> 6.8033559 | AI11: =+(AF11/AF10-1)*100 -> 0.026122113 | AJ11: =+(1+AI11/100)*AJ10 -> 1.0022651 | AK11: =+(AJ11-1)*100 -> 0.22651398 | AN11: Rent a.a. | AO11: =(((1+AO7/100)^(252/NETWORKDAYS(AO4,AO5-1,Feriados!$A$1:$A$936)))-1)*100 -> 12.739888 | AP11: =(((1+AP7/100)^(252/NETWORKDAYS(AO4,AO5-1,Feriados!$A$1:$A$936)))-1)*100 -> 12.604105 | AT11: Rent a.a. | AU11: =(((1+AU7/100)^(252/NETWORKDAYS(AU4,AU5-1,Feriados!$A$1:$A$936)))-1)*100 -> 12.672006 | AV11: =(((1+AV7/100)^(252/NETWORKDAYS(AU4,AU5-1,Feriados!$A$1:$A$936)))-1)*100 -> 12.163641
