Workbook
Name feriado: [1]FERIADOS!$A$2:$A$1037

Sheet NTN-F
C1: Tx 01/23 | O1: Tx 01/25 | AA1: Tx 01/27
A2: Nr. | B2: Data | C2: 44927 | D2: Preço | E2: Juros | F2: Jr CDI | G2: PU Ajustado | H2: Rent | I2: Acum. | J2: 01/23 | K2: PU + JR CDI | L2: Rent | M2: Acum. | N2: 01/23 | O2: 45658 | P2: Preço | Q2: Juros | R2: Jr CDI | S2: PU Ajustado | T2: Rent | U2: Acum. | V2: 01/25 | W2: PU + JR CDI | X2: Rent | Y2: Acum. | Z2: 01/25 | AA2: 46388 | AB2: Preço | AC2: Juros | AD2: Jr CDI | AE2: PU Ajustado | AF2: Rent | AG2: Acum. | AH2: 01/27 | AI2: PU + JR CDI | AJ2: Rent | AK2: Acum. | AL2: 01/27 | AM2: Tx CDI | AN2: Índice | AO2: Rent | AP2: Acum. | AQ2: CDI | AT2: Resumos Estatísticos | AX2: Resumos Estatísticos | BB2: Resumos Estatísticos
A3: 1 | B3: 43832 | C3: 5.7464 | D3: 1112.2794 | E3: 48.80885 | I3: 1 | J3: 0 | K3: =+D3 -> 1112.2794 | M3: 1 | N3: 0 | O3: 6.3072 | P3: 1151.7486 | Q3: 48.80885 | U3: 1 | V3: 0 | W3: =+P3 -> 1151.7486 | Y3: 1 | Z3: 0 | AA3: 6.6004 | AB3: 1182.8454 | AC3: 48.80885 | AG3: 1 | AH3: 0 | AI3: =+AB3 -> 1182.8454 | AK3: 1 | AL3: 0 | AM3: 4.4 | AN3: 1 | AP3: 1 | AQ3: 0 | AT3: =+C2 -> 44927 | AX3: =+O2 -> 45658 | BB3: =+AA2 -> 46388
A4: =+A3+1 -> 2 | B4: 43833 | C4: 5.745 | D4: 1112.5654 | E4: 0 | G4: =+D4+E4 -> 1112.5654 | H4: =+(G4/D3-1)*100 -> 0.02571764 | I4: =+(1+H4/100)*I3 -> 1.0002572 | J4: =+(I4-1)*100 -> 0.02571764 | K4: =+D4+F4 -> 1112.5654 | L4: =+(K4/K3-1)*100 -> 0.02571764 | M4: =+(1+L4/100)*M3 -> 1.0002572 | N4: =+(M4-1)*100 -> 0.02571764 | O4: 6.3309 | P4: 1150.9694 | Q4: 0 | S4: =+P4+Q4 -> 1150.9694 | T4: =+(S4/P3-1)*100 -> -0.067661811 | U4: =+(1+T4/100)*U3 -> 0.99932338 | V4: =+(U4-1)*100 -> -0.067661811 | W4: =+P4+R4 -> 1150.9694 | X4: =+(W4/W3-1)*100 -> -0.067661811 | Y4: =+(1+X4/100)*Y3 -> 0.99932338 | Z4: =+(Y4-1)*100 -> -0.067661811 | AA4: 6.64 | AB4: 1180.7894 | AC4: 0 | AE4: =+AC4+AB4 -> 1180.7894 | AF4: =+(AE4/AB3-1)*100 -> -0.17381241 | AG4: =+(1+AF4/100)*AG3 -> 0.99826188 | AH4: =+(AG4-1)*100 -> -0.17381241 | AI4: =+AB4+AD4 -> 1180.7894 | AJ4: =+(AI4/AI3-1)*100 -> -0.17381241 | AK4: =+(1+AJ4/100)*AK3 -> 0.99826188 | AL4: =+(AK4-1)*100 -> -0.17381241 | AM4: 4.4 | AN4: =+((AM3/100+1)^(1/252))*AN3 -> 1.0001709 | AO4: =+(AN4/AN3-1)*100 -> 0.017088559 | AP4: =+(1+AO4/100)*AP3 -> 1.0001709 | AQ4: =+(AP4-1)*100 -> 0.017088559 | AT4: De: | AU4: 43832 | AX4: De: | AY4: 43832 | BB4: De: | BC4: 43832
A5: =+A4+1 -> 3 | B5: 43836 | C5: 5.7777 | D5: 1111.8932 | E5: 0 | G5: =+D5+E5 -> 1111.8932 | H5: =+(G5/D4-1)*100 -> -0.060415953 | I5: =+(1+H5/100)*I4 -> 0.99965286 | J5: =+(I5-1)*100 -> -0.034713851 | K5: =+D5+F5 -> 1111.8932 | L5: =+(K5/K4-1)*100 -> -0.060415953 | M5: =+(1+L5/100)*M4 -> 0.99965286 | N5: =+(M5-1)*100 -> -0.034713851 | O5: 6.3709 | P5: 1149.4669 | Q5: 0 | S5: =+P5+Q5 -> 1149.4669 | T5: =+(S5/P4-1)*100 -> -0.13053623 | U5: =+(1+T5/100)*U4 -> 0.9980189 | V5: =+(U5-1)*100 -> -0.19810972 | W5: =+P5+R5 -> 1149.4669 | X5: =+(W5/W4-1)*100 -> -0.13053623 | Y5: =+(1+X5/100)*Y4 -> 0.9980189 | Z5: =+(Y5-1)*100 -> -0.19810972 | AA5: 6.68 | AB5: 1178.7185 | AC5: 0 | AE5: =+AC5+AB5 -> 1178.7185 | AF5: =+(AE5/AB4-1)*100 -> -0.17538317 | AG5: =+(1+AF5/100)*AG4 -> 0.99651109 | AH5: =+(AG5-1)*100 -> -0.34889074 | AI5: =+AB5+AD5 -> 1178.7185 | AJ5: =+(AI5/AI4-1)*100 -> -0.17538317 | AK5: =+(1+AJ5/100)*AK4 -> 0.99651109 | AL5: =+(AK5-1)*100 -> -0.34889074 | AM5: 4.4 | AN5: =+((AM4/100+1)^(1/252))*AN4 -> 1.0003418 | AO5: =+(AN5/AN4-1)*100 -> 0.017088559 | AP5: =+(1+AO5/100)*AP4 -> 1.0003418 | AQ5: =+(AP5-1)*100 -> 0.034180038 | AT5: Até: | AU5: 44561 | AX5: Até: | AY5: 44561 | BB5: Até: | BC5: 44561
A6: =+A5+1 -> 4 | B6: 43837 | C6: 5.74 | D6: 1113.1992 | E6: 0 | G6: =+D6+E6 -> 1113.1992 | H6: =+(G6/D5-1)*100 -> 0.11745075 | I6: =+(1+H6/100)*I5 -> 1.000827 | J6: =+(I6-1)*100 -> 0.082696131 | K6: =+D6+F6 -> 1113.1992 | L6: =+(K6/K5-1)*100 -> 0.11745075 | M6: =+(1+L6/100)*M5 -> 1.000827 | N6: =+(M6-1)*100 -> 0.082696131 | O6: 6.355 | P6: 1150.4564 | Q6: 0 | S6: =+P6+Q6 -> 1150.4564 | T6: =+(S6/P5-1)*100 -> 0.086080859 | U6: =+(1+T6/100)*U5 -> 0.99887801 | V6: =+(U6-1)*100 -> -0.11219939 | W6: =+P6+R6 -> 1150.4564 | X6: =+(W6/W5-1)*100 -> 0.086080859 | Y6: =+(1+X6/100)*Y5 -> 0.99887801 | Z6: =+(Y6-1)*100 -> -0.11219939 | AA6: 6.68 | AB6: 1179.021 | AC6: 0 | AE6: =+AC6+AB6 -> 1179.021 | AF6: =+(AE6/AB5-1)*100 -> 0.025663379 | AG6: =+(1+AF6/100)*AG5 -> 0.99676683 | AH6: =+(AG6-1)*100 -> -0.3233169 | AI6: =+AB6+AD6 -> 1179.021 | AJ6: =+(AI6/AI5-1)*100 -> 0.025663379 | AK6: =+(1+AJ6/100)*AK5 -> 0.99676683 | AL6: =+(AK6-1)*100 -> -0.3233169 | AM6: 4.4 | AN6: =+((AM5/100+1)^(1/252))*AN5 -> 1.0005127 | AO6: =+(AN6/AN5-1)*100 -> 0.017088559 | AP6: =+(1+AO6/100)*AP5 -> 1.0005127 | AQ6: =+(AP6-1)*100 -> 0.051274438 | AV6: + JR CDI | AZ6: + JR CDI | BD6: + JR CDI
A7: =+A6+1 -> 5 | B7: 43838 | C7: 5.678 | D7: 1115.1868 | E7: 0 | G7: =+D7+E7 -> 1115.1868 | H7: =+(G7/D6-1)*100 -> 0.17854658 | I7: =+(1+H7/100)*I6 -> 1.0026139 | J7: =+(I7-1)*100 -> 0.26139036 | K7: =+D7+F7 -> 1115.1868 | L7: =+(K7/K6-1)*100 -> 0.17854658 | M7: =+(1+L7/100)*M6 -> 1.0026139 | N7: =+(M7-1)*100 -> 0.26139036 | O7: 6.316 | P7: 1152.4749 | Q7: 0 | S7: =+P7+Q7 -> 1152.4749 | T7: =+(S7/P6-1)*100 -> 0.17545107 | U7: =+(1+T7/100)*U6 -> 1.0006305 | V7: =+(U7-1)*100 -> 0.063054817 | W7: =+P7+R7 -> 1152.4749 | X7: =+(W7/W6-1)*100 -> 0.17545107 | Y7: =+(1+X7/100)*Y6 -> 1.0006305 | Z7: =+(Y7-1)*100 -> 0.063054817 | AA7: 6.655 | AB7: 1180.804 | AC7: 0 | AE7: =+AC7+AB7 -> 1180.804 | AF7: =+(AE7/AB6-1)*100 -> 0.15122673 | AG7: =+(1+AF7/100)*AG6 -> 0.99827421 | AH7: =+(AG7-1)*100 -> -0.17257911 | AI7: =+AB7+AD7 -> 1180.804 | AJ7: =+(AI7/AI6-1)*100 -> 0.15122673 | AK7: =+(1+AJ7/100)*AK6 -> 0.99827421 | AL7: =+(AK7-1)*100 -> -0.17257911 | AM7: 4.4 | AN7: =+((AM6/100+1)^(1/252))*AN6 -> 1.0006837 | AO7: =+(AN7/AN6-1)*100 -> 0.017088559 | AP7: =+(1+AO7/100)*AP6 -> 1.0006837 | AQ7: =+(AP7-1)*100 -> 0.068371759 | AT7: Rent Per. | AU7: =((VLOOKUP(AU5,B:AQ,8,FALSE)/VLOOKUP(AU4,B:AQ,8,FALSE))-1)*100 -> 5.8520237 | AV7: =((VLOOKUP(AU5,B:AQ,12,FALSE)/VLOOKUP(AU4,B:AQ,12,FALSE))-1)*100 -> 6.5598862 | AX7: Rent Per. | AY7: =(((VLOOKUP(AY5,B:AQ,20,FALSE)/VLOOKUP(AY4,B:AQ,20,FALSE))-1)*100) -> 1.8259342 | AZ7: =(((VLOOKUP(AY5,B:AQ,22,FALSE)/VLOOKUP(AY4,B:AQ,22,FALSE))-1)*100) -> 2.9039384 | BB7: Rent Per. | BC7: =(((VLOOKUP(BC5,B:AQ,32,FALSE)/VLOOKUP(BC4,B:AQ,32,FALSE))-1)*100) -> -1.8466008 | BD7: =(((VLOOKUP(BC5,B:AQ,36,FALSE)/VLOOKUP(BC4,B:AQ,36,FALSE))-1)*100) -> -0.53963028
A8: =+A7+1 -> 6 | B8: 43839 | C8: 5.625 | D8: 1116.9207 | E8: 0 | G8: =+D8+E8 -> 1116.9207 | H8: =+(G8/D7-1)*100 -> 0.15548221 | I8: =+(1+H8/100)*I7 -> 1.0041728 | J8: =+(I8-1)*100 -> 0.41727898 | K8: =+D8+F8 -> 1116.9207 | L8: =+(K8/K7-1)*100 -> 0.15548221 | M8: =+(1+L8/100)*M7 -> 1.0041728 | N8: =+(M8-1)*100 -> 0.41727898 | O8: 6.2902 | P8: 1153.9054 | Q8: 0 | S8: =+P8+Q8 -> 1153.9054 | T8: =+(S8/P7-1)*100 -> 0.12412166 | U8: =+(1+T8/100)*U7 -> 1.0018725 | V8: =+(U8-1)*100 -> 0.18725475 | W8: =+P8+R8 -> 1153.9054 | X8: =+(W8/W7-1)*100 -> 0.12412166 | Y8: =+(1+X8/100)*Y7 -> 1.0018725 | Z8: =+(Y8-1)*100 -> 0.18725475 | AA8: 6.6144 | AB8: 1183.5144 | AC8: 0 | AE8: =+AC8+AB8 -> 1183.5144 | AF8: =+(AE8/AB7-1)*100 -> 0.22953377 | AG8: =+(1+AF8/100)*AG7 -> 1.0005656 | AH8: =+(AG8-1)*100 -> 0.056558534 | AI8: =+AB8+AD8 -> 1183.5144 | AJ8: =+(AI8/AI7-1)*100 -> 0.22953377 | AK8: =+(1+AJ8/100)*AK7 -> 1.0005656 | AL8: =+(AK8-1)*100 -> 0.056558534 | AM8: 4.4 | AN8: =+((AM7/100+1)^(1/252))*AN7 -> 1.0008547 | AO8: =+(AN8/AN7-1)*100 -> 0.017088559 | AP8: =+(1+AO8/100)*AP7 -> 1.0008547 | AQ8: =+(AP8-1)*100 -> 0.085472001 | AT8: CDI | AU8: =(((VLOOKUP(AU5,B:AQ,41,FALSE)/VLOOKUP(AU4,B:AQ,41,FALSE))-1)*100) -> 7.2701929 | AV8: =+AU8 -> 7.2701929 | AX8: CDI | AY8: =(((VLOOKUP(AY5,B:AQ,41,FALSE)/VLOOKUP(AY4,B:AQ,41,FALSE))-1)*100) -> 7.2701929 | AZ8: =+AY8 -> 7.2701929 | BB8: CDI | BC8: =(((VLOOKUP(BC5,B:AQ,41,FALSE)/VLOOKUP(BC4,B:AQ,41,FALSE))-1)*100) -> 7.2701929 | BD8: =+BC8 -> 7.2701929
A9: =+A8+1 -> 7 | B9: 43840 | C9: 5.635 | D9: 1116.8824 | E9: 0 | G9: =+D9+E9 -> 1116.8824 | H9: =+(G9/D8-1)*100 -> -0.0034306823 | I9: =+(1+H9/100)*I8 -> 1.0041383 | J9: =+(I9-1)*100 -> 0.41383398 | K9: =+D9+F9 -> 1116.8824 | L9: =+(K9/K8-1)*100 -> -0.0034306823 | M9: =+(1+L9/100)*M8 -> 1.0041383 | N9: =+(M9-1)*100 -> 0.41383398 | O9: 6.2911 | P9: 1154.1446 | Q9: 0 | S9: =+P9+Q9 -> 1154.1446 | T9: =+(S9/P8-1)*100 -> 0.02073307 | U9: =+(1+T9/100)*U8 -> 1.0020803 | V9: =+(U9-1)*100 -> 0.20802664 | W9: =+P9+R9 -> 1154.1446 | X9: =+(W9/W8-1)*100 -> 0.02073307 | Y9: =+(1+X9/100)*Y8 -> 1.0020803 | Z9: =+(Y9-1)*100 -> 0.20802664 | AA9: 6.624 | AB9: 1183.2454 | AC9: 0 | AE9: =+AC9+AB9 -> 1183.2454 | AF9: =+(AE9/AB8-1)*100 -> -0.022725453 | AG9: =+(1+AF9/100)*AG8 -> 1.0003382 | AH9: =+(AG9-1)*100 -> 0.033820228 | AI9: =+AB9+AD9 -> 1183.2454 | AJ9: =+(AI9/AI8-1)*100 -> -0.022725453 | AK9: =+(1+AJ9/100)*AK8 -> 1.0003382 | AL9: =+(AK9-1)*100 -> 0.033820228 | AM9: 4.4 | AN9: =+((AM8/100+1)^(1/252))*AN8 -> 1.0010258 | AO9: =+(AN9/AN8-1)*100 -> 0.017088559 | AP9: =+(1+AO9/100)*AP8 -> 1.0010258 | AQ9: =+(AP9-1)*100 -> 0.10257517 | AT9: %CDI | AU9: =+AU7/AU8*100 -> 80.493375 | AV9: =+AV7/AV8*100 -> 90.229878 | AX9: %CDI | AY9: =+AY7/AY8*100 -> 25.115348 | AZ9: =+AZ7/AZ8*100 -> 39.943072 | BB9: %CDI | BC9: =+BC7/BC8*100 -> -25.399612 | BD9: =+BD7/BD8*100 -> -7.4225029
A10: =+A9+1 -> 8 | B10: 43843 | C10: 5.6943 | D10: 1115.4638 | E10: 0 | G10: =+D10+E10 -> 1115.4638 | H10: =+(G10/D9-1)*100 -> -0.12700675 | I10: =+(1+H10/100)*I9 -> 1.002863 | J10: =+(I10-1)*100 -> 0.28630164 | K10: =+D10+F10 -> 1115.4638 | L10: =+(K10/K9-1)*100 -> -0.12700675 | M10: =+(1+L10/100)*M9 -> 1.002863 | N10: =+(M10-1)*100 -> 0.28630164 | O10: 6.35 | P10: 1151.8041 | Q10: 0 | S10: =+P10+Q10 -> 1151.8041 | T10: =+(S10/P9-1)*100 -> -0.20279071 | U10: =+(1+T10/100)*U9 -> 1.0000481 | V10: =+(U10-1)*100 -> 0.0048140712 | W10: =+P10+R10 -> 1151.8041 | X10: =+(W10/W9-1)*100 -> -0.20279071 | Y10: =+(1+X10/100)*Y9 -> 1.0000481 | Z10: =+(Y10-1)*100 -> 0.0048140712 | AA10: 6.6921 | AB10: 1179.5172 | AC10: 0 | AE10: =+AC10+AB10 -> 1179.5172 | AF10: =+(AE10/AB9-1)*100 -> -0.31508104 | AG10: =+(1+AF10/100)*AG9 -> 0.99718633 | AH10: =+(AG10-1)*100 -> -0.28136738 | AI10: =+AB10+AD10 -> 1179.5172 | AJ10: =+(AI10/AI9-1)*100 -> -0.31508104 | AK10: =+(1+AJ10/100)*AK9 -> 0.99718633 | AL10: =+(AK10-1)*100 -> -0.28136738 | AM10: 4.4 | AN10: =+((AM9/100+1)^(1/252))*AN9 -> 1.0011968 | AO10: =+(AN10/AN9-1)*100 -> 0.017088559 | AP10: =+(1+AO10/100)*AP9 -> 1.0011968 | AQ10: =+(AP10-1)*100 -> 0.11968125 | AT10: Rent a.a. | AU10: =(((1+AU7/100)^(252/NETWORKDAYS(AU4,AU5-1,Feriados!$A$1:$A$936)))-1)*100 -> 2.9019328 | AV10: =(((1+AV7/100)^(252/NETWORKDAYS(AU4,AU5-1,Feriados!$A$1:$A$936)))-1)*100 -> 3.247487 | AX10: Rent a.a. | AY10: =(((1+AY7/100)^(252/NETWORKDAYS(AY4,AY5-1,Feriados!$A$1:$A$936)))-1)*100 -> 0.91430414 | AZ10: =(((1+AZ7/100)^(252/NETWORKDAYS(AY4,AY5-1,Feriados!$A$1:$A$936)))-1)*100 -> 1.450273 | BB10: Rent a.a. | BC10: =(((1+BC7/100)^(252/NETWORKDAYS(BC4,BC5-1,Feriados!$A$1:$A$936)))-1)*100 -> -0.93313114 | BD10: =(((1+BD7/100)^(252/NETWORKDAYS(BC4,BC5-1,Feriados!$A$1:$A$936)))-1)*100 -> -0.27179577
A11: =+A10+1 -> 9 | B11: 43844 | C11: 5.6145 | D11: 1117.9429 | E11: 0 | G11: =+D11+E11 -> 1117.9429 | H11: =+(G11/D10-1)*100 -> 0.2222419 | I11: =+(1+H11/100)*I10 -> 1.0050918 | J11: =+(I11-1)*100 -> 0.50917982 | K11: =+D11+F11 -> 1117.9429 | L11: =+(K11/K10-1)*100 -> 0.2222419 | M11: =+(1+L11/100)*M10 -> 1.0050918 | N11: =+(M11-1)*100 -> 0.50917982 | O11: 6.2905 | P11: 1154.7303 | Q11: 0 | S11: =+P11+Q11 -> 1154.7303 | T11: =+(S11/P10-1)*100 -> 0.25405371 | U11: =+(1+T11/100)*U10 -> 1.0025888 | V11: =+(U11-1)*100 -> 0.25888001 | W11: =+P11+R11 -> 1154.7303 | X11: =+(W11/W10-1)*100 -> 0.25405371 | Y11: =+(1+X11/100)*Y10 -> 1.0025888 | Z11: =+(Y11-1)*100 -> 0.25888001 | AA11: 6.63 | AB11: 1183.4923 | AC11: 0 | AE11: =+AC11+AB11 -> 1183.4923 | AF11: =+(AE11/AB10-1)*100 -> 0.33700745 | AG11: =+(1+AF11/100)*AG10 -> 1.0005469 | AH11: =+(AG11-1)*100 -> 0.054691849 | AI11: =+AB11+AD11 -> 1183.4923 | AJ11: =+(AI11/AI10-1)*100 -> 0.33700745 | AK11: =+(1+AJ11/100)*AK10 -> 1.0005469 | AL11: =+(AK11-1)*100 -> 0.054691849 | AM11: 4.4 | AN11: =+((AM10/100+1)^(1/252))*AN10 -> 1.0013679 | AO11: =+(AN11/AN10-1)*100 -> 0.017088559 | AP11: =+(1+AO11/100)*AP10 -> 1.0013679 | AQ11: =+(AP11-1)*100 -> 0.13679026 | AT11: CDI a.a. | AU11: =(((1+AU8/100)^(252/NETWORKDAYS(AU4,AU5-1,Feriados!$A$1:$A$936)))-1)*100 -> 3.5930895 | AV11: =+AU11 -> 3.5930895 | AX11: CDI a.a. | AY11: =(((1+AY8/100)^(252/NETWORKDAYS(AY4,AY5-1,Feriados!$A$1:$A$936)))-1)*100 -> 3.5930895 | AZ11: =+AY11 -> 3.5930895 | BB11: CDI a.a. | BC11: =(((1+BC8/100)^(252/NETWORKDAYS(BC4,BC5-1,Feriados!$A$1:$A$936)))-1)*100 -> 3.5930895 | BD11: =(((1+BD8/100)^(252/NETWORKDAYS(BC4,BC5-1,Feriados!$A$1:$A$936)))-1)*100 -> 3.5930895
A12: =+A11+1 -> 10 | B12: 43845 | C12: 5.5116 | D12: 1121.0716 | E12: 0 | G12: =+D12+E12 -> 1121.0716 | H12: =+(G12/D11-1)*100 -> 0.27986323 | I12: =+(1+H12/100)*I11 -> 1.0079047 | J12: =+(I12-1)*100 -> 0.79046805 | K12: =+D12+F12 -> 1121.0716 | L12: =+(K12/K11-1)*100 -> 0.27986323 | M12: =+(1+L12/100)*M11 -> 1.0079047 | N12: =+(M12-1)*100 -> 0.79046805 | O12: 6.23 | P12: 1157.7056 | Q12: 0 | S12: =+P12+Q12 -> 1157.7056 | T12: =+(S12/P11-1)*100 -> 0.25766571 | U12: =+(1+T12/100)*U11 -> 1.0051721 | V12: =+(U12-1)*100 -> 0.51721276 | W12: =+P12+R12 -> 1157.7056 | X12: =+(W12/W11-1)*100 -> 0.25766571 | Y12: =+(1+X12/100)*Y11 -> 1.0051721 | Z12: =+(Y12-1)*100 -> 0.51721276 | AA12: 6.5896 | AB12: 1186.1897 | AC12: 0 | AE12: =+AC12+AB12 -> 1186.1897 | AF12: =+(AE12/AB11-1)*100 -> 0.22792265 | AG12: =+(1+AF12/100)*AG11 -> 1.0028274 | AH12: =+(AG12-1)*100 -> 0.28273915 | AI12: =+AB12+AD12 -> 1186.1897 | AJ12: =+(AI12/AI11-1)*100 -> 0.22792265 | AK12: =+(1+AJ12/100)*AK11 -> 1.0028274 | AL12: =+(AK12-1)*100 -> 0.28273915 | AM12: 4.4 | AN12: =+((AM11/100+1)^(1/252))*AN11 -> 1.001539 | AO12: =+(AN12/AN11-1)*100 -> 0.017088559 | AP12: =+(1+AO12/100)*AP11 -> 1.001539 | AQ12: =+(AP12-1)*100 -> 0.1539022 | AT12: Maior Ret. Acum | AU12: =MAX(J3:J377) -> 8.1689578 | AV12: =MAX(N3:N377) -> 8.1510895 | AX12: Maior Ret. Acum | AY12: =MAX(V3:V900) -> 9.0358205 | AZ12: =MAX(Z3:Z900) -> 8.9672477 | BB12: Maior Ret. Acum | BC12: =MAX(AH3:AH900) -> 8.4122467 | BD12: =MAX(AL3:AL900) -> 8.3154908
A13: =+A12+1 -> 11 | B13: 43846 | C13: 5.64 | D13: 1117.7149 | E13: 0 | G13: =+D13+E13 -> 1117.7149 | H13: =+(G13/D12-1)*100 -> -0.29941318 | I13: =+(1+H13/100)*I12 -> 1.0048869 | J13: =+(I13-1)*100 -> 0.48868811 | K13: =+D13+F13 -> 1117.7149 | L13: =+(K13/K12-1)*100 -> -0.29941318 | M13: =+(1+L13/100)*M12 -> 1.0048869 | N13: =+(M13-1)*100 -> 0.48868811 | O13: 6.34 | P13: 1153.0919 | Q13: 0 | S13: =+P13+Q13 -> 1153.0919 | T13: =+(S13/P12-1)*100 -> -0.39852764 | U13: =+(1+T13/100)*U12 -> 1.0011662 | V13: =+(U13-1)*100 -> 0.11662388 | W13: =+P13+R13 -> 1153.0919 | X13: =+(W13/W12-1)*100 -> -0.39852764 | Y13: =+(1+X13/100)*Y12 -> 1.0011662 | Z13: =+(Y13-1)*100 -> 0.11662388 | AA13: 6.6933 | AB13: 1180.3564 | AC13: 0 | AE13: =+AC13+AB13 -> 1180.3564 | AF13: =+(AE13/AB12-1)*100 -> -0.49176778 | AG13: =+(1+AF13/100)*AG12 -> 0.99789581 | AH13: =+(AG13-1)*100 -> -0.21041905 | AI13: =+AB13+AD13 -> 1180.3564 | AJ13: =+(AI13/AI12-1)*100 -> -0.49176778 | AK13: =+(1+AJ13/100)*AK12 -> 0.99789581 | AL13: =+(AK13-1)*100 -> -0.21041905 | AM13: 4.4 | AN13: =+((AM12/100+1)^(1/252))*AN12 -> 1.0017102 | AO13: =+(AN13/AN12-1)*100 -> 0.017088559 | AP13: =+(1+AO13/100)*AP12 -> 1.0017102 | AQ13: =+(AP13-1)*100 -> 0.17101706 | AT13: Data | AU13: =INDEX($B$2:$AQ$504,MATCH(AU12,J2:J504,0),MATCH("Data",$B$2:$AQ$2,0)) -> 44200 | AV13: =INDEX($B$2:$AQ$504,MATCH(AV12,N2:N504,0),MATCH("Data",$B$2:$AQ$2,0)) -> 44200 | AX13: Data | AY13: =INDEX($B$2:$AQ$504,MATCH(AY12,V2:V504,0),MATCH("Data",$B$2:$AQ$2,0)) -> 44200 | AZ13: =INDEX($B$2:$AQ$504,MATCH(AZ12,Z2:Z504,0),MATCH("Data",$B$2:$AQ$2,0)) -> 44200 | BB13: Data | BC13: =INDEX($B$2:$AQ$504,MATCH(BC12,AH2:AH504,0),MATCH("Data",$B$2:$AQ$2,0)) -> 44200 | BD13: =INDEX($B$2:$AQ$504,MATCH(BD12,AL2:AL504,0),MATCH("Data",$B$2:$AQ$2,0)) -> 44200
A14: =+A13+1 -> 12 | B14: 43847 | C14: 5.62 | D14: 1118.5165 | E14: 0 | G14: =+D14+E14 -> 1118.5165 | H14: =+(G14/D13-1)*100 -> 0.071716586 | I14: =+(1+H14/100)*I13 -> 1.0056076 | J14: =+(I14-1)*100 -> 0.56075517 | K14: =+D14+F14 -> 1118.5165 | L14: =+(K14/K13-1)*100 -> 0.071716586 | M14: =+(1+L14/100)*M13 -> 1.0056076 | N14: =+(M14-1)*100 -> 0.56075517 | O14: 6.29 | P14: 1155.5914 | Q14: 0 | S14: =+P14+Q14 -> 1155.5914 | T14: =+(S14/P13-1)*100 -> 0.21677215 | U14: =+(1+T14/100)*U13 -> 1.0033365 | V14: =+(U14-1)*100 -> 0.33364884 | W14: =+P14+R14 -> 1155.5914 | X14: =+(W14/W13-1)*100 -> 0.21677215 | Y14: =+(1+X14/100)*Y13 -> 1.0033365 | Z14: =+(Y14-1)*100 -> 0.33364884 | AA14: 6.62 | AB14: 1184.9889 | AC14: 0 | AE14: =+AC14+AB14 -> 1184.9889 | AF14: =+(AE14/AB13-1)*100 -> 0.39246679 | AG14: =+(1+AF14/100)*AG13 -> 1.0018122 | AH14: =+(AG14-1)*100 -> 0.18122191 | AI14: =+AB14+AD14 -> 1184.9889 | AJ14: =+(AI14/AI13-1)*100 -> 0.39246679 | AK14: =+(1+AJ14/100)*AK13 -> 1.0018122 | AL14: =+(AK14-1)*100 -> 0.18122191 | AM14: 4.4 | AN14: =+((AM13/100+1)^(1/252))*AN13 -> 1.0018813 | AO14: =+(AN14/AN13-1)*100 -> 0.017088559 | AP14: =+(1+AO14/100)*AP13 -> 1.0018813 | AQ14: =+(AP14-1)*100 -> 0.18813484 | AT14: Menor Ret. Acum | AU14: =MIN(J3:J377) -> -2.5889609 | AV14: =MIN(N3:N377) -> -2.5889609 | AX14: Menor Ret. Acum | AY14: =MIN(V3:V900) -> -7.3526017 | AZ14: =MIN(Z3:Z900) -> -7.3526017 | BB14: Menor Ret. Acum | BC14: =MIN(AH3:AH900) -> -11.588044 | BD14: =MIN(AL3:AL900) -> -11.588044
A15: =+A14+1 -> 13 | B15: 43850 | C15: 5.61 | D15: 1119.0381 | E15: 0 | G15: =+D15+E15 -> 1119.0381 | H15: =+(G15/D14-1)*100 -> 0.046634 | I15: =+(1+H15/100)*I14 -> 1.0060765 | J15: =+(I15-1)*100 -> 0.60765067 | K15: =+D15+F15 -> 1119.0381 | L15: =+(K15/K14-1)*100 -> 0.046634 | M15: =+(1+L15/100)*M14 -> 1.0060765 | N15: =+(M15-1)*100 -> 0.60765067 | O15: 6.3 | P15: 1155.4274 | Q15: 0 | S15: =+P15+Q15 -> 1155.4274 | T15: =+(S15/P14-1)*100 -> -0.01419455 | U15: =+(1+T15/100)*U14 -> 1.0031941 | V15: =+(U15-1)*100 -> 0.31940693 | W15: =+P15+R15 -> 1155.4274 | X15: =+(W15/W14-1)*100 -> -0.01419455 | Y15: =+(1+X15/100)*Y14 -> 1.0031941 | Z15: =+(Y15-1)*100 -> 0.31940693 | AA15: 6.64 | AB15: 1184.1077 | AC15: 0 | AE15: =+AC15+AB15 -> 1184.1077 | AF15: =+(AE15/AB14-1)*100 -> -0.07436947 | AG15: =+(1+AF15/100)*AG14 -> 1.0010672 | AH15: =+(AG15-1)*100 -> 0.10671767 | AI15: =+AB15+AD15 -> 1184.1077 | AJ15: =+(AI15/AI14-1)*100 -> -0.07436947 | AK15: =+(1+AJ15/100)*AK14 -> 1.0010672 | AL15: =+(AK15-1)*100 -> 0.10671767 | AM15: 4.4 | AN15: =+((AM14/100+1)^(1/252))*AN14 -> 1.0020526 | AO15: =+(AN15/AN14-1)*100 -> 0.017088559 | AP15: =+(1+AO15/100)*AP14 -> 1.0020526 | AQ15: =+(AP15-1)*100 -> 0.20525555 | AT15: Data | AU15: =INDEX($B$2:$AQ$504,MATCH(AU14,J2:J504,0),MATCH("Data",$B$2:$AQ$2,0)) -> 43913 | AV15: =INDEX($B$2:$AQ$504,MATCH(AU14,N2:N504,0),MATCH("Data",$B$2:$AQ$2,0)) -> 43913 | AX15: Data | AY15: =INDEX($B$2:$AQ$504,MATCH(AY14,V2:V504,0),MATCH("Data",$B$2:$AQ$2,0)) -> 43913 | AZ15: =INDEX($B$2:$AQ$504,MATCH(AZ14,Z2:Z504,0),MATCH("Data",$B$2:$AQ$2,0)) -> 43913 | BB15: Data | BC15: =INDEX($B$2:$AQ$504,MATCH(BC14,AH2:AH504,0),MATCH("Data",$B$2:$AQ$2,0)) -> 43913 | BD15: =INDEX($B$2:$AQ$504,MATCH(BD14,AL2:AL504,0),MATCH("Data",$B$2:$AQ$2,0)) -> 43913
A16: =+A15+1 -> 14 | B16: 43851 | C16: 5.555 | D16: 1120.8143 | E16: 0 | G16: =+D16+E16 -> 1120.8143 | H16: =+(G16/D15-1)*100 -> 0.15872051 | I16: =+(1+H16/100)*I15 -> 1.0076734 | J16: =+(I16-1)*100 -> 0.76733564 | K16: =+D16+F16 -> 1120.8143 | L16: =+(K16/K15-1)*100 -> 0.15872051 | M16: =+(1+L16/100)*M15 -> 1.0076734 | N16: =+(M16-1)*100 -> 0.76733564 | O16: 6.25 | P16: 1157.9273 | Q16: 0 | S16: =+P16+Q16 -> 1157.9273 | T16: =+(S16/P15-1)*100 -> 0.21635682 | U16: =+(1+T16/100)*U15 -> 1.0053645 | V16: =+(U16-1)*100 -> 0.53645481 | W16: =+P16+R16 -> 1157.9273 | X16: =+(W16/W15-1)*100 -> 0.21635682 | Y16: =+(1+X16/100)*Y15 -> 1.0053645 | Z16: =+(Y16-1)*100 -> 0.53645481 | AA16: 6.595 | AB16: 1187.0719 | AC16: 0 | AE16: =+AC16+AB16 -> 1187.0719 | AF16: =+(AE16/AB15-1)*100 -> 0.25033374 | AG16: =+(1+AF16/100)*AG15 -> 1.0035732 | AH16: =+(AG16-1)*100 -> 0.35731856 | AI16: =+AB16+AD16 -> 1187.0719 | AJ16: =+(AI16/AI15-1)*100 -> 0.25033374 | AK16: =+(1+AJ16/100)*AK15 -> 1.0035732 | AL16: =+(AK16-1)*100 -> 0.35731856 | AM16: 4.4 | AN16: =+((AM15/100+1)^(1/252))*AN15 -> 1.0022238 | AO16: =+(AN16/AN15-1)*100 -> 0.017088559 | AP16: =+(1+AO16/100)*AP15 -> 1.0022238 | AQ16: =+(AP16-1)*100 -> 0.22237918 | AT16: Vol. Per. Anualizada | AU16: =_xlfn.STDEV.S(H4:H377)*SQRT(252) -> 6.6865775 | AV16: =_xlfn.STDEV.S(L4:L377)*SQRT(252) -> 6.6385819 | AX16: Vol. Per. Anualizada | AY16: =_xlfn.STDEV.S(T4:T900)*SQRT(252) -> 10.068127 | AZ16: =_xlfn.STDEV.S(X4:X900)*SQRT(252) -> 9.8173644 | BB16: Vol. Per. Anualizada | BC16: =_xlfn.STDEV.S(AF4:AF900)*SQRT(252) -> 13.250973 | BD16: =_xlfn.STDEV.S(AJ4:AJ900)*SQRT(252) -> 12.882246
A17: =+A16+1 -> 15 | B17: 43852 | C17: 5.4963 | D17: 1122.6929 | E17: 0 | G17: =+D17+E17 -> 1122.6929 | H17: =+(G17/D16-1)*100 -> 0.16761243 | I17: =+(1+H17/100)*I16 -> 1.0093623 | J17: =+(I17-1)*100 -> 0.93623422 | K17: =+D17+F17 -> 1122.6929 | L17: =+(K17/K16-1)*100 -> 0.16761243 | M17: =+(1+L17/100)*M16 -> 1.0093623 | N17: =+(M17-1)*100 -> 0.93623422 | O17: 6.2063 | P17: 1160.1492 | Q17: 0 | S17: =+P17+Q17 -> 1160.1492 | T17: =+(S17/P16-1)*100 -> 0.19189116 | U17: =+(1+T17/100)*U16 -> 1.0072938 | V17: =+(U17-1)*100 -> 0.72937537 | W17: =+P17+R17 -> 1160.1492 | X17: =+(W17/W16-1)*100 -> 0.19189116 | Y17: =+(1+X17/100)*Y16 -> 1.0072938 | Z17: =+(Y17-1)*100 -> 0.72937537 | AA17: 6.5613 | AB17: 1189.3708 | AC17: 0 | AE17: =+AC17+AB17 -> 1189.3708 | AF17: =+(AE17/AB16-1)*100 -> 0.19365752 | AG17: =+(1+AF17/100)*AG16 -> 1.0055167 | AH17: =+(AG17-1)*100 -> 0.55166805 | AI17: =+AB17+AD17 -> 1189.3708 | AJ17: =+(AI17/AI16-1)*100 -> 0.19365752 | AK17: =+(1+AJ17/100)*AK16 -> 1.0055167 | AL17: =+(AK17-1)*100 -> 0.55166805 | AM17: 4.4 | AN17: =+((AM16/100+1)^(1/252))*AN16 -> 1.0023951 | AO17: =+(AN17/AN16-1)*100 -> 0.017088559 | AP17: =+(1+AO17/100)*AP16 -> 1.0023951 | AQ17: =+(AP17-1)*100 -> 0.23950574
A18: =+A17+1 -> 16 | B18: 43853 | C18: 5.528 | D18: 1122.0474 | E18: 0 | G18: =+D18+E18 -> 1122.0474 | H18: =+(G18/D17-1)*100 -> -0.057498983 | I18: =+(1+H18/100)*I17 -> 1.008782 | J18: =+(I18-1)*100 -> 0.87819691 | K18: =+D18+F18 -> 1122.0474 | L18: =+(K18/K17-1)*100 -> -0.057498983 | M18: =+(1+L18/100)*M17 -> 1.008782 | N18: =+(M18-1)*100 -> 0.87819691 | O18: 6.2256 | P18: 1159.5683 | Q18: 0 | S18: =+P18+Q18 -> 1159.5683 | T18: =+(S18/P17-1)*100 -> -0.050076144 | U18: =+(1+T18/100)*U17 -> 1.0067893 | V18: =+(U18-1)*100 -> 0.67893398 | W18: =+P18+R18 -> 1159.5683 | X18: =+(W18/W17-1)*100 -> -0.050076144 | Y18: =+(1+X18/100)*Y17 -> 1.0067893 | Z18: =+(Y18-1)*100 -> 0.67893398 | AA18: 6.5694 | AB18: 1189.1903 | AC18: 0 | AE18: =+AC18+AB18 -> 1189.1903 | AF18: =+(AE18/AB17-1)*100 -> -0.01516987 | AG18: =+(1+AF18/100)*AG17 -> 1.0053641 | AH18: =+(AG18-1)*100 -> 0.53641449 | AI18: =+AB18+AD18 -> 1189.1903 | AJ18: =+(AI18/AI17-1)*100 -> -0.01516987 | AK18: =+(1+AJ18/100)*AK17 -> 1.0053641 | AL18: =+(AK18-1)*100 -> 0.53641449 | AM18: 4.4 | AN18: =+((AM17/100+1)^(1/252))*AN17 -> 1.0025664 | AO18: =+(AN18/AN17-1)*100 -> 0.017088559 | AP18: =+(1+AO18/100)*AP17 -> 1.0025664 | AQ18: =+(AP18-1)*100 -> 0.25663523 | AT18: Taxa Entrada | AU18: =+VLOOKUP(AU4,B2:AQ504,2,FALSE) -> 5.7464 | AX18: Taxa Entrada | AY18: =+VLOOKUP(AY4,B2:AQ504,14,FALSE) -> 6.3072 | BB18: Taxa Entrada | BC18: =+VLOOKUP(BC4,B2:AQ504,26,FALSE) -> 6.6004
A19: =+A18+1 -> 17 | B19: 43854 | C19: 5.5198 | D19: 1122.5152 | E19: 0 | G19: =+D19+E19 -> 1122.5152 | H19: =+(G19/D18-1)*100 -> 0.041696992 | I19: =+(1+H19/100)*I18 -> 1.0092026 | J19: =+(I19-1)*100 -> 0.92026008 | K19: =+D19+F19 -> 1122.5152 | L19: =+(K19/K18-1)*100 -> 0.041696992 | M19: =+(1+L19/100)*M18 -> 1.0092026 | N19: =+(M19-1)*100 -> 0.92026008 | O19: 6.2064 | P19: 1160.6993 | Q19: 0 | S19: =+P19+Q19 -> 1160.6993 | T19: =+(S19/P18-1)*100 -> 0.097541476 | U19: =+(1+T19/100)*U18 -> 1.0077714 | V19: =+(U19-1)*100 -> 0.7771377 | W19: =+P19+R19 -> 1160.6993 | X19: =+(W19/W18-1)*100 -> 0.097541476 | Y19: =+(1+X19/100)*Y18 -> 1.0077714 | Z19: =+(Y19-1)*100 -> 0.7771377 | AA19: 6.54 | AB19: 1191.2347 | AC19: 0 | AE19: =+AC19+AB19 -> 1191.2347 | AF19: =+(AE19/AB18-1)*100 -> 0.1719131 | AG19: =+(1+AF19/100)*AG18 -> 1.0070925 | AH19: =+(AG19-1)*100 -> 0.70924976 | AI19: =+AB19+AD19 -> 1191.2347 | AJ19: =+(AI19/AI18-1)*100 -> 0.1719131 | AK19: =+(1+AJ19/100)*AK18 -> 1.0070925 | AL19: =+(AK19-1)*100 -> 0.70924976 | AM19: 4.4 | AN19: =+((AM18/100+1)^(1/252))*AN18 -> 1.0027377 | AO19: =+(AN19/AN18-1)*100 -> 0.017088559 | AP19: =+(1+AO19/100)*AP18 -> 1.0027377 | AQ19: =+(AP19-1)*100 -> 0.27376764 | AT19: Taxa de Saída | AU19: =+VLOOKUP(AU5,B2:AQ504,2,FALSE) -> 11.8601 | AX19: Taxa de Saída | AY19: =+VLOOKUP(AY5,B3:AQ505,14,FALSE) -> 10.6986 | BB19: Taxa de Saída | BC19: =+VLOOKUP(BC5,B2:AQ504,26,FALSE) -> 10.7102
A20: =+A19+1 -> 18 | B20: 43857 | C20: 5.47 | D20: 1124.1405 | E20: 0 | G20: =+D20+E20 -> 1124.1405 | H20: =+(G20/D19-1)*100 -> 0.14478592 | I20: =+(1+H20/100)*I19 -> 1.0106638 | J20: =+(I20-1)*100 -> 1.0663784 | K20: =+D20+F20 -> 1124.1405 | L20: =+(K20/K19-1)*100 -> 0.14478592 | M20: =+(1+L20/100)*M19 -> 1.0106638 | N20: =+(M20-1)*100 -> 1.0663784 | O20: 6.175 | P20: 1162.3727 | Q20: 0 | S20: =+P20+Q20 -> 1162.3727 | T20: =+(S20/P19-1)*100 -> 0.14417239 | U20: =+(1+T20/100)*U19 -> 1.0092243 | V20: =+(U20-1)*100 -> 0.92243051 | W20: =+P20+R20 -> 1162.3727 | X20: =+(W20/W19-1)*100 -> 0.14417239 | Y20: =+(1+X20/100)*Y19 -> 1.0092243 | Z20: =+(Y20-1)*100 -> 0.92243051 | AA20: 6.5172 | AB20: 1192.8885 | AC20: 0 | AE20: =+AC20+AB20 -> 1192.8885 | AF20: =+(AE20/AB19-1)*100 -> 0.13882923 | AG20: =+(1+AF20/100)*AG19 -> 1.0084906 | AH20: =+(AG20-1)*100 -> 0.84906364 | AI20: =+AB20+AD20 -> 1192.8885 | AJ20: =+(AI20/AI19-1)*100 -> 0.13882923 | AK20: =+(1+AJ20/100)*AK19 -> 1.0084906 | AL20: =+(AK20-1)*100 -> 0.84906364 | AM20: 4.4 | AN20: =+((AM19/100+1)^(1/252))*AN19 -> 1.002909 | AO20: =+(AN20/AN19-1)*100 -> 0.017088559 | AP20: =+(1+AO20/100)*AP19 -> 1.002909 | AQ20: =+(AP20-1)*100 -> 0.29090299 | AT20: Diferença | AU20: =+AU19-AU18 -> 6.1137 | AX20: Diferença | AY20: =+AY19-AY18 -> 4.3914 | BB20: Diferença | BC20: =+BC19-BC18 -> 4.1098
A21: =+A20+1 -> 19 | B21: 43858 | C21: 5.46 | D21: 1124.6563 | E21: 0 | G21: =+D21+E21 -> 1124.6563 | H21: =+(G21/D20-1)*100 -> 0.045885903 | I21: =+(1+H21/100)*I20 -> 1.0111275 | J21: =+(I21-1)*100 -> 1.1127536 | K21: =+D21+F21 -> 1124.6563 | L21: =+(K21/K20-1)*100 -> 0.045885903 | M21: =+(1+L21/100)*M20 -> 1.0111275 | N21: =+(M21-1)*100 -> 1.1127536 | O21: 6.1183 | P21: 1165.174 | Q21: 0 | S21: =+P21+Q21 -> 1165.174 | T21: =+(S21/P20-1)*100 -> 0.24099215 | U21: =+(1+T21/100)*U20 -> 1.0116565 | V21: =+(U21-1)*100 -> 1.1656456 | W21: =+P21+R21 -> 1165.174 | X21: =+(W21/W20-1)*100 -> 0.24099215 | Y21: =+(1+X21/100)*Y20 -> 1.0116565 | Z21: =+(Y21-1)*100 -> 1.1656456 | AA21: 6.4585 | AB21: 1196.682 | AC21: 0 | AE21: =+AC21+AB21 -> 1196.682 | AF21: =+(AE21/AB20-1)*100 -> 0.31800936 | AG21: =+(1+AF21/100)*AG20 -> 1.0116977 | AH21: =+(AG21-1)*100 -> 1.1697731 | AI21: =+AB21+AD21 -> 1196.682 | AJ21: =+(AI21/AI20-1)*100 -> 0.31800936 | AK21: =+(1+AJ21/100)*AK20 -> 1.0116977 | AL21: =+(AK21-1)*100 -> 1.1697731 | AM21: 4.4 | AN21: =+((AM20/100+1)^(1/252))*AN20 -> 1.0030804 | AO21: =+(AN21/AN20-1)*100 -> 0.017088559 | AP21: =+(1+AO21/100)*AP20 -> 1.0030804 | AQ21: =+(AP21-1)*100 -> 0.30804126 | AT21: Máxima | AU21: =MAX(C3:C504) -> 12.4335 | AX21: Máxima | AY21: =MAX(O3:O504) -> 12.4649 | BB21: Máxima | BC21: =MAX(AA3:AA504) -> 12.4273
A22: =+A21+1 -> 20 | B22: 43859 | C22: 5.455 | D22: 1125.0325 | E22: 0 | G22: =+D22+E22 -> 1125.0325 | H22: =+(G22/D21-1)*100 -> 0.033454577 | I22: =+(1+H22/100)*I21 -> 1.0114658 | J22: =+(I22-1)*100 -> 1.1465805 | K22: =+D22+F22 -> 1125.0325 | L22: =+(K22/K21-1)*100 -> 0.033454577 | M22: =+(1+L22/100)*M21 -> 1.0114658 | N22: =+(M22-1)*100 -> 1.1465805 | O22: 6.1034 | P22: 1166.1128 | Q22: 0 | S22: =+P22+Q22 -> 1166.1128 | T22: =+(S22/P21-1)*100 -> 0.08057578 | U22: =+(1+T22/100)*U21 -> 1.0124716 | V22: =+(U22-1)*100 -> 1.2471607 | W22: =+P22+R22 -> 1166.1128 | X22: =+(W22/W21-1)*100 -> 0.08057578 | Y22: =+(1+X22/100)*Y21 -> 1.0124716 | Z22: =+(Y22-1)*100 -> 1.2471607 | AA22: 6.4539 | AB22: 1197.2535 | AC22: 0 | AE22: =+AC22+AB22 -> 1197.2535 | AF22: =+(AE22/AB21-1)*100 -> 0.047760392 | AG22: =+(1+AF22/100)*AG21 -> 1.0121809 | AH22: =+(AG22-1)*100 -> 1.2180922 | AI22: =+AB22+AD22 -> 1197.2535 | AJ22: =+(AI22/AI21-1)*100 -> 0.047760392 | AK22: =+(1+AJ22/100)*AK21 -> 1.0121809 | AL22: =+(AK22-1)*100 -> 1.2180922 | AM22: 4.4 | AN22: =+((AM21/100+1)^(1/252))*AN21 -> 1.0032518 | AO22: =+(AN22/AN21-1)*100 -> 0.017088559 | AP22: =+(1+AO22/100)*AP21 -> 1.0032518 | AQ22: =+(AP22-1)*100 -> 0.32518246 | AT22: Data | AU22: =INDEX($B$2:$AQ$504,MATCH(AU21,C2:C504,0),MATCH("Data",$B$2:$AQ$2,0)) -> 44497 | AX22: Data | AY22: =INDEX($B$2:$AQ$504,MATCH(AY21,O2:O504,0),MATCH("Data",$B$2:$AQ$2,0)) -> 44497 | BB22: Data | BC22: =INDEX($B$2:$AQ$504,MATCH(BC21,AA2:AA504,0),MATCH("Data",$B$2:$AQ$2,0)) -> 44501
A23: =+A22+1 -> 21 | B23: 43860 | C23: 5.475 | D23: 1124.7147 | E23: 0 | G23: =+D23+E23 -> 1124.7147 | H23: =+(G23/D22-1)*100 -> -0.028252161 | I23: =+(1+H23/100)*I22 -> 1.01118 | J23: =+(I23-1)*100 -> 1.1180044 | K23: =+D23+F23 -> 1124.7147 | L23: =+(K23/K22-1)*100 -> -0.028252161 | M23: =+(1+L23/100)*M22 -> 1.01118 | N23: =+(M23-1)*100 -> 1.1180044 | O23: 6.13 | P23: 1165.2024 | Q23: 0 | S23: =+P23+Q23 -> 1165.2024 | T23: =+(S23/P22-1)*100 -> -0.078071435 | U23: =+(1+T23/100)*U22 -> 1.0116812 | V23: =+(U23-1)*100 -> 1.1681155 | W23: =+P23+R23 -> 1165.2024 | X23: =+(W23/W22-1)*100 -> -0.078071435 | Y23: =+(1+X23/100)*Y22 -> 1.0116812 | Z23: =+(Y23-1)*100 -> 1.1681155 | AA23: 6.47 | AB23: 1196.5915 | AC23: 0 | AE23: =+AC23+AB23 -> 1196.5915 | AF23: =+(AE23/AB22-1)*100 -> -0.055296058 | AG23: =+(1+AF23/100)*AG22 -> 1.0116212 | AH23: =+(AG23-1)*100 -> 1.1621226 | AI23: =+AB23+AD23 -> 1196.5915 | AJ23: =+(AI23/AI22-1)*100 -> -0.055296058 | AK23: =+(1+AJ23/100)*AK22 -> 1.0116212 | AL23: =+(AK23-1)*100 -> 1.1621226 | AM23: 4.4 | AN23: =+((AM22/100+1)^(1/252))*AN22 -> 1.0034233 | AO23: =+(AN23/AN22-1)*100 -> 0.017088559 | AP23: =+(1+AO23/100)*AP22 -> 1.0034233 | AQ23: =+(AP23-1)*100 -> 0.34232658 | AT23: Mínima | AU23: =MIN(C3:C504) -> 3.6848 | AX23: Mínima | AY23: =MIN(O3:O504) -> 5.0268 | BB23: Mínima | BC23: =MIN(AA3:AA504) -> 5.865
A24: =+A23+1 -> 22 | B24: 43861 | C24: 5.495 | D24: 1124.3988 | E24: 0 | G24: =+D24+E24 -> 1124.3988 | H24: =+(G24/D23-1)*100 -> -0.02809068 | I24: =+(1+H24/100)*I23 -> 1.010896 | J24: =+(I24-1)*100 -> 1.0895996 | K24: =+D24+F24 -> 1124.3988 | L24: =+(K24/K23-1)*100 -> -0.02809068 | M24: =+(1+L24/100)*M23 -> 1.010896 | N24: =+(M24-1)*100 -> 1.0895996 | O24: 6.14 | P24: 1165.033 | Q24: 0 | S24: =+P24+Q24 -> 1165.033 | T24: =+(S24/P23-1)*100 -> -0.014542538 | U24: =+(1+T24/100)*U23 -> 1.011534 | V24: =+(U24-1)*100 -> 1.1534031 | W24: =+P24+R24 -> 1165.033 | X24: =+(W24/W23-1)*100 -> -0.014542538 | Y24: =+(1+X24/100)*Y23 -> 1.011534 | Z24: =+(Y24-1)*100 -> 1.1534031 | AA24: 6.48 | AB24: 1196.2943 | AC24: 0 | AE24: =+AC24+AB24 -> 1196.2943 | AF24: =+(AE24/AB23-1)*100 -> -0.024839722 | AG24: =+(1+AF24/100)*AG23 -> 1.0113699 | AH24: =+(AG24-1)*100 -> 1.1369942 | AI24: =+AB24+AD24 -> 1196.2943 | AJ24: =+(AI24/AI23-1)*100 -> -0.024839722 | AK24: =+(1+AJ24/100)*AK23 -> 1.0113699 | AL24: =+(AK24-1)*100 -> 1.1369942 | AM24: 4.4 | AN24: =+((AM23/100+1)^(1/252))*AN23 -> 1.0035947 | AO24: =+(AN24/AN23-1)*100 -> 0.017088559 | AP24: =+(1+AO24/100)*AP23 -> 1.0035947 | AQ24: =+(AP24-1)*100 -> 0.35947364 | AT24: Data | AU24: =INDEX(B2:AQ504,MATCH(AU23,C2:C504,0),MATCH("Data",B2:AQ2,0)) -> 44049 | AX24: Data | AY24: =INDEX($B$2:$AQ$504,MATCH(AY23,O4:O506,0),MATCH("Data",$B$2:$AQ$2,0)) -> 44042 | BB24: Data | BC24: =INDEX($B$2:$AQ$504,MATCH(BC23,AA4:AA506,0),MATCH("Data",$B$2:$AQ$2,0)) -> 44042
A25: =+A24+1 -> 23 | B25: 43864 | C25: 5.437 | D25: 1126.2427 | E25: 0 | G25: =+D25+E25 -> 1126.2427 | H25: =+(G25/D24-1)*100 -> 0.16399004 | I25: =+(1+H25/100)*I24 -> 1.0125538 | J25: =+(I25-1)*100 -> 1.2553765 | K25: =+D25+F25 -> 1126.2427 | L25: =+(K25/K24-1)*100 -> 0.16399004 | M25: =+(1+L25/100)*M24 -> 1.0125538 | N25: =+(M25-1)*100 -> 1.2553765 | O25: 6.08 | P25: 1167.9774 | Q25: 0 | S25: =+P25+Q25 -> 1167.9774 | T25: =+(S25/P24-1)*100 -> 0.25273689 | U25: =+(1+T25/100)*U24 -> 1.0140906 | V25: =+(U25-1)*100 -> 1.4090551 | W25: =+P25+R25 -> 1167.9774 | X25: =+(W25/W24-1)*100 -> 0.25273689 | Y25: =+(1+X25/100)*Y24 -> 1.0140906 | Z25: =+(Y25-1)*100 -> 1.4090551 | AA25: 6.4 | AB25: 1201.3609 | AC25: 0 | AE25: =+AC25+AB25 -> 1201.3609 | AF25: =+(AE25/AB24-1)*100 -> 0.42353058 | AG25: =+(1+AF25/100)*AG24 -> 1.0156534 | AH25: =+(AG25-1)*100 -> 1.5653403 | AI25: =+AB25+AD25 -> 1201.3609 | AJ25: =+(AI25/AI24-1)*100 -> 0.42353058 | AK25: =+(1+AJ25/100)*AK24 -> 1.0156534 | AL25: =+(AK25-1)*100 -> 1.5653403 | AM25: 4.4 | AN25: =+((AM24/100+1)^(1/252))*AN24 -> 1.0037662 | AO25: =+(AN25/AN24-1)*100 -> 0.017088559 | AP25: =+(1+AO25/100)*AP24 -> 1.0037662 | AQ25: =+(AP25-1)*100 -> 0.37662363 | AT25: Ampliude | AU25: =+AU21-AU23 -> 8.7487 | AX25: Ampliude | AY25: =+AY21-AY23 -> 7.4381 | BB25: Ampliude | BC25: =+BC21-BC23 -> 6.5623
A26: =+A25+1 -> 24 | B26: 43865 | C26: 5.4351 | D26: 1126.5319 | E26: 0 | G26: =+D26+E26 -> 1126.5319 | H26: =+(G26/D25-1)*100 -> 0.025679368 | I26: =+(1+H26/100)*I25 -> 1.0128138 | J26: =+(I26-1)*100 -> 1.2813783 | K26: =+D26+F26 -> 1126.5319 | L26: =+(K26/K25-1)*100 -> 0.025679368 | M26: =+(1+L26/100)*M25 -> 1.0128138 | N26: =+(M26-1)*100 -> 1.2813783 | O26: 6.05 | P26: 1169.5876 | Q26: 0 | S26: =+P26+Q26 -> 1169.5876 | T26: =+(S26/P25-1)*100 -> 0.13786328 | U26: =+(1+T26/100)*U25 -> 1.0154886 | V26: =+(U26-1)*100 -> 1.5488609 | W26: =+P26+R26 -> 1169.5876 | X26: =+(W26/W25-1)*100 -> 0.13786328 | Y26: =+(1+X26/100)*Y25 -> 1.0154886 | Z26: =+(Y26-1)*100 -> 1.5488609 | AA26: 6.3667 | AB26: 1203.6483 | AC26: 0 | AE26: =+AC26+AB26 -> 1203.6483 | AF26: =+(AE26/AB25-1)*100 -> 0.19039449 | AG26: =+(1+AF26/100)*AG25 -> 1.0175872 | AH26: =+(AG26-1)*100 -> 1.7587151 | AI26: =+AB26+AD26 -> 1203.6483 | AJ26: =+(AI26/AI25-1)*100 -> 0.19039449 | AK26: =+(1+AJ26/100)*AK25 -> 1.0175872 | AL26: =+(AK26-1)*100 -> 1.7587151 | AM26: 4.4 | AN26: =+((AM25/100+1)^(1/252))*AN25 -> 1.0039378 | AO26: =+(AN26/AN25-1)*100 -> 0.017088559 | AP26: =+(1+AO26/100)*AP25 -> 1.0039378 | AQ26: =+(AP26-1)*100 -> 0.39377655 | AT26: Média | AU26: =AVERAGE(C3:C504) -> 6.3860446 | AX26: Média | AY26: =AVERAGE(O3:O504) -> 7.4697181 | BB26: Média | BC26: =AVERAGE(AA3:AA504) -> 8.0458982
A27: =+A26+1 -> 25 | B27: 43866 | C27: 5.407 | D27: 1127.5454 | E27: 0 | G27: =+D27+E27 -> 1127.5454 | H27: =+(G27/D26-1)*100 -> 0.08996674 | I27: =+(1+H27/100)*I26 -> 1.013725 | J27: =+(I27-1)*100 -> 1.3724978 | K27: =+D27+F27 -> 1127.5454 | L27: =+(K27/K26-1)*100 -> 0.08996674 | M27: =+(1+L27/100)*M26 -> 1.013725 | N27: =+(M27-1)*100 -> 1.3724978 | O27: 5.9869 | P27: 1172.6764 | Q27: 0 | S27: =+P27+Q27 -> 1172.6764 | T27: =+(S27/P26-1)*100 -> 0.26408872 | U27: =+(1+T27/100)*U26 -> 1.0181704 | V27: =+(U27-1)*100 -> 1.81704 | W27: =+P27+R27 -> 1172.6764 | X27: =+(W27/W26-1)*100 -> 0.26408872 | Y27: =+(1+X27/100)*Y26 -> 1.0181704 | Z27: =+(Y27-1)*100 -> 1.81704 | AA27: 6.2851 | AB27: 1208.8399 | AC27: 0 | AE27: =+AC27+AB27 -> 1208.8399 | AF27: =+(AE27/AB26-1)*100 -> 0.43132244 | AG27: =+(1+AF27/100)*AG26 -> 1.0219762 | AH27: =+(AG27-1)*100 -> 2.1976233 | AI27: =+AB27+AD27 -> 1208.8399 | AJ27: =+(AI27/AI26-1)*100 -> 0.43132244 | AK27: =+(1+AJ27/100)*AK26 -> 1.0219762 | AL27: =+(AK27-1)*100 -> 2.1976233 | AM27: 4.4 | AN27: =+((AM26/100+1)^(1/252))*AN26 -> 1.0041093 | AO27: =+(AN27/AN26-1)*100 -> 0.017088559 | AP27: =+(1+AO27/100)*AP26 -> 1.0041093 | AQ27: =+(AP27-1)*100 -> 0.4109324
A28: =+A27+1 -> 26 | B28: 43867 | C28: 5.5281 | D28: 1124.4429 | E28: 0 | G28: =+D28+E28 -> 1124.4429 | H28: =+(G28/D27-1)*100 -> -0.27515017 | I28: =+(1+H28/100)*I27 -> 1.0109357 | J28: =+(I28-1)*100 -> 1.0935712 | K28: =+D28+F28 -> 1124.4429 | L28: =+(K28/K27-1)*100 -> -0.27515017 | M28: =+(1+L28/100)*M27 -> 1.0109357 | N28: =+(M28-1)*100 -> 1.0935712 | O28: 6.0758 | P28: 1168.9851 | Q28: 0 | S28: =+P28+Q28 -> 1168.9851 | T28: =+(S28/P27-1)*100 -> -0.31477252 | U28: =+(1+T28/100)*U27 -> 1.0149655 | V28: =+(U28-1)*100 -> 1.496548 | W28: =+P28+R28 -> 1168.9851 | X28: =+(W28/W27-1)*100 -> -0.31477252 | Y28: =+(1+X28/100)*Y27 -> 1.0149655 | Z28: =+(Y28-1)*100 -> 1.496548 | AA28: 6.368 | AB28: 1204.1603 | AC28: 0 | AE28: =+AC28+AB28 -> 1204.1603 | AF28: =+(AE28/AB27-1)*100 -> -0.38711455 | AG28: =+(1+AF28/100)*AG27 -> 1.01802 | AH28: =+(AG28-1)*100 -> 1.8020014 | AI28: =+AB28+AD28 -> 1204.1603 | AJ28: =+(AI28/AI27-1)*100 -> -0.38711455 | AK28: =+(1+AJ28/100)*AK27 -> 1.01802 | AL28: =+(AK28-1)*100 -> 1.8020014 | AM28: 4.15 | AN28: =+((AM27/100+1)^(1/252))*AN27 -> 1.0042809 | AO28: =+(AN28/AN27-1)*100 -> 0.017088559 | AP28: =+(1+AO28/100)*AP27 -> 1.0042809 | AQ28: =+(AP28-1)*100 -> 0.42809118
A29: =+A28+1 -> 27 | B29: 43868 | C29: 5.5486 | D29: 1124.1201 | E29: 0 | G29: =+D29+E29 -> 1124.1201 | H29: =+(G29/D28-1)*100 -> -0.028706304 | I29: =+(1+H29/100)*I28 -> 1.0106455 | J29: =+(I29-1)*100 -> 1.064551 | K29: =+D29+F29 -> 1124.1201 | L29: =+(K29/K28-1)*100 -> -0.028706304 | M29: =+(1+L29/100)*M28 -> 1.0106455 | N29: =+(M29-1)*100 -> 1.064551 | O29: 6.135 | P29: 1166.6326 | Q29: 0 | S29: =+P29+Q29 -> 1166.6326 | T29: =+(S29/P28-1)*100 -> -0.2012414 | U29: =+(1+T29/100)*U28 -> 1.0129229 | V29: =+(U29-1)*100 -> 1.2922949 | W29: =+P29+R29 -> 1166.6326 | X29: =+(W29/W28-1)*100 -> -0.2012414 | Y29: =+(1+X29/100)*Y28 -> 1.0129229 | Z29: =+(Y29-1)*100 -> 1.2922949 | AA29: 6.45 | AB29: 1199.5671 | AC29: 0 | AE29: =+AC29+AB29 -> 1199.5671 | AF29: =+(AE29/AB28-1)*100 -> -0.38144142 | AG29: =+(1+AF29/100)*AG28 -> 1.0141369 | AH29: =+(AG29-1)*100 -> 1.4136864 | AI29: =+AB29+AD29 -> 1199.5671 | AJ29: =+(AI29/AI28-1)*100 -> -0.38144142 | AK29: =+(1+AJ29/100)*AK28 -> 1.0141369 | AL29: =+(AK29-1)*100 -> 1.4136864 | AM29: 4.15 | AN29: =+((AM28/100+1)^(1/252))*AN28 -> 1.004443 | AO29: =+(AN29/AN28-1)*100 -> 0.016137009 | AP29: =+(1+AO29/100)*AP28 -> 1.004443 | AQ29: =+(AP29-1)*100 -> 0.44429727
A30: =+A29+1 -> 28 | B30: 43871 | C30: 5.5088 | D30: 1125.4528 | E30: 0 | G30: =+D30+E30 -> 1125.4528 | H30: =+(G30/D29-1)*100 -> 0.11855468 | I30: =+(1+H30/100)*I29 -> 1.0118437 | J30: =+(I30-1)*100 -> 1.1843677 | K30: =+D30+F30 -> 1125.4528 | L30: =+(K30/K29-1)*100 -> 0.11855468 | M30: =+(1+L30/100)*M29 -> 1.0118437 | N30: =+(M30-1)*100 -> 1.1843677 | O30: 6.085 | P30: 1169.1241 | Q30: 0 | S30: =+P30+Q30 -> 1169.1241 | T30: =+(S30/P29-1)*100 -> 0.21356346 | U30: =+(1+T30/100)*U29 -> 1.0150862 | V30: =+(U30-1)*100 -> 1.5086182 | W30: =+P30+R30 -> 1169.1241 | X30: =+(W30/W29-1)*100 -> 0.21356346 | Y30: =+(1+X30/100)*Y29 -> 1.0150862 | Z30: =+(Y30-1)*100 -> 1.5086182 | AA30: 6.38 | AB30: 1204.0337 | AC30: 0 | AE30: =+AC30+AB30 -> 1204.0337 | AF30: =+(AE30/AB29-1)*100 -> 0.37235266 | AG30: =+(1+AF30/100)*AG29 -> 1.017913 | AH30: =+(AG30-1)*100 -> 1.7913029 | AI30: =+AB30+AD30 -> 1204.0337 | AJ30: =+(AI30/AI29-1)*100 -> 0.37235266 | AK30: =+(1+AJ30/100)*AK29 -> 1.017913 | AL30: =+(AK30-1)*100 -> 1.7913029 | AM30: 4.15 | AN30: =+((AM29/100+1)^(1/252))*AN29 -> 1.0046051 | AO30: =+(AN30/AN29-1)*100 -> 0.016137009 | AP30: =+(1+AO30/100)*AP29 -> 1.0046051 | AQ30: =+(AP30-1)*100 -> 0.46050597
A31: =+A30+1 -> 29 | B31: 43872 | C31: 5.41 | D31: 1128.4057 | E31: 0 | G31: =+D31+E31 -> 1128.4057 | H31: =+(G31/D30-1)*100 -> 0.26237021 | I31: =+(1+H31/100)*I30 -> 1.0144985 | J31: =+(I31-1)*100 -> 1.4498454 | K31: =+D31+F31 -> 1128.4057 | L31: =+(K31/K30-1)*100 -> 0.26237021 | M31: =+(1+L31/100)*M30 -> 1.0144985 | N31: =+(M31-1)*100 -> 1.4498454 | O31: 6.0026 | P31: 1173.0598 | Q31: 0 | S31: =+P31+Q31 -> 1173.0598 | T31: =+(S31/P30-1)*100 -> 0.33662995 | U31: =+(1+T31/100)*U30 -> 1.0185033 | V31: =+(U31-1)*100 -> 1.8503266 | W31: =+P31+R31 -> 1173.0598 | X31: =+(W31/W30-1)*100 -> 0.33662995 | Y31: =+(1+X31/100)*Y30 -> 1.0185033 | Z31: =+(Y31-1)*100 -> 1.8503266 | AA31: 6.32 | AB31: 1207.9166 | AC31: 0 | AE31: =+AC31+AB31 -> 1207.9166 | AF31: =+(AE31/AB30-1)*100 -> 0.32249346 | AG31: =+(1+AF31/100)*AG30 -> 1.0211957 | AH31: =+(AG31-1)*100 -> 2.1195732 | AI31: =+AB31+AD31 -> 1207.9166 | AJ31: =+(AI31/AI30-1)*100 -> 0.32249346 | AK31: =+(1+AJ31/100)*AK30 -> 1.0211957 | AL31: =+(AK31-1)*100 -> 2.1195732 | AM31: 4.15 | AN31: =+((AM30/100+1)^(1/252))*AN30 -> 1.0047672 | AO31: =+(AN31/AN30-1)*100 -> 0.016137009 | AP31: =+(1+AO31/100)*AP30 -> 1.0047672 | AQ31: =+(AP31-1)*100 -> 0.47671729
A32: =+A31+1 -> 30 | B32: 43873 | C32: 5.355 | D32: 1130.1542 | E32: 0 | G32: =+D32+E32 -> 1130.1542 | H32: =+(G32/D31-1)*100 -> 0.15495544 | I32: =+(1+H32/100)*I31 -> 1.0160705 | J32: =+(I32-1)*100 -> 1.6070474 | K32: =+D32+F32 -> 1130.1542 | L32: =+(K32/K31-1)*100 -> 0.15495544 | M32: =+(1+L32/100)*M31 -> 1.0160705 | N32: =+(M32-1)*100 -> 1.6070474 | O32: 5.9644 | P32: 1175.0327 | Q32: 0 | S32: =+P32+Q32 -> 1175.0327 | T32: =+(S32/P31-1)*100 -> 0.16818453 | U32: =+(1+T32/100)*U31 -> 1.0202162 | V32: =+(U32-1)*100 -> 2.0216231 | W32: =+P32+R32 -> 1175.0327 | X32: =+(W32/W31-1)*100 -> 0.16818453 | Y32: =+(1+X32/100)*Y31 -> 1.0202162 | Z32: =+(Y32-1)*100 -> 2.0216231 | AA32: 6.29 | AB32: 1210.0087 | AC32: 0 | AE32: =+AC32+AB32 -> 1210.0087 | AF32: =+(AE32/AB31-1)*100 -> 0.17319349 | AG32: =+(1+AF32/100)*AG31 -> 1.0229644 | AH32: =+(AG32-1)*100 -> 2.2964377 | AI32: =+AB32+AD32 -> 1210.0087 | AJ32: =+(AI32/AI31-1)*100 -> 0.17319349 | AK32: =+(1+AJ32/100)*AK31 -> 1.0229644 | AL32: =+(AK32-1)*100 -> 2.2964377 | AM32: 4.15 | AN32: =+((AM31/100+1)^(1/252))*AN31 -> 1.0049293 | AO32: =+(AN32/AN31-1)*100 -> 0.016137009 | AP32: =+(1+AO32/100)*AP31 -> 1.0049293 | AQ32: =+(AP32-1)*100 -> 0.49293123
A33: =+A32+1 -> 31 | B33: 43874 | C33: 5.395 | D33: 1129.2893 | E33: 0 | G33: =+D33+E33 -> 1129.2893 | H33: =+(G33/D32-1)*100 -> -0.076529821 | I33: =+(1+H33/100)*I32 -> 1.0152929 | J33: =+(I33-1)*100 -> 1.5292877 | K33: =+D33+F33 -> 1129.2893 | L33: =+(K33/K32-1)*100 -> -0.076529821 | M33: =+(1+L33/100)*M32 -> 1.0152929 | N33: =+(M33-1)*100 -> 1.5292877 | O33: 6.0144 | P33: 1173.0781 | Q33: 0 | S33: =+P33+Q33 -> 1173.0781 | T33: =+(S33/P32-1)*100 -> -0.16634312 | U33: =+(1+T33/100)*U32 -> 1.0185192 | V33: =+(U33-1)*100 -> 1.8519172 | W33: =+P33+R33 -> 1173.0781 | X33: =+(W33/W32-1)*100 -> -0.16634312 | Y33: =+(1+X33/100)*Y32 -> 1.0185192 | Z33: =+(Y33-1)*100 -> 1.8519172 | AA33: 6.34 | AB33: 1207.3081 | AC33: 0 | AE33: =+AC33+AB33 -> 1207.3081 | AF33: =+(AE33/AB32-1)*100 -> -0.22318732 | AG33: =+(1+AF33/100)*AG32 -> 1.0206813 | AH33: =+(AG33-1)*100 -> 2.068125 | AI33: =+AB33+AD33 -> 1207.3081 | AJ33: =+(AI33/AI32-1)*100 -> -0.22318732 | AK33: =+(1+AJ33/100)*AK32 -> 1.0206813 | AL33: =+(AK33-1)*100 -> 2.068125 | AM33: 4.15 | AN33: =+((AM32/100+1)^(1/252))*AN32 -> 1.0050915 | AO33: =+(AN33/AN32-1)*100 -> 0.016137009 | AP33: =+(1+AO33/100)*AP32 -> 1.0050915 | AQ33: =+(AP33-1)*100 -> 0.50914778
A34: =+A33+1 -> 32 | B34: 43875 | C34: 5.255 | D34: 1133.3726 | E34: 0 | G34: =+D34+E34 -> 1133.3726 | H34: =+(G34/D33-1)*100 -> 0.36157634 | I34: =+(1+H34/100)*I33 -> 1.0189639 | J34: =+(I34-1)*100 -> 1.8963936 | K34: =+D34+F34 -> 1133.3726 | L34: =+(K34/K33-1)*100 -> 0.36157634 | M34: =+(1+L34/100)*M33 -> 1.0189639 | N34: =+(M34-1)*100 -> 1.8963936 | O34: 5.89 | P34: 1178.8917 | Q34: 0 | S34: =+P34+Q34 -> 1178.8917 | T34: =+(S34/P33-1)*100 -> 0.49558696 | U34: =+(1+T34/100)*U33 -> 1.0235668 | V34: =+(U34-1)*100 -> 2.356682 | W34: =+P34+R34 -> 1178.8917 | X34: =+(W34/W33-1)*100 -> 0.49558696 | Y34: =+(1+X34/100)*Y33 -> 1.0235668 | Z34: =+(Y34-1)*100 -> 2.356682 | AA34: 6.2249 | AB34: 1214.5054 | AC34: 0 | AE34: =+AC34+AB34 -> 1214.5054 | AF34: =+(AE34/AB33-1)*100 -> 0.59614468 | AG34: =+(1+AF34/100)*AG33 -> 1.026766 | AH34: =+(AG34-1)*100 -> 2.6765987 | AI34: =+AB34+AD34 -> 1214.5054 | AJ34: =+(AI34/AI33-1)*100 -> 0.59614468 | AK34: =+(1+AJ34/100)*AK33 -> 1.026766 | AL34: =+(AK34-1)*100 -> 2.6765987 | AM34: 4.15 | AN34: =+((AM33/100+1)^(1/252))*AN33 -> 1.0052537 | AO34: =+(AN34/AN33-1)*100 -> 0.016137009 | AP34: =+(1+AO34/100)*AP33 -> 1.0052537 | AQ34: =+(AP34-1)*100 -> 0.52536695
A35: =+A34+1 -> 33 | B35: 43878 | C35: 5.245 | D35: 1133.8781 | E35: 0 | G35: =+D35+E35 -> 1133.8781 | H35: =+(G35/D34-1)*100 -> 0.044607397 | I35: =+(1+H35/100)*I34 -> 1.0194185 | J35: =+(I35-1)*100 -> 1.941847 | K35: =+D35+F35 -> 1133.8781 | L35: =+(K35/K34-1)*100 -> 0.044607397 | M35: =+(1+L35/100)*M34 -> 1.0194185 | N35: =+(M35-1)*100 -> 1.941847 | O35: 5.9038 | P35: 1178.5434 | Q35: 0 | S35: =+P35+Q35 -> 1178.5434 | T35: =+(S35/P34-1)*100 -> -0.02954419 | U35: =+(1+T35/100)*U34 -> 1.0232644 | V35: =+(U35-1)*100 -> 2.3264415 | W35: =+P35+R35 -> 1178.5434 | X35: =+(W35/W34-1)*100 -> -0.02954419 | Y35: =+(1+X35/100)*Y34 -> 1.0232644 | Z35: =+(Y35-1)*100 -> 2.3264415 | AA35: 6.265 | AB35: 1212.3867 | AC35: 0 | AE35: =+AC35+AB35 -> 1212.3867 | AF35: =+(AE35/AB34-1)*100 -> -0.17444632 | AG35: =+(1+AF35/100)*AG34 -> 1.0249748 | AH35: =+(AG35-1)*100 -> 2.4974832 | AI35: =+AB35+AD35 -> 1212.3867 | AJ35: =+(AI35/AI34-1)*100 -> -0.17444632 | AK35: =+(1+AJ35/100)*AK34 -> 1.0249748 | AL35: =+(AK35-1)*100 -> 2.4974832 | AM35: 4.15 | AN35: =+((AM34/100+1)^(1/252))*AN34 -> 1.0054159 | AO35: =+(AN35/AN34-1)*100 -> 0.016137009 | AP35: =+(1+AO35/100)*AP34 -> 1.0054159 | AQ35: =+(AP35-1)*100 -> 0.54158874
A36: =+A35+1 -> 34 | B36: 43879 | C36: 5.256 | D36: 1133.8059 | E36: 0 | G36: =+D36+E36 -> 1133.8059 | H36: =+(G36/D35-1)*100 -> -0.0063732599 | I36: =+(1+H36/100)*I35 -> 1.0193535 | J36: =+(I36-1)*100 -> 1.9353499 | K36: =+D36+F36 -> 1133.8059 | L36: =+(K36/K35-1)*100 -> -0.0063732599 | M36: =+(1+L36/100)*M35 -> 1.0193535 | N36: =+(M36-1)*100 -> 1.9353499 | O36: 5.9296 | P36: 1177.662 | Q36: 0 | S36: =+P36+Q36 -> 1177.662 | T36: =+(S36/P35-1)*100 -> -0.074787657 | U36: =+(1+T36/100)*U35 -> 1.0224991 | V36: =+(U36-1)*100 -> 2.249914 | W36: =+P36+R36 -> 1177.662 | X36: =+(W36/W35-1)*100 -> -0.074787657 | Y36: =+(1+X36/100)*Y35 -> 1.0224991 | Z36: =+(Y36-1)*100 -> 2.249914 | AA36: 6.28 | AB36: 1211.7799 | AC36: 0 | AE36: =+AC36+AB36 -> 1211.7799 | AF36: =+(AE36/AB35-1)*100 -> -0.050056222 | AG36: =+(1+AF36/100)*AG35 -> 1.0244618 | AH36: =+(AG36-1)*100 -> 2.4461768 | AI36: =+AB36+AD36 -> 1211.7799 | AJ36: =+(AI36/AI35-1)*100 -> -0.050056222 | AK36: =+(1+AJ36/100)*AK35 -> 1.0244618 | AL36: =+(AK36-1)*100 -> 2.4461768 | AM36: 4.15 | AN36: =+((AM35/100+1)^(1/252))*AN35 -> 1.0055781 | AO36: =+(AN36/AN35-1)*100 -> 0.016137009 | AP36: =+(1+AO36/100)*AP35 -> 1.0055781 | AQ36: =+(AP36-1)*100 -> 0.55781315
A37: =+A36+1 -> 35 | B37: 43880 | C37: 5.1863 | D37: 1135.9513 | E37: 0 | G37: =+D37+E37 -> 1135.9513 | H37: =+(G37/D36-1)*100 -> 0.18922349 | I37: =+(1+H37/100)*I36 -> 1.0212824 | J37: =+(I37-1)*100 -> 2.1282356 | K37: =+D37+F37 -> 1135.9513 | L37: =+(K37/K36-1)*100 -> 0.18922349 | M37: =+(1+L37/100)*M36 -> 1.0212824 | N37: =+(M37-1)*100 -> 2.1282356 | O37: 5.9 | P37: 1179.2494 | Q37: 0 | S37: =+P37+Q37 -> 1179.2494 | T37: =+(S37/P36-1)*100 -> 0.13479165 | U37: =+(1+T37/100)*U36 -> 1.0238774 | V37: =+(U37-1)*100 -> 2.3877383 | W37: =+P37+R37 -> 1179.2494 | X37: =+(W37/W36-1)*100 -> 0.13479165 | Y37: =+(1+X37/100)*Y36 -> 1.0238774 | Z37: =+(Y37-1)*100 -> 2.3877383 | AA37: 6.26 | AB37: 1213.2714 | AC37: 0 | AE37: =+AC37+AB37 -> 1213.2714 | AF37: =+(AE37/AB36-1)*100 -> 0.1230844 | AG37: =+(1+AF37/100)*AG36 -> 1.0257227 | AH37: =+(AG37-1)*100 -> 2.5722721 | AI37: =+AB37+AD37 -> 1213.2714 | AJ37: =+(AI37/AI36-1)*100 -> 0.1230844 | AK37: =+(1+AJ37/100)*AK36 -> 1.0257227 | AL37: =+(AK37-1)*100 -> 2.5722721 | AM37: 4.15 | AN37: =+((AM36/100+1)^(1/252))*AN36 -> 1.0057404 | AO37: =+(AN37/AN36-1)*100 -> 0.016137009 | AP37: =+(1+AO37/100)*AP36 -> 1.0057404 | AQ37: =+(AP37-1)*100 -> 0.57404017
A38: =+A37+1 -> 36 | B38: 43881 | C38: 5.206 | D38: 1135.6383 | E38: 0 | G38: =+D38+E38 -> 1135.6383 | H38: =+(G38/D37-1)*100 -> -0.027556904 | I38: =+(1+H38/100)*I37 -> 1.0210009 | J38: =+(I38-1)*100 -> 2.1000922 | K38: =+D38+F38 -> 1135.6383 | L38: =+(K38/K37-1)*100 -> -0.027556904 | M38: =+(1+L38/100)*M37 -> 1.0210009 | N38: =+(M38-1)*100 -> 2.1000922 | O38: 5.9291 | P38: 1178.2228 | Q38: 0 | S38: =+P38+Q38 -> 1178.2228 | T38: =+(S38/P37-1)*100 -> -0.08705809 | U38: =+(1+T38/100)*U37 -> 1.022986 | V38: =+(U38-1)*100 -> 2.2986015 | W38: =+P38+R38 -> 1178.2228 | X38: =+(W38/W37-1)*100 -> -0.08705809 | Y38: =+(1+X38/100)*Y37 -> 1.022986 | Z38: =+(Y38-1)*100 -> 2.2986015 | AA38: 6.2966 | AB38: 1211.3727 | AC38: 0 | AE38: =+AC38+AB38 -> 1211.3727 | AF38: =+(AE38/AB37-1)*100 -> -0.15649475 | AG38: =+(1+AF38/100)*AG37 -> 1.0241175 | AH38: =+(AG38-1)*100 -> 2.4117518 | AI38: =+AB38+AD38 -> 1211.3727 | AJ38: =+(AI38/AI37-1)*100 -> -0.15649475 | AK38: =+(1+AJ38/100)*AK37 -> 1.0241175 | AL38: =+(AK38-1)*100 -> 2.4117518 | AM38: 4.15 | AN38: =+((AM37/100+1)^(1/252))*AN37 -> 1.0059027 | AO38: =+(AN38/AN37-1)*100 -> 0.016137009 | AP38: =+(1+AO38/100)*AP37 -> 1.0059027 | AQ38: =+(AP38-1)*100 -> 0.59026981
... A125: =+A124+1 -> 123 | B125: 44012 | C125: 4.02 | D125: 1184.906 | E125: 0 | G125: =+D125+E125 -> 1184.906 | H125: =+(G125/D124-1)*100 -> 0.10054491 | I125: =+(1+H125/100)*I124 -> 1.0652953 | J125: =+(I125-1)*100 -> 6.5295323 | K125: =+D125+F125 -> 1184.906 | L125: =+(K125/K124-1)*100 -> 0.10054491 | M125: =+(1+L125/100)*M124 -> 1.0652953 | N125: =+(M125-1)*100 -> 6.5295323 | O125: 5.48 | P125: 1220.7055 | Q125: 0 | S125: =+P125+Q125 -> 1220.7055 | T125: =+(S125/P124-1)*100 -> 0.29941975 | U125: =+(1+T125/100)*U124 -> 1.0598714 | V125: =+(U125-1)*100 -> 5.9871406 | W125: =+P125+R125 -> 1220.7055 | X125: =+(W125/W124-1)*100 -> 0.29941975 | Y125: =+(1+X125/100)*Y124 -> 1.0598714 | Z125: =+(Y125-1)*100 -> 5.9871406 | AA125: 6.3 | AB125: 1236.9871 | AC125: 0 | AE125: =+AC125+AB125 -> 1236.9871 | AF125: =+(AE125/AB124-1)*100 -> 0.57903293 | AG125: =+(1+AF125/100)*AG124 -> 1.0457725 | AH125: =+(AG125-1)*100 -> 4.5772478 | AI125: =+AB125+AD125 -> 1236.9871 | AJ125: =+(AI125/AI124-1)*100 -> 0.57903293 | AK125: =+(1+AJ125/100)*AK124 -> 1.0457725 | AL125: =+(AK125-1)*100 -> 4.5772478 | AM125: 2.15 | AN125: =+((AM124/100+1)^(1/252))*AN124 -> 1.0174579 | AO125: =+(AN125/AN124-1)*100 -> 0.0084416798 | AP125: =+(1+AO125/100)*AP124 -> 1.0174579 | AQ125: =+(AP125-1)*100 -> 1.745788
A126: =+A125+1 -> 124 | B126: 44013 | C126: 3.96 | D126: 1137.7873 | E126: 48.80885 | F126: =+(F125*(1+AO125/100))+E126 -> 48.80885 | G126: =+D126+E126 -> 1186.5961 | H126: =+(G126/D125-1)*100 -> 0.14263925 | I126: =+(1+H126/100)*I125 -> 1.0668149 | J126: =+(I126-1)*100 -> 6.6814852 | K126: =+D126+F126 -> 1186.5961 | L126: =+(K126/K125-1)*100 -> 0.14263925 | M126: =+(1+L126/100)*M125 -> 1.0668149 | N126: =+(M126-1)*100 -> 6.6814852 | O126: 5.41 | P126: 1175.1234 | Q126: 48.80885 | R126: =+(R125*(1+AO125/100))+Q126 -> 48.80885 | S126: =+P126+Q126 -> 1223.9322 | T126: =+(S126/P125-1)*100 -> 0.26433649 | U126: =+(1+T126/100)*U125 -> 1.062673 | V126: =+(U126-1)*100 -> 6.2673033 | W126: =+P126+R126 -> 1223.9322 | X126: =+(W126/W125-1)*100 -> 0.26433649 | Y126: =+(1+X126/100)*Y125 -> 1.062673 | Z126: =+(Y126-1)*100 -> 6.2673033 | AA126: 6.235 | AB126: 1192.1912 | AC126: 48.80885 | AD126: =+(AD125*(1+AO125/100))+AC126 -> 48.80885 | AE126: =+AC126+AB126 -> 1241 | AF126: =+(AE126/AB125-1)*100 -> 0.32440903 | AG126: =+(1+AF126/100)*AG125 -> 1.0491651 | AH126: =+(AG126-1)*100 -> 4.9165059 | AI126: =+AB126+AD126 -> 1241 | AJ126: =+(AI126/AI125-1)*100 -> 0.32440903 | AK126: =+(1+AJ126/100)*AK125 -> 1.0491651 | AL126: =+(AK126-1)*100 -> 4.9165059 | AM126: 2.15 | AN126: =+((AM125/100+1)^(1/252))*AN125 -> 1.0175438 | AO126: =+(AN126/AN125-1)*100 -> 0.0084416798 | AP126: =+(1+AO126/100)*AP125 -> 1.0175438 | AQ126: =+(AP126-1)*100 -> 1.754377
A127: =+A126+1 -> 125 | B127: 44014 | C127: 4.0063 | D127: 1136.803 | E127: 0 | F127: =+(F126*(1+AO126/100))+E127 -> 48.81297 | G127: =+D127+E127 -> 1136.803 | H127: =+(G127/D126-1)*100 -> -0.086508349 | I127: =+(1+H127/100)*I126 -> 1.065892 | J127: =+(I127-1)*100 -> 6.5891968 | K127: =+D127+F127 -> 1185.616 | L127: =+(K127/K126-1)*100 -> -0.082602722 | M127: =+(1+L127/100)*M126 -> 1.0659336 | N127: =+(M127-1)*100 -> 6.5933634 | O127: 5.43 | P127: 1174.5207 | Q127: 0 | R127: =+(R126*(1+AO126/100))+Q127 -> 48.81297 | S127: =+P127+Q127 -> 1174.5207 | T127: =+(S127/P126-1)*100 -> -0.051289168 | U127: =+(1+T127/100)*U126 -> 1.062128 | V127: =+(U127-1)*100 -> 6.2127997 | W127: =+P127+R127 -> 1223.3336 | X127: =+(W127/W126-1)*100 -> -0.048907178 | Y127: =+(1+X127/100)*Y126 -> 1.0621533 | Z127: =+(Y127-1)*100 -> 6.2153309 | AA127: 6.2335 | AB127: 1192.5632 | AC127: 0 | AD127: =+(AD126*(1+AO126/100))+AC127 -> 48.81297 | AE127: =+AC127+AB127 -> 1192.5632 | AF127: =+(AE127/AB126-1)*100 -> 0.031202965 | AG127: =+(1+AF127/100)*AG126 -> 1.0494924 | AH127: =+(AG127-1)*100 -> 4.9492429 | AI127: =+AB127+AD127 -> 1241.3762 | AJ127: =+(AI127/AI126-1)*100 -> 0.030307758 | AK127: =+(1+AJ127/100)*AK126 -> 1.049483 | AL127: =+(AK127-1)*100 -> 4.9483037 | AM127: 2.15 | AN127: =+((AM126/100+1)^(1/252))*AN126 -> 1.0176297 | AO127: =+(AN127/AN126-1)*100 -> 0.0084416798 | AP127: =+(1+AO127/100)*AP126 -> 1.0176297 | AQ127: =+(AP127-1)*100 -> 1.7629668
A128: =+A127+1 -> 126 | B128: 44015 | C128: 3.9767 | D128: 1137.7202 | E128: 0 | F128: =+(F127*(1+AO127/100))+E128 -> 48.817091 | G128: =+D128+E128 -> 1137.7202 | H128: =+(G128/D127-1)*100 -> 0.080683548 | I128: =+(1+H128/100)*I127 -> 1.066752 | J128: =+(I128-1)*100 -> 6.6751968 | K128: =+D128+F128 -> 1186.5373 | L128: =+(K128/K127-1)*100 -> 0.077709279 | M128: =+(1+L128/100)*M127 -> 1.066762 | N128: =+(M128-1)*100 -> 6.6761963 | O128: 5.3376 | P128: 1178.6906 | Q128: 0 | R128: =+(R127*(1+AO127/100))+Q128 -> 48.817091 | S128: =+P128+Q128 -> 1178.6906 | T128: =+(S128/P127-1)*100 -> 0.35503377 | U128: =+(1+T128/100)*U127 -> 1.0658989 | V128: =+(U128-1)*100 -> 6.589891 | W128: =+P128+R128 -> 1227.5077 | X128: =+(W128/W127-1)*100 -> 0.34120419 | Y128: =+(1+X128/100)*Y127 -> 1.0657774 | Z128: =+(Y128-1)*100 -> 6.5777421 | AA128: 6.1279 | AB128: 1198.909 | AC128: 0 | AD128: =+(AD127*(1+AO127/100))+AC128 -> 48.817091 | AE128: =+AC128+AB128 -> 1198.909 | AF128: =+(AE128/AB127-1)*100 -> 0.53211914 | AG128: =+(1+AF128/100)*AG127 -> 1.055077 | AH128: =+(AG128-1)*100 -> 5.5076979 | AI128: =+AB128+AD128 -> 1247.7261 | AJ128: =+(AI128/AI127-1)*100 -> 0.51152728 | AK128: =+(1+AJ128/100)*AK127 -> 1.0548514 | AL128: =+(AK128-1)*100 -> 5.4851429 | AM128: 2.15 | AN128: =+((AM127/100+1)^(1/252))*AN127 -> 1.0177156 | AO128: =+(AN128/AN127-1)*100 -> 0.0084416798 | AP128: =+(1+AO128/100)*AP127 -> 1.0177156 | AQ128: =+(AP128-1)*100 -> 1.7715573
A129: =+A128+1 -> 127 | B129: 44018 | C129: 3.9875 | D129: 1137.6266 | E129: 0 | F129: =+(F128*(1+AO128/100))+E129 -> 48.821212 | G129: =+D129+E129 -> 1137.6266 | H129: =+(G129/D128-1)*100 -> -0.0082253086 | I129: =+(1+H129/100)*I128 -> 1.0666642 | J129: =+(I129-1)*100 -> 6.6664224 | K129: =+D129+F129 -> 1186.4479 | L129: =+(K129/K128-1)*100 -> -0.0075395874 | M129: =+(1+L129/100)*M128 -> 1.0666815 | N129: =+(M129-1)*100 -> 6.6681534 | O129: 5.3099 | P129: 1180.1126 | Q129: 0 | R129: =+(R128*(1+AO128/100))+Q129 -> 48.821212 | S129: =+P129+Q129 -> 1180.1126 | T129: =+(S129/P128-1)*100 -> 0.12063725 | U129: =+(1+T129/100)*U128 -> 1.0671848 | V129: =+(U129-1)*100 -> 6.7184781 | W129: =+P129+R129 -> 1228.9338 | X129: =+(W129/W128-1)*100 -> 0.11617532 | Y129: =+(1+X129/100)*Y128 -> 1.0670156 | Z129: =+(Y129-1)*100 -> 6.7015591 | AA129: 6.065 | AB129: 1202.8192 | AC129: 0 | AD129: =+(AD128*(1+AO128/100))+AC129 -> 48.821212 | AE129: =+AC129+AB129 -> 1202.8192 | AF129: =+(AE129/AB128-1)*100 -> 0.32614551 | AG129: =+(1+AF129/100)*AG128 -> 1.0585181 | AH129: =+(AG129-1)*100 -> 5.8518066 | AI129: =+AB129+AD129 -> 1251.6404 | AJ129: =+(AI129/AI128-1)*100 -> 0.3137154 | AK129: =+(1+AJ129/100)*AK128 -> 1.0581607 | AL129: =+(AK129-1)*100 -> 5.816066 | AM129: 2.15 | AN129: =+((AM128/100+1)^(1/252))*AN128 -> 1.0178015 | AO129: =+(AN129/AN128-1)*100 -> 0.0084416798 | AP129: =+(1+AO129/100)*AP128 -> 1.0178015 | AQ129: =+(AP129-1)*100 -> 1.7801486
A130: =+A129+1 -> 128 | B130: 44019 | C130: 4.057 | D130: 1136.0729 | E130: 0 | F130: =+(F129*(1+AO129/100))+E130 -> 48.825333 | G130: =+D130+E130 -> 1136.0729 | H130: =+(G130/D129-1)*100 -> -0.13657635 | I130: =+(1+H130/100)*I129 -> 1.0652074 | J130: =+(I130-1)*100 -> 6.5207413 | K130: =+D130+F130 -> 1184.8982 | L130: =+(K130/K129-1)*100 -> -0.130609 | M130: =+(1+L130/100)*M129 -> 1.0652884 | N130: =+(M130-1)*100 -> 6.5288352 | O130: 5.4163 | P130: 1175.8399 | Q130: 0 | R130: =+(R129*(1+AO129/100))+Q130 -> 48.825333 | S130: =+P130+Q130 -> 1175.8399 | T130: =+(S130/P129-1)*100 -> -0.36205665 | U130: =+(1+T130/100)*U129 -> 1.063321 | V130: =+(U130-1)*100 -> 6.3320967 | W130: =+P130+R130 -> 1224.6652 | X130: =+(W130/W129-1)*100 -> -0.34733806 | Y130: =+(1+X130/100)*Y129 -> 1.0633094 | Z130: =+(Y130-1)*100 -> 6.330944 | AA130: 6.195 | AB130: 1195.6241 | AC130: 0 | AD130: =+(AD129*(1+AO129/100))+AC130 -> 48.825333 | AE130: =+AC130+AB130 -> 1195.6241 | AF130: =+(AE130/AB129-1)*100 -> -0.59819272 | AG130: =+(1+AF130/100)*AG129 -> 1.0521861 | AH130: =+(AG130-1)*100 -> 5.2186088 | AI130: =+AB130+AD130 -> 1244.4494 | AJ130: =+(AI130/AI129-1)*100 -> -0.57453047 | AK130: =+(1+AJ130/100)*AK129 -> 1.0520812 | AL130: =+(AK130-1)*100 -> 5.2081205 | AM130: 2.15 | AN130: =+((AM129/100+1)^(1/252))*AN129 -> 1.0178874 | AO130: =+(AN130/AN129-1)*100 -> 0.0084416798 | AP130: =+(1+AO130/100)*AP129 -> 1.0178874 | AQ130: =+(AP130-1)*100 -> 1.7887405
A131: =+A130+1 -> 129 | B131: 44020 | C131: 4.167 | D131: 1133.526 | E131: 0 | F131: =+(F130*(1+AO130/100))+E131 -> 48.829455 | G131: =+D131+E131 -> 1133.526 | H131: =+(G131/D130-1)*100 -> -0.22418552 | I131: =+(1+H131/100)*I130 -> 1.0628194 | J131: =+(I131-1)*100 -> 6.2819372 | K131: =+D131+F131 -> 1182.3555 | L131: =+(K131/K130-1)*100 -> -0.2145998 | M131: =+(1+L131/100)*M130 -> 1.0630022 | N131: =+(M131-1)*100 -> 6.3002245 | O131: 5.4587 | P131: 1174.2949 | Q131: 0 | R131: =+(R130*(1+AO130/100))+Q131 -> 48.829455 | S131: =+P131+Q131 -> 1174.2949 | T131: =+(S131/P130-1)*100 -> -0.13139357 | U131: =+(1+T131/100)*U130 -> 1.0619238 | V131: =+(U131-1)*100 -> 6.1923832 | W131: =+P131+R131 -> 1223.1244 | X131: =+(W131/W130-1)*100 -> -0.12581858 | Y131: =+(1+X131/100)*Y130 -> 1.0619716 | Z131: =+(Y131-1)*100 -> 6.1971599 | AA131: 6.165 | AB131: 1197.628 | AC131: 0 | AD131: =+(AD130*(1+AO130/100))+AC131 -> 48.829455 | AE131: =+AC131+AB131 -> 1197.628 | AF131: =+(AE131/AB130-1)*100 -> 0.16760996 | AG131: =+(1+AF131/100)*AG130 -> 1.0539497 | AH131: =+(AG131-1)*100 -> 5.3949656 | AI131: =+AB131+AD131 -> 1246.4575 | AJ131: =+(AI131/AI130-1)*100 -> 0.16136507 | AK131: =+(1+AJ131/100)*AK130 -> 1.0537789 | AL131: =+(AK131-1)*100 -> 5.3778897 | AM131: 2.15 | AN131: =+((AM130/100+1)^(1/252))*AN130 -> 1.0179733 | AO131: =+(AN131/AN130-1)*100 -> 0.0084416798 | AP131: =+(1+AO131/100)*AP130 -> 1.0179733 | AQ131: =+(AP131-1)*100 -> 1.7973332
A132: =+A131+1 -> 130 | B132: 44021 | C132: 4.175 | D132: 1133.5121 | E132: 0 | F132: =+(F131*(1+AO131/100))+E132 -> 48.833577 | G132: =+D132+E132 -> 1133.5121 | H132: =+(G132/D131-1)*100 -> -0.0012283794 | I132: =+(1+H132/100)*I131 -> 1.0628063 | J132: =+(I132-1)*100 -> 6.2806317 | K132: =+D132+F132 -> 1182.3457 | L132: =+(K132/K131-1)*100 -> -0.00082902089 | M132: =+(1+L132/100)*M131 -> 1.0629934 | N132: =+(M132-1)*100 -> 6.2993433 | O132: 5.4179 | P132: 1176.2646 | Q132: 0 | R132: =+(R131*(1+AO131/100))+Q132 -> 48.833577 | S132: =+P132+Q132 -> 1176.2646 | T132: =+(S132/P131-1)*100 -> 0.1677364 | U132: =+(1+T132/100)*U131 -> 1.0637051 | V132: =+(U132-1)*100 -> 6.3705065 | W132: =+P132+R132 -> 1225.0982 | X132: =+(W132/W131-1)*100 -> 0.16137705 | Y132: =+(1+X132/100)*Y131 -> 1.0636854 | Z132: =+(Y132-1)*100 -> 6.3685378 | AA132: 6.1246 | AB132: 1200.231 | AC132: 0 | AD132: =+(AD131*(1+AO131/100))+AC132 -> 48.833577 | AE132: =+AC132+AB132 -> 1200.231 | AF132: =+(AE132/AB131-1)*100 -> 0.21734478 | AG132: =+(1+AF132/100)*AG131 -> 1.0562404 | AH132: =+(AG132-1)*100 -> 5.6240361 | AI132: =+AB132+AD132 -> 1249.0646 | AJ132: =+(AI132/AI131-1)*100 -> 0.20916109 | AK132: =+(1+AJ132/100)*AK131 -> 1.055983 | AL132: =+(AK132-1)*100 -> 5.5982992 | AM132: 2.15 | AN132: =+((AM131/100+1)^(1/252))*AN131 -> 1.0180593 | AO132: =+(AN132/AN131-1)*100 -> 0.0084416798 | AP132: =+(1+AO132/100)*AP131 -> 1.0180593 | AQ132: =+(AP132-1)*100 -> 1.8059266
A133: =+A132+1 -> 131 | B133: 44022 | C133: 4.075 | D133: 1136.1655 | E133: 0 | F133: =+(F132*(1+AO132/100))+E133 -> 48.837699 | G133: =+D133+E133 -> 1136.1655 | H133: =+(G133/D132-1)*100 -> 0.23409217 | I133: =+(1+H133/100)*I132 -> 1.0652943 | J133: =+(I133-1)*100 -> 6.5294263 | K133: =+D133+F133 -> 1185.0032 | L133: =+(K133/K132-1)*100 -> 0.22477229 | M133: =+(1+L133/100)*M132 -> 1.0653827 | N133: =+(M133-1)*100 -> 6.5382747 | O133: 5.3536 | P133: 1179.2295 | Q133: 0 | R133: =+(R132*(1+AO132/100))+Q133 -> 48.837699 | S133: =+P133+Q133 -> 1179.2295 | T133: =+(S133/P132-1)*100 -> 0.25206216 | U133: =+(1+T133/100)*U132 -> 1.0663863 | V133: =+(U133-1)*100 -> 6.6386263 | W133: =+P133+R133 -> 1228.0672 | X133: =+(W133/W132-1)*100 -> 0.24235122 | Y133: =+(1+X133/100)*Y132 -> 1.0662632 | Z133: =+(Y133-1)*100 -> 6.6263232 | AA133: 6.06 | AB133: 1204.2323 | AC133: 0 | AD133: =+(AD132*(1+AO132/100))+AC133 -> 48.837699 | AE133: =+AC133+AB133 -> 1204.2323 | AF133: =+(AE133/AB132-1)*100 -> 0.33337465 | AG133: =+(1+AF133/100)*AG132 -> 1.0597616 | AH133: =+(AG133-1)*100 -> 5.9761598 | AI133: =+AB133+AD133 -> 1253.07 | AJ133: =+(AI133/AI132-1)*100 -> 0.32067104 | AK133: =+(1+AJ133/100)*AK132 -> 1.0593692 | AL133: =+(AK133-1)*100 -> 5.9369224 | AM133: 2.15 | AN133: =+((AM132/100+1)^(1/252))*AN132 -> 1.0181452 | AO133: =+(AN133/AN132-1)*100 -> 0.0084416798 | AP133: =+(1+AO133/100)*AP132 -> 1.0181452 | AQ133: =+(AP133-1)*100 -> 1.8145207
A134: =+A133+1 -> 132 | B134: 44025 | C134: 4.105 | D134: 1135.6051 | E134: 0 | F134: =+(F133*(1+AO133/100))+E134 -> 48.841822 | G134: =+D134+E134 -> 1135.6051 | H134: =+(G134/D133-1)*100 -> -0.049324502 | I134: =+(1+H134/100)*I133 -> 1.0647688 | J134: =+(I134-1)*100 -> 6.4768812 | K134: =+D134+F134 -> 1184.447 | L134: =+(K134/K133-1)*100 -> -0.046943777 | M134: =+(1+L134/100)*M133 -> 1.0648826 | N134: =+(M134-1)*100 -> 6.4882616 | O134: 5.364 | P134: 1179.0337 | Q134: 0 | R134: =+(R133*(1+AO133/100))+Q134 -> 48.841822 | S134: =+P134+Q134 -> 1179.0337 | T134: =+(S134/P133-1)*100 -> -0.016608726 | U134: =+(1+T134/100)*U133 -> 1.0662091 | V134: =+(U134-1)*100 -> 6.620915 | W134: =+P134+R134 -> 1227.8755 | X134: =+(W134/W133-1)*100 -> -0.015612523 | Y134: =+(1+X134/100)*Y133 -> 1.0660968 | Z134: =+(Y134-1)*100 -> 6.6096762 | AA134: 6.08 | AB134: 1203.3613 | AC134: 0 | AD134: =+(AD133*(1+AO133/100))+AC134 -> 48.841822 | AE134: =+AC134+AB134 -> 1203.3613 | AF134: =+(AE134/AB133-1)*100 -> -0.072325166 | AG134: =+(1+AF134/100)*AG133 -> 1.0589951 | AH134: =+(AG134-1)*100 -> 5.8995124 | AI134: =+AB134+AD134 -> 1252.2031 | AJ134: =+(AI134/AI133-1)*100 -> -0.069177324 | AK134: =+(1+AJ134/100)*AK133 -> 1.0586364 | AL134: =+(AK134-1)*100 -> 5.863638 | AM134: 2.15 | AN134: =+((AM133/100+1)^(1/252))*AN133 -> 1.0182312 | AO134: =+(AN134/AN133-1)*100 -> 0.0084416798 | AP134: =+(1+AO134/100)*AP133 -> 1.0182312 | AQ134: =+(AP134-1)*100 -> 1.8231156
A135: =+A134+1 -> 133 | B135: 44026 | C135: 4.085 | D135: 1136.2792 | E135: 0 | F135: =+(F134*(1+AO134/100))+E135 -> 48.845945 | G135: =+D135+E135 -> 1136.2792 | H135: =+(G135/D134-1)*100 -> 0.05936095 | I135: =+(1+H135/100)*I134 -> 1.0654009 | J135: =+(I135-1)*100 -> 6.5400869 | K135: =+D135+F135 -> 1185.1252 | L135: =+(K135/K134-1)*100 -> 0.057261245 | M135: =+(1+L135/100)*M134 -> 1.0654924 | N135: =+(M135-1)*100 -> 6.5492381 | O135: 5.369 | P135: 1179.0669 | Q135: 0 | R135: =+(R134*(1+AO134/100))+Q135 -> 48.845945 | S135: =+P135+Q135 -> 1179.0669 | T135: =+(S135/P134-1)*100 -> 0.0028198516 | U135: =+(1+T135/100)*U134 -> 1.0662392 | V135: =+(U135-1)*100 -> 6.6239215 | W135: =+P135+R135 -> 1227.9129 | X135: =+(W135/W134-1)*100 -> 0.0030434739 | Y135: =+(1+X135/100)*Y134 -> 1.0661292 | Z135: =+(Y135-1)*100 -> 6.6129208 | AA135: 6.11 | AB135: 1201.9187 | AC135: 0 | AD135: =+(AD134*(1+AO134/100))+AC135 -> 48.845945 | AE135: =+AC135+AB135 -> 1201.9187 | AF135: =+(AE135/AB134-1)*100 -> -0.11988112 | AG135: =+(1+AF135/100)*AG134 -> 1.0577256 | AH135: =+(AG135-1)*100 -> 5.7725589 | AI135: =+AB135+AD135 -> 1250.7647 | AJ135: =+(AI135/AI134-1)*100 -> -0.11487592 | AK135: =+(1+AJ135/100)*AK134 -> 1.0574203 | AL135: =+(AK135-1)*100 -> 5.7420262 | AM135: 2.15 | AN135: =+((AM134/100+1)^(1/252))*AN134 -> 1.0183171 | AO135: =+(AN135/AN134-1)*100 -> 0.0084416798 | AP135: =+(1+AO135/100)*AP134 -> 1.0183171 | AQ135: =+(AP135-1)*100 -> 1.8317112
A136: =+A135+1 -> 134 | B136: 44027 | C136: 4.155 | D136: 1134.7391 | E136: 0 | F136: =+(F135*(1+AO135/100))+E136 -> 48.850069 | G136: =+D136+E136 -> 1134.7391 | H136: =+(G136/D135-1)*100 -> -0.13553931 | I136: =+(1+H136/100)*I135 -> 1.0639568 | J136: =+(I136-1)*100 -> 6.3956832 | K136: =+D136+F136 -> 1183.5892 | L136: =+(K136/K135-1)*100 -> -0.12960501 | M136: =+(1+L136/100)*M135 -> 1.0641114 | N136: =+(M136-1)*100 -> 6.411145 | O136: 5.3962 | P136: 1178.1644 | Q136: 0 | R136: =+(R135*(1+AO135/100))+Q136 -> 48.850069 | S136: =+P136+Q136 -> 1178.1644 | T136: =+(S136/P135-1)*100 -> -0.076549768 | U136: =+(1+T136/100)*U135 -> 1.065423 | V136: =+(U136-1)*100 -> 6.5423012 | W136: =+P136+R136 -> 1227.0144 | X136: =+(W136/W135-1)*100 -> -0.073168838 | Y136: =+(1+X136/100)*Y135 -> 1.0653491 | Z136: =+(Y136-1)*100 -> 6.5349134 | AA136: 6.1134 | AB136: 1202.0065 | AC136: 0 | AD136: =+(AD135*(1+AO135/100))+AC136 -> 48.850069 | AE136: =+AC136+AB136 -> 1202.0065 | AF136: =+(AE136/AB135-1)*100 -> 0.0073025737 | AG136: =+(1+AF136/100)*AG135 -> 1.0578028 | AH136: =+(AG136-1)*100 -> 5.780283 | AI136: =+AB136+AD136 -> 1250.8566 | AJ136: =+(AI136/AI135-1)*100 -> 0.007347059 | AK136: =+(1+AJ136/100)*AK135 -> 1.057498 | AL136: =+(AK136-1)*100 -> 5.7497951 | AM136: 2.15 | AN136: =+((AM135/100+1)^(1/252))*AN135 -> 1.0184031 | AO136: =+(AN136/AN135-1)*100 -> 0.0084416798 | AP136: =+(1+AO136/100)*AP135 -> 1.0184031 | AQ136: =+(AP136-1)*100 -> 1.8403075
A137: =+A136+1 -> 135 | B137: 44028 | C137: 4.1162 | D137: 1135.8742 | E137: 0 | F137: =+(F136*(1+AO136/100))+E137 -> 48.854192 | G137: =+D137+E137 -> 1135.8742 | H137: =+(G137/D136-1)*100 -> 0.10002775 | I137: =+(1+H137/100)*I136 -> 1.0650211 | J137: =+(I137-1)*100 -> 6.5021084 | K137: =+D137+F137 -> 1184.7284 | L137: =+(K137/K136-1)*100 -> 0.096247732 | M137: =+(1+L137/100)*M136 -> 1.0651356 | N137: =+(M137-1)*100 -> 6.5135633 | O137: 5.3981 | P137: 1178.3301 | Q137: 0 | R137: =+(R136*(1+AO136/100))+Q137 -> 48.854192 | S137: =+P137+Q137 -> 1178.3301 | T137: =+(S137/P136-1)*100 -> 0.014066204 | U137: =+(1+T137/100)*U136 -> 1.0655729 | V137: =+(U137-1)*100 -> 6.5572876 | W137: =+P137+R137 -> 1227.1843 | X137: =+(W137/W136-1)*100 -> 0.013842279 | Y137: =+(1+X137/100)*Y136 -> 1.0654966 | Z137: =+(Y137-1)*100 -> 6.5496602 | AA137: 6.1374 | AB137: 1200.9142 | AC137: 0 | AD137: =+(AD136*(1+AO136/100))+AC137 -> 48.854192 | AE137: =+AC137+AB137 -> 1200.9142 | AF137: =+(AE137/AB136-1)*100 -> -0.090873386 | AG137: =+(1+AF137/100)*AG136 -> 1.0568416 | AH137: =+(AG137-1)*100 -> 5.6841569 | AI137: =+AB137+AD137 -> 1249.7684 | AJ137: =+(AI137/AI136-1)*100 -> -0.086994806 | AK137: =+(1+AJ137/100)*AK136 -> 1.056578 | AL137: =+(AK137-1)*100 -> 5.6577983 | AM137: 2.15 | AN137: =+((AM136/100+1)^(1/252))*AN136 -> 1.018489 | AO137: =+(AN137/AN136-1)*100 -> 0.0084416798 | AP137: =+(1+AO137/100)*AP136 -> 1.018489 | AQ137: =+(AP137-1)*100 -> 1.8489045
... A504: =+A503+1 -> 502 | B504: 44561 | C504: 11.8601 | D504: 1032.5642 | E504: 0 | F504: =+(F503*(1+AO503/100))+E504 -> 152.67944 | G504: =+D504+E504 -> 1032.5642 | H504: =+(G504/D503-1)*100 -> 0.044485588 | I504: =+(1+H504/100)*I503 -> 1.0585202 | J504: =+(I504-1)*100 -> 5.8520237 | K504: =+D504+F504 -> 1185.2436 | L504: =+(K504/K503-1)*100 -> 0.043231277 | M504: =+(1+L504/100)*M503 -> 1.0655989 | N504: =+(M504-1)*100 -> 6.5598862 | O504: 10.6986 | P504: 1032.5153 | Q504: 0 | R504: =+(R503*(1+AO503/100))+Q504 -> 152.67944 | S504: =+P504+Q504 -> 1032.5153 | T504: =+(S504/P503-1)*100 -> 0.04034187 | U504: =+(1+T504/100)*U503 -> 1.0182593 | V504: =+(U504-1)*100 -> 1.8259342 | W504: =+P504+R504 -> 1185.1947 | X504: =+(W504/W503-1)*100 -> 0.039621381 | Y504: =+(1+X504/100)*Y503 -> 1.0290394 | Z504: =+(Y504-1)*100 -> 2.9039384 | AA504: 10.7102 | AB504: 1023.7829 | AC504: 0 | AD504: =+(AD503*(1+AO503/100))+AC504 -> 152.67944 | AE504: =+AC504+AB504 -> 1023.7829 | AF504: =+(AE504/AB503-1)*100 -> 0.040383452 | AG504: =+(1+AF504/100)*AG503 -> 0.98153399 | AH504: =+(AG504-1)*100 -> -1.8466008 | AI504: =+AB504+AD504 -> 1176.4624 | AJ504: =+(AI504/AI503-1)*100 -> 0.039652218 | AK504: =+(1+AJ504/100)*AK503 -> 0.9946037 | AL504: =+(AK504-1)*100 -> -0.53963028 | AM504: 9.15 | AN504: =+((AM503/100+1)^(1/252))*AN503 -> 1.0727019 | AO504: =+(AN504/AN503-1)*100 -> 0.034749249 | AP504: =+(1+AO504/100)*AP503 -> 1.0727019 | AQ504: =+(AP504-1)*100 -> 7.2701929
E505: =SUM(E4:E504) -> 146.42655 | F505: =+F504 -> 152.67944

Sheet Feriados
A1: 36892
A2: 36948
A3: 36949
A4: 36994
A5: 37002
A6: 37012
A7: 37056
A8: 37141
A9: 37176
A10: 37197
A11: 37210
A12: 37250
... A936: 65374
