Workbook

Sheet Feriados
A1: 36892
A2: 36948
A3: 36949
A4: 36994
A5: 37002
A6: 37012
A7: 37056
A8: 37141
A9: 37176
A10: 37197
A11: 37210
A12: 37250
... A936: 65374

Sheet Resumo estatístico Futuro DAP
A1: Data | B1: =DATEVALUE(+E1) -> 44971 | C1: Data Base | E1: =RIGHT(A14,11) -> 14/02/2023 | G1: Atalho Resumo Estatístico | J1: Site da B3: Home / Market Data e Índices / Serviços de dados / Market Data / Histórico / Derivativos / Resumo estatístico / Sistema pregão | S1: Código | T1: Vencimento | U1: Mês
G2: http://www.b3.com.br/pt_br/market-data-e-indices/servicos-de-dados/market-data/historico/derivativos/resumo-estatistico/sistema-pregao/ | S2: F | T2: JAN | U2: 01
A3: PRT | B3: =VALUE(RIGHT(A42,9)) -> 6506.84 | G3: Mercadoria: DAP Cupom DI x IPCA | S3: G | T3: FEV | U3: 02
B4: ­ Preencha com a Média do CDI do dia da Data Base | S4: H | T4: MAR | U4: 03
B5: http://www.b3.com.br/pt_br/market-data-e-indices/indices/indices-de-segmentos-e-setoriais/serie-historica-do-di.htm | S5: J | T5: ABR | U5: 04
S6: K | T6: MAI | U6: 05
S7: M | T7: JUN | U7: 06
S8: N | T8: JUL | U8: 07
F9: =+SUM(F19:F57) -> 6080572571 | S9: Q | T9: AGO | U9: 08
A10: $ Cole em A11 (use opção de colagem: Fazer correspondência com a Formatação de Destino (F)) | S10: U | T10: SET | U10: 09
A11: CUPOM DE IPCA (contrato = R$0,00025 x PU x índice; cotação = taxa de juro) | S11: V | T11: OUT | U11: 10
S12: X | T12: NOV | U12: 11
S13: Z | T13: DEZ | U13: 12
A14: Atualizado em: 14/02/2023
A16: MERCADO FUTURO
A17: Dados | B17: Volume | G17: Dados
A18: VENCTO | B18: CONTR. ABERT.(1) | C18: CONTR. FECH.(2) | D18: NÚM. NEGOC. | E18: CONTR. NEGOC. | F18: VOL. | G18: AJUSTE ANTER. (3) | H18: AJUSTE ANTER. CORRIG. (4) | I18: PREÇO ABERT. | J18: PREÇO MÍN. | K18: PREÇO MÁX. | L18: PREÇO MÉD. | M18: ÚLT. PREÇO | N18: AJUSTE | O18: VAR. PTOS. | P18: ÚLT. OF. COMPRA | Q18: ÚLT. OF. VENDA | R18: Vencimento | S18: DU | T18: Taxa de Ajuste
A19: G23 | B19: 9837 | C19: 9837 | D19: 0 | E19: 0 | F19: 0 | G19: 99973.25 | H19: 99973.25 | I19: 0 | J19: 0 | K19: 0 | L19: 0 | M19: 0 | N19: 99973.23 | O19: 0,02- | P19: 0 | Q19: 0 | R19: =IF(OR(A19="",LEN(A19)<>3),"",WORKDAY(WORKDAY(DATEVALUE("15/"&VLOOKUP(LEFT(A19,1),$S$1:$U$13,3,FALSE)&"/"&20&RIGHT(A19,2)),-1,Feriados!$A$2:$A$2000),1,Feriados!$A$2:$A$2000)) -> 44972 | S19: =IF(OR(R19="",R19="Cadastrar ativo na aba Banco de Códigos B3"),"",NETWORKDAYS($B$1,R19-1,Feriados!$A$2:$A$2000)) -> 1 | T19: =IF(OR(R19="",R19="Cadastrar ativo na aba Banco de Códigos B3"),"",+ROUND(((100000/N19)^(252/S19)-1)*100,2)) -> 6.98
A20: H23 | B20: 3100 | C20: 3100 | D20: 0 | E20: 0 | F20: 0 | G20: 99637.96 | H20: 99637.96 | I20: 0 | J20: 0 | K20: 0 | L20: 0 | M20: 0 | N20: 99639.97 | O20: 2,01+ | P20: 0 | Q20: 0 | R20: =IF(OR(A20="",LEN(A20)<>3),"",WORKDAY(WORKDAY(DATEVALUE("15/"&VLOOKUP(LEFT(A20,1),$S$1:$U$13,3,FALSE)&"/"&20&RIGHT(A20,2)),-1,Feriados!$A$2:$A$2000),1,Feriados!$A$2:$A$2000)) -> 45000 | S20: =IF(OR(R20="",R20="Cadastrar ativo na aba Banco de Códigos B3"),"",NETWORKDAYS($B$1,R20-1,Feriados!$A$2:$A$2000)) -> 19 | T20: =IF(OR(R20="",R20="Cadastrar ativo na aba Banco de Códigos B3"),"",+ROUND(((100000/N20)^(252/S20)-1)*100,2)) -> 4.9
A21: J23 | B21: 0 | C21: 0 | D21: 0 | E21: 0 | F21: 0 | G21: 99292.49 | H21: 99292.49 | I21: 0 | J21: 0 | K21: 0 | L21: 0 | M21: 0 | N21: 99304.97 | O21: 12,48+ | P21: 0 | Q21: 0 | R21: =IF(OR(A21="",LEN(A21)<>3),"",WORKDAY(WORKDAY(DATEVALUE("15/"&VLOOKUP(LEFT(A21,1),$S$1:$U$13,3,FALSE)&"/"&20&RIGHT(A21,2)),-1,Feriados!$A$2:$A$2000),1,Feriados!$A$2:$A$2000)) -> 45033 | S21: =IF(OR(R21="",R21="Cadastrar ativo na aba Banco de Códigos B3"),"",NETWORKDAYS($B$1,R21-1,Feriados!$A$2:$A$2000)) -> 41 | T21: =IF(OR(R21="",R21="Cadastrar ativo na aba Banco de Códigos B3"),"",+ROUND(((100000/N21)^(252/S21)-1)*100,2)) -> 4.38
A22: K23 | B22: 250118 | C22: 249116 | D22: 19 | E22: 1627 | F22: 261927668 | G22: 98961.42 | H22: 98961.42 | I22: 4.56 | J22: 4.5 | K22: 4.57 | L22: 4.54 | M22: 4.57 | N22: 98959.22 | O22: 2,20- | P22: 0 | Q22: 4.75 | R22: =IF(OR(A22="",LEN(A22)<>3),"",WORKDAY(WORKDAY(DATEVALUE("15/"&VLOOKUP(LEFT(A22,1),$S$1:$U$13,3,FALSE)&"/"&20&RIGHT(A22,2)),-1,Feriados!$A$2:$A$2000),1,Feriados!$A$2:$A$2000)) -> 45061 | S22: =IF(OR(R22="",R22="Cadastrar ativo na aba Banco de Códigos B3"),"",NETWORKDAYS($B$1,R22-1,Feriados!$A$2:$A$2000)) -> 59 | T22: =IF(OR(R22="",R22="Cadastrar ativo na aba Banco de Códigos B3"),"",+ROUND(((100000/N22)^(252/S22)-1)*100,2)) -> 4.57
A23: F24 | B23: 42902 | C23: 43643 | D23: 17 | E23: 755 | F23: 116240163 | G23: 94575.25 | H23: 94575.25 | I23: 6.29 | J23: 6.29 | K23: 6.3 | L23: 6.29 | M23: 6.3 | N23: 94645.29 | O23: 70,04+ | P23: 0 | Q23: 6.4 | R23: =IF(OR(A23="",LEN(A23)<>3),"",WORKDAY(WORKDAY(DATEVALUE("15/"&VLOOKUP(LEFT(A23,1),$S$1:$U$13,3,FALSE)&"/"&20&RIGHT(A23,2)),-1,Feriados!$A$2:$A$2000),1,Feriados!$A$2:$A$2000)) -> 45306 | S23: =IF(OR(R23="",R23="Cadastrar ativo na aba Banco de Códigos B3"),"",NETWORKDAYS($B$1,R23-1,Feriados!$A$2:$A$2000)) -> 227 | T23: =IF(OR(R23="",R23="Cadastrar ativo na aba Banco de Códigos B3"),"",+ROUND(((100000/N23)^(252/S23)-1)*100,2)) -> 6.3
A24: Q24 | B24: 230328 | C24: 229645 | D24: 32 | E24: 3095 | F24: 460282202 | G24: 91324.64 | H24: 91324.64 | I24: 6.29 | J24: 6.16 | K24: 6.29 | L24: 6.21 | M24: 6.16 | N24: 91463.11 | O24: 138,47+ | P24: 0 | Q24: 6.2 | R24: =IF(OR(A24="",LEN(A24)<>3),"",WORKDAY(WORKDAY(DATEVALUE("15/"&VLOOKUP(LEFT(A24,1),$S$1:$U$13,3,FALSE)&"/"&20&RIGHT(A24,2)),-1,Feriados!$A$2:$A$2000),1,Feriados!$A$2:$A$2000)) -> 45519 | S24: =IF(OR(R24="",R24="Cadastrar ativo na aba Banco de Códigos B3"),"",NETWORKDAYS($B$1,R24-1,Feriados!$A$2:$A$2000)) -> 375 | T24: =IF(OR(R24="",R24="Cadastrar ativo na aba Banco de Códigos B3"),"",+ROUND(((100000/N24)^(252/S24)-1)*100,2)) -> 6.18
A25: F25 | B25: 0 | C25: 0 | D25: 0 | E25: 0 | F25: 0 | G25: 89477.5 | H25: 89477.5 | I25: 0 | J25: 0 | K25: 0 | L25: 0 | M25: 0 | N25: 89684.05 | O25: 206,55+ | P25: 0 | Q25: 6 | R25: =IF(OR(A25="",LEN(A25)<>3),"",WORKDAY(WORKDAY(DATEVALUE("15/"&VLOOKUP(LEFT(A25,1),$S$1:$U$13,3,FALSE)&"/"&20&RIGHT(A25,2)),-1,Feriados!$A$2:$A$2000),1,Feriados!$A$2:$A$2000)) -> 45672 | S25: =IF(OR(R25="",R25="Cadastrar ativo na aba Banco de Códigos B3"),"",NETWORKDAYS($B$1,R25-1,Feriados!$A$2:$A$2000)) -> 481 | T25: =IF(OR(R25="",R25="Cadastrar ativo na aba Banco de Códigos B3"),"",+ROUND(((100000/N25)^(252/S25)-1)*100,2)) -> 5.87
A26: K25 | B26: 225362 | C26: 223189 | D26: 52 | E26: 12204 | F26: 1750450872 | G26: 87965.5 | H26: 87965.5 | I26: 5.85 | J26: 5.77 | K26: 5.91 | L26: 5.8 | M26: 5.81 | N26: 88184.67 | O26: 219,17+ | P26: 0 | Q26: 0 | R26: =IF(OR(A26="",LEN(A26)<>3),"",WORKDAY(WORKDAY(DATEVALUE("15/"&VLOOKUP(LEFT(A26,1),$S$1:$U$13,3,FALSE)&"/"&20&RIGHT(A26,2)),-1,Feriados!$A$2:$A$2000),1,Feriados!$A$2:$A$2000)) -> 45792 | S26: =IF(OR(R26="",R26="Cadastrar ativo na aba Banco de Códigos B3"),"",NETWORKDAYS($B$1,R26-1,Feriados!$A$2:$A$2000)) -> 562 | T26: =IF(OR(R26="",R26="Cadastrar ativo na aba Banco de Códigos B3"),"",+ROUND(((100000/N26)^(252/S26)-1)*100,2)) -> 5.8
A27: Q26 | B27: 156665 | C27: 153693 | D27: 40 | E27: 8751 | F27: 1167172858 | G27: 81726.44 | H27: 81726.44 | I27: 5.83 | J27: 5.83 | K27: 5.88 | L27: 5.85 | M27: 5.87 | N27: 81912.12 | O27: 185,68+ | P27: 5.84 | Q27: 0 | R27: =IF(OR(A27="",LEN(A27)<>3),"",WORKDAY(WORKDAY(DATEVALUE("15/"&VLOOKUP(LEFT(A27,1),$S$1:$U$13,3,FALSE)&"/"&20&RIGHT(A27,2)),-1,Feriados!$A$2:$A$2000),1,Feriados!$A$2:$A$2000)) -> 46251 | S27: =IF(OR(R27="",R27="Cadastrar ativo na aba Banco de Códigos B3"),"",NETWORKDAYS($B$1,R27-1,Feriados!$A$2:$A$2000)) -> 880 | T27: =IF(OR(R27="",R27="Cadastrar ativo na aba Banco de Códigos B3"),"",+ROUND(((100000/N27)^(252/S27)-1)*100,2)) -> 5.88
A28: K27 | B28: 118271 | C28: 118334 | D28: 24 | E28: 390 | F28: 49800374 | G28: 78344.63 | H28: 78344.63 | I28: 5.93 | J28: 5.89 | K28: 5.93 | L28: 5.89 | M28: 5.89 | N28: 78498.19 | O28: 153,56+ | P28: 0 | Q28: 0 | R28: =IF(OR(A28="",LEN(A28)<>3),"",WORKDAY(WORKDAY(DATEVALUE("15/"&VLOOKUP(LEFT(A28,1),$S$1:$U$13,3,FALSE)&"/"&20&RIGHT(A28,2)),-1,Feriados!$A$2:$A$2000),1,Feriados!$A$2:$A$2000)) -> 46524 | S28: =IF(OR(R28="",R28="Cadastrar ativo na aba Banco de Códigos B3"),"",NETWORKDAYS($B$1,R28-1,Feriados!$A$2:$A$2000)) -> 1066 | T28: =IF(OR(R28="",R28="Cadastrar ativo na aba Banco de Códigos B3"),"",+ROUND(((100000/N28)^(252/S28)-1)*100,2)) -> 5.89
A29: Q28 | B29: 137372 | C29: 139105 | D29: 47 | E29: 12582 | F29: 1489801232 | G29: 72591.61 | H29: 72591.61 | I29: 5.9 | J29: 5.9 | K29: 6.02 | L29: 5.96 | M29: 5.99 | N29: 72664.09 | O29: 72,48+ | P29: 5.9 | Q29: 0 | R29: =IF(OR(A29="",LEN(A29)<>3),"",WORKDAY(WORKDAY(DATEVALUE("15/"&VLOOKUP(LEFT(A29,1),$S$1:$U$13,3,FALSE)&"/"&20&RIGHT(A29,2)),-1,Feriados!$A$2:$A$2000),1,Feriados!$A$2:$A$2000)) -> 46980 | S29: =IF(OR(R29="",R29="Cadastrar ativo na aba Banco de Códigos B3"),"",NETWORKDAYS($B$1,R29-1,Feriados!$A$2:$A$2000)) -> 1381 | T29: =IF(OR(R29="",R29="Cadastrar ativo na aba Banco de Códigos B3"),"",+ROUND(((100000/N29)^(252/S29)-1)*100,2)) -> 6
A30: Q30 | B30: 129264 | C30: 126764 | D30: 30 | E30: 3712 | F30: 390988921 | G30: 64641.85 | H30: 64641.85 | I30: 6.02 | J30: 5.98 | K30: 6.02 | L30: 5.99 | M30: 5.98 | N30: 64639.53 | O30: 2,32- | P30: 0 | Q30: 0 | R30: =IF(OR(A30="",LEN(A30)<>3),"",WORKDAY(WORKDAY(DATEVALUE("15/"&VLOOKUP(LEFT(A30,1),$S$1:$U$13,3,FALSE)&"/"&20&RIGHT(A30,2)),-1,Feriados!$A$2:$A$2000),1,Feriados!$A$2:$A$2000)) -> 47710 | S30: =IF(OR(R30="",R30="Cadastrar ativo na aba Banco de Códigos B3"),"",NETWORKDAYS($B$1,R30-1,Feriados!$A$2:$A$2000)) -> 1881 | T30: =IF(OR(R30="",R30="Cadastrar ativo na aba Banco de Códigos B3"),"",+ROUND(((100000/N30)^(252/S30)-1)*100,2)) -> 6.02
... A38: Q60 | B38: 0 | C38: 0 | D38: 0 | E38: 0 | F38: 0 | G38: 11127.61 | H38: 11127.61 | I38: 0 | J38: 0 | K38: 0 | L38: 0 | M38: 0 | N38: 11205.95 | O38: 78,34+ | P38: 0 | Q38: 0 | R38: =IF(OR(A38="",LEN(A38)<>3),"",WORKDAY(WORKDAY(DATEVALUE("15/"&VLOOKUP(LEFT(A38,1),$S$1:$U$13,3,FALSE)&"/"&20&RIGHT(A38,2)),-1,Feriados!$A$2:$A$2000),1,Feriados!$A$2:$A$2000)) -> 58669 | S38: =IF(OR(R38="",R38="Cadastrar ativo na aba Banco de Códigos B3"),"",NETWORKDAYS($B$1,R38-1,Feriados!$A$2:$A$2000)) -> 9420 | T38: =IF(OR(R38="",R38="Cadastrar ativo na aba Banco de Códigos B3"),"",+ROUND(((100000/N38)^(252/S38)-1)*100,2)) -> 6.03
R39: =IF(OR(A39="",LEN(A39)<>3),"",WORKDAY(WORKDAY(DATEVALUE("15/"&VLOOKUP(LEFT(A39,1),$S$1:$U$13,3,FALSE)&"/"&20&RIGHT(A39,2)),-1,Feriados!$A$2:$A$2000),1,Feriados!$A$2:$A$2000)) | S39: =IF(OR(R39="",R39="Cadastrar ativo na aba Banco de Códigos B3"),"",NETWORKDAYS($B$1,R39-1,Feriados!$A$2:$A$2000)) | T39: =IF(OR(R39="",R39="Cadastrar ativo na aba Banco de Códigos B3"),"",+ROUND(((100000/N39)^(252/S39)-1)*100,2))
A40: TAXA DI OVER PARA 14/02/2023: 0,0508% | R40: =IF(OR(A40="",LEN(A40)<>3),"",WORKDAY(WORKDAY(DATEVALUE("15/"&VLOOKUP(LEFT(A40,1),$S$1:$U$13,3,FALSE)&"/"&20&RIGHT(A40,2)),-1,Feriados!$A$2:$A$2000),1,Feriados!$A$2:$A$2000)) | S40: =IF(OR(R40="",R40="Cadastrar ativo na aba Banco de Códigos B3"),"",NETWORKDAYS($B$1,R40-1,Feriados!$A$2:$A$2000)) | T40: =IF(OR(R40="",R40="Cadastrar ativo na aba Banco de Códigos B3"),"",+ROUND(((100000/N40)^(252/S40)-1)*100,2))
R41: =IF(OR(A41="",LEN(A41)<>3),"",WORKDAY(WORKDAY(DATEVALUE("15/"&VLOOKUP(LEFT(A41,1),$S$1:$U$13,3,FALSE)&"/"&20&RIGHT(A41,2)),-1,Feriados!$A$2:$A$2000),1,Feriados!$A$2:$A$2000)) | S41: =IF(OR(R41="",R41="Cadastrar ativo na aba Banco de Códigos B3"),"",NETWORKDAYS($B$1,R41-1,Feriados!$A$2:$A$2000)) | T41: =IF(OR(R41="",R41="Cadastrar ativo na aba Banco de Códigos B3"),"",+ROUND(((100000/N41)^(252/S41)-1)*100,2))
A42: VALOR INDICE IPCA PRO RATA TEMPORE: 6.506,840 | R42: =IF(OR(A42="",LEN(A42)<>3),"",WORKDAY(WORKDAY(DATEVALUE("15/"&VLOOKUP(LEFT(A42,1),$S$1:$U$13,3,FALSE)&"/"&20&RIGHT(A42,2)),-1,Feriados!$A$2:$A$2000),1,Feriados!$A$2:$A$2000)) | S42: =IF(OR(R42="",R42="Cadastrar ativo na aba Banco de Códigos B3"),"",NETWORKDAYS($B$1,R42-1,Feriados!$A$2:$A$2000)) | T42: =IF(OR(R42="",R42="Cadastrar ativo na aba Banco de Códigos B3"),"",+ROUND(((100000/N42)^(252/S42)-1)*100,2))
R43: =IF(OR(A43="",LEN(A43)<>3),"",WORKDAY(WORKDAY(DATEVALUE("15/"&VLOOKUP(LEFT(A43,1),$S$1:$U$13,3,FALSE)&"/"&20&RIGHT(A43,2)),-1,Feriados!$A$2:$A$2000),1,Feriados!$A$2:$A$2000)) | S43: =IF(OR(R43="",R43="Cadastrar ativo na aba Banco de Códigos B3"),"",NETWORKDAYS($B$1,R43-1,Feriados!$A$2:$A$2000)) | T43: =IF(OR(R43="",R43="Cadastrar ativo na aba Banco de Códigos B3"),"",+ROUND(((100000/N43)^(252/S43)-1)*100,2))
A44: A taxa e os preços são apenas prévias, não devendo ser considerados definitivos. | R44: =IF(OR(A44="",LEN(A44)<>3),"",WORKDAY(WORKDAY(DATEVALUE("15/"&VLOOKUP(LEFT(A44,1),$S$1:$U$13,3,FALSE)&"/"&20&RIGHT(A44,2)),-1,Feriados!$A$2:$A$2000),1,Feriados!$A$2:$A$2000)) | S44: =IF(OR(R44="",R44="Cadastrar ativo na aba Banco de Códigos B3"),"",NETWORKDAYS($B$1,R44-1,Feriados!$A$2:$A$2000)) | T44: =IF(OR(R44="",R44="Cadastrar ativo na aba Banco de Códigos B3"),"",+ROUND(((100000/N44)^(252/S44)-1)*100,2))
R45: =IF(OR(A45="",LEN(A45)<>3),"",WORKDAY(WORKDAY(DATEVALUE("15/"&VLOOKUP(LEFT(A45,1),$S$1:$U$13,3,FALSE)&"/"&20&RIGHT(A45,2)),-1,Feriados!$A$2:$A$2000),1,Feriados!$A$2:$A$2000)) | S45: =IF(OR(R45="",R45="Cadastrar ativo na aba Banco de Códigos B3"),"",NETWORKDAYS($B$1,R45-1,Feriados!$A$2:$A$2000)) | T45: =IF(OR(R45="",R45="Cadastrar ativo na aba Banco de Códigos B3"),"",+ROUND(((100000/N45)^(252/S45)-1)*100,2))
A46: (1) Contratos em aberto na abertura do dia | R46: =IF(OR(A46="",LEN(A46)<>3),"",WORKDAY(WORKDAY(DATEVALUE("15/"&VLOOKUP(LEFT(A46,1),$S$1:$U$13,3,FALSE)&"/"&20&RIGHT(A46,2)),-1,Feriados!$A$2:$A$2000),1,Feriados!$A$2:$A$2000)) | S46: =IF(OR(R46="",R46="Cadastrar ativo na aba Banco de Códigos B3"),"",NETWORKDAYS($B$1,R46-1,Feriados!$A$2:$A$2000)) | T46: =IF(OR(R46="",R46="Cadastrar ativo na aba Banco de Códigos B3"),"",+ROUND(((100000/N46)^(252/S46)-1)*100,2))
R47: =IF(OR(A47="",LEN(A47)<>3),"",WORKDAY(WORKDAY(DATEVALUE("15/"&VLOOKUP(LEFT(A47,1),$S$1:$U$13,3,FALSE)&"/"&20&RIGHT(A47,2)),-1,Feriados!$A$2:$A$2000),1,Feriados!$A$2:$A$2000)) | S47: =IF(OR(R47="",R47="Cadastrar ativo na aba Banco de Códigos B3"),"",NETWORKDAYS($B$1,R47-1,Feriados!$A$2:$A$2000)) | T47: =IF(OR(R47="",R47="Cadastrar ativo na aba Banco de Códigos B3"),"",+ROUND(((100000/N47)^(252/S47)-1)*100,2))
A48: (2) Contratos em aberto no fechamento do dia | R48: =IF(OR(A48="",LEN(A48)<>3),"",WORKDAY(WORKDAY(DATEVALUE("15/"&VLOOKUP(LEFT(A48,1),$S$1:$U$13,3,FALSE)&"/"&20&RIGHT(A48,2)),-1,Feriados!$A$2:$A$2000),1,Feriados!$A$2:$A$2000)) | S48: =IF(OR(R48="",R48="Cadastrar ativo na aba Banco de Códigos B3"),"",NETWORKDAYS($B$1,R48-1,Feriados!$A$2:$A$2000)) | T48: =IF(OR(R48="",R48="Cadastrar ativo na aba Banco de Códigos B3"),"",+ROUND(((100000/N48)^(252/S48)-1)*100,2))
...

Sheet Ajustes B3
A1: Atualizado em: 14/02/2023 | H1: https://www.b3.com.br/pt_br/market-data-e-indices/servicos-de-dados/market-data/historico/derivativos/ajustes-do-pregao/
A3: Mercadoria | B3: Vencimento | C3: Preço de ajuste anterior | D3: Preço de ajuste Atual | E3: Variação | F3: Valor do ajuste por contrato (R$)
A4: ABEVO - Contrato Futuro de ABEV3 | B4: G23 | C4: 13.16 | D4: 13.02 | E4: -0.14 | F4: 0.14
B5: H23 | C5: 13.27 | D5: 13.13 | E5: -0.14 | F5: 0.14
B6: J23 | C6: 13.42 | D6: 13.28 | E6: -0.14 | F6: 0.14
A7: AFS - Rande da África do Sul (em USD) | B7: H23 | C7: 17873.9 | D7: 17939.1 | E7: 65.2 | F7: 189
B8: J23 | C8: 17923.2 | D8: 17987.8 | E8: 64.6 | F8: 187.26
B9: K23 | C9: 17964 | D9: 18030.2 | E9: 66.2 | F9: 191.89
B10: M23 | C10: 18009.6 | D10: 18079.5 | E10: 69.9 | F10: 202.62
B11: N23 | C11: 18049.8 | D11: 18117.1 | E11: 67.3 | F11: 195.08
A12: ARB - Peso Argentino (em Reais) | B12: H23 | C12: 26.386 | D12: 26.492 | E12: 0.106 | F12: 15.9
B13: J23 | C13: 24.791 | D13: 24.874 | E13: 0.083 | F13: 12.45
B14: K23 | C14: 23.549 | D14: 23.648 | E14: 0.099 | F14: 14.85
B15: M23 | C15: 22.221 | D15: 22.237 | E15: 0.016 | F15: 2.4
B16: N23 | C16: 21.074 | D16: 21.002 | E16: -0.072 | F16: 10.8
A17: ARS - Peso Argentino (em USD) | B17: H23 | C17: 196675.7 | D17: 196924.3 | E17: 248.6 | F17: 67.09
B18: J23 | C18: 210721.5 | D18: 211119 | E18: 397.5 | F18: 107.28
B19: K23 | C19: 222828 | D19: 223057.1 | E19: 229.1 | F19: 61.83
B20: M23 | C20: 237623.8 | D20: 238696.8 | E20: 1073 | F20: 289.59
B21: N23 | C21: 251981 | D21: 254158.6 | E21: 2177.6 | F21: 587.72
A22: AUD - Dólar Australiano (em Reais) | B22: H23 | C22: 3620.355 | D22: 3641.917 | E22: 21.562 | F22: 1293.72
B23: J23 | C23: 3648.577 | D23: 3670.078 | E23: 21.501 | F23: 1290.06
B24: K23 | C24: 3668.38 | D24: 3690.179 | E24: 21.799 | F24: 1307.94
B25: M23 | C25: 3695.346 | D25: 3717.451 | E25: 22.105 | F25: 1326.3
B26: N23 | C26: 3720.024 | D26: 3741.921 | E26: 21.897 | F26: 1313.82
A27: AUS - Dólar Australiano (em USD) | B27: H23 | C27: 697.645 | D27: 698.109 | E27: 0.464 | F27: 24.13
B28: J23 | C28: 698.431 | D28: 698.879 | E28: 0.448 | F28: 23.3
B29: K23 | C29: 699.086 | D29: 699.568 | E29: 0.482 | F29: 25.07
B30: M23 | C30: 699.836 | D30: 700.348 | E30: 0.512 | F30: 26.63
B31: N23 | C31: 700.532 | D31: 701.032 | E31: 0.5 | F31: 26
A32: B3SAO - Contrato Futuro de B3SA3 | B32: G23 | C32: 11.94 | D32: 11.46 | E32: -0.48 | F32: 0.48
B33: H23 | C33: 12.05 | D33: 11.56 | E33: -0.49 | F33: 0.49
B34: J23 | C34: 12.2 | D34: 11.7 | E34: -0.5 | F34: 0.5
A35: BBASO - Contrato Futuro de BBAS3 | B35: G23 | C35: 40.68 | D35: 41.61 | E35: 0.93 | F35: 0.93
B36: H23 | C36: 41.06 | D36: 41.99 | E36: 0.93 | F36: 0.93
B37: J23 | C37: 41.54 | D37: 42.48 | E37: 0.94 | F37: 0.94
A38: BBDCP - Contrato Futuro de BBDC4 | B38: G23 | C38: 13.15 | D38: 13.26 | E38: 0.11 | F38: 0.11
B39: H23 | C39: 13.27 | D39: 13.38 | E39: 0.11 | F39: 0.11
B40: J23 | C40: 13.42 | D40: 13.54 | E40: 0.12 | F40: 0.12
A41: BGI - Boi gordo | B41: G23 | C41: 300.45 | D41: 300.75 | E41: 0.3 | F41: 99
...

Sheet DAP Futuro
A1: DATA: | B1: 44971
A3: VENCTO | B3: CONTR. ABERT.(1) | C3: CONTR. FECH.(2) | D3: NÚM. NEGOC. | E3: CONTR. NEGOC. | F3: VOL. | G3: AJUSTE ANTER. (3) | H3: AJUSTE ANTER. CORRIG. (4) | I3: PREÇO ABERT. | J3: PREÇO MÍN. | K3: PREÇO MÁX. | L3: PREÇO MÉD. | M3: ÚLT. PREÇO | N3: AJUSTE | O3: VAR. PTOS. | P3: ÚLT. OF. COMPRA | Q3: ÚLT. OF. VENDA | R3: Vencimento | S3: DU | T3: Taxa de Ajuste | U3: Valor do Ajuste Por Contrato
A4: Q24 | B4: 230328 | C4: 229645 | D4: 32 | E4: 3095 | F4: 460282202 | G4: 91324.64 | H4: 91324.64 | I4: 6.29 | J4: 6.16 | K4: 6.29 | L4: 6.21 | M4: 6.16 | N4: 91463.11 | O4: 138,47+ | P4: 0 | Q4: 6.2 | R4: 45519 | S4: 375 | T4: =+ROUND(((100000/N4)^(252/S4)-1)*100,2) -> 6.18 | U4: =+'Ajustes B3'!F117 -> 225.25
A5: Q28 | B5: 137372 | C5: 139105 | D5: 47 | E5: 12582 | F5: 1489801232 | G5: 72591.61 | H5: 72591.61 | I5: 5.9 | J5: 5.9 | K5: 6.02 | L5: 5.96 | M5: 5.99 | N5: 72664.09 | O5: 72,48+ | P5: 5.9 | Q5: 0 | R5: 46980 | S5: 1381 | T5: =+ROUND(((100000/N5)^(252/S5)-1)*100,2) -> 6 | U5: =+'Ajustes B3'!F122 -> 117.9
A6: K35 | B6: 74060 | C6: 74290 | D6: 17 | E6: 1800 | F6: 140870364 | G6: 48065.56 | H6: 48065.56 | I6: 6.18 | J6: 6.18 | K6: 6.19 | L6: 6.18 | M6: 6.19 | N6: 48064.15 | O6: 1,41- | P6: 0 | Q6: 0 | R6: 49444 | S6: 3074 | T6: =+ROUND(((100000/N6)^(252/S6)-1)*100,2) -> 6.19 | U6: =+'Ajustes B3'!F126 -> 2.29
A8: Q24 | B8: 230328 | C8: 229645 | D8: 32 | E8: 3095 | F8: =+E8*N4*0.00025*$F$13 -> 4.6048634e+08 | G8: 91300.18 | H8: =TRUNC(+G8*($H$12/$J$13),2) -> 91324.64 | I8: 6.29 | J8: 6.16 | K8: 6.29 | L8: 6.21 | M8: 6.16 | N8: =100000/(1+T8/100)^(S8/252) -> 91463.107 | O8: =+N8-H8 -> 138.46713 | P8: 0 | Q8: 6.2 | R8: 45519 | S8: 375 | T8: 6.18 | U8: =+(O8)*0.00025*$F$13 -> 225.24586
A9: Q28 | B9: 137372 | C9: 139105 | D9: 47 | E9: 12582 | F9: =+E9*N5*0.00025*$F$13 -> 1.4872352e+09 | G9: 72572.17 | H9: =TRUNC(+G9*($H$12/$J$13),2) -> 72591.61 | I9: 5.9 | J9: 5.9 | K9: 6.02 | L9: 5.96 | M9: 5.99 | N9: =100000/(1+T9/100)^(S9/252) -> 72664.09 | O9: =+N9-H9 -> 72.480411 | P9: 5.9 | Q9: 0 | R9: 46980 | S9: 1381 | T9: 6 | U9: =+(O9)*0.00025*$F$13 -> 117.90461
A10: K35 | B10: 74060 | C10: 74290 | D10: 17 | E10: 1800 | F10: =+E10*N6*0.00025*$F$13 -> 1.4073558e+08 | G10: 48052.69 | H10: =TRUNC(+G10*($H$12/$J$13),2) -> 48065.56 | I10: 6.18 | J10: 6.18 | K10: 6.19 | L10: 6.18 | M10: 6.19 | N10: =100000/(1+T10/100)^(S10/252) -> 48064.146 | O10: =+N10-H10 -> -1.4141555 | P10: 0 | Q10: 0 | R10: 49444 | S10: 3074 | T10: 6.19 | U10: =+(O10)*0.00025*$F$13 -> -2.300421
E12: CDI | F12: 13.65 | G12: FC DI→ | H12: =TRUNC((F12/100+1)^(1/252),7) -> 1.0005078
E13: PRT d0 | F13: 6506.84 | G13: PRT d-1 | H13: 6505.28 | I13: FC IPCA→ | J13: =TRUNC(F13/H13,7) -> 1.0002398
C16: Comprado em Taxa Real | F16: ↑
C17: Vendido em PU
C18: Tomado em Juros Reais
C19: Ativo em CDI
C20: Passivo em IPCA+
C21: Contra o IPCA+
C23: Vendido em Taxa Real | F23: ↓
C24: Comprado em PU
C25: Doado em Juros Reais
C26: Ativo em IPCA+
C27: Passivo em CDI
C28: IPCA+

Sheet Simular PRT
I1: Antes 15 do mês | N1: Após 15 do mês
A2: Data Referência | B2: PRT Calculado | C2: IPCA a.m | D2: Retorno a.d | E2: Fator Acum | F2: Retorno Acum | G2: Data 15 Mês Ant. | H2: VNA Mês Ant 15 | I2: du1 | J2: du2 | K2: Data 15 Mês Atual | L2: VNA atual 15 | M2: Data 15 Mês Post | N2: du1 | O2: du2 | P2: Critério | Q2: VNA Calculado
A3: 44819 | B3: 6388.87 | C3: -0.36 | D3: 0 | E3: 1 | F3: 0
A4: 44820 | B4: =ROUND(+Q4,2) -> 6388.5 | C4: -0.12 | D4: =+(B4/B3-1)*100 -> -0.0057913215 | E4: =+(D4/100+1)*E3 -> 0.99994209 | F4: =(+E4-1)*100 -> -0.0057913215 | K4: =WORKDAY(WORKDAY(DATEVALUE(CONCATENATE("15/"&MONTH(A4)&"/"&YEAR(A4))),-1,Feriados!$A$2:$A$1037),1,Feriados!$A$2:$A$1037) -> 44819 | L4: =VLOOKUP(K4,$A$2:$B$76,2,FALSE) -> 6388.87 | M4: =WORKDAY(WORKDAY(DATEVALUE(CONCATENATE("15/"&MONTH(EDATE(A4,1))&"/"&YEAR(EDATE(A4,1)))),-1,Feriados!$A$2:$A$1037),1,Feriados!$A$2:$A$1037) -> 44851 | N4: =IF(P4="antes","",NETWORKDAYS(K4,A4-1,Feriados!$A$2:$A$1037)) -> 1 | O4: =IF(P4="antes","",NETWORKDAYS(K4,M4-1,Feriados!$A$2:$A$1037)) -> 21 | P4: =IF(A4>K4,"Após","Antes") -> Após | Q4: =IF(A4>K4,TRUNC(+L4*((1+C4/100)^(N4/O4)),6),TRUNC(+H4*((1+C4/100)^(I4/J4)),6)) -> 6388.5047
A5: 44823 | B5: =ROUND(+Q5,2) -> 6388.14 | C5: -0.12 | D5: =+(B5/B4-1)*100 -> -0.0056351256 | E5: =+(D5/100+1)*E4 -> 0.99988574 | F5: =(+E5-1)*100 -> -0.011426121 | K5: =WORKDAY(WORKDAY(DATEVALUE(CONCATENATE("15/"&MONTH(A5)&"/"&YEAR(A5))),-1,Feriados!$A$2:$A$1037),1,Feriados!$A$2:$A$1037) -> 44819 | L5: =VLOOKUP(K5,$A$2:$B$76,2,FALSE) -> 6388.87 | M5: =WORKDAY(WORKDAY(DATEVALUE(CONCATENATE("15/"&MONTH(EDATE(A5,1))&"/"&YEAR(EDATE(A5,1)))),-1,Feriados!$A$2:$A$1037),1,Feriados!$A$2:$A$1037) -> 44851 | N5: =IF(P5="antes","",NETWORKDAYS(K5,A5-1,Feriados!$A$2:$A$1037)) -> 2 | O5: =IF(P5="antes","",NETWORKDAYS(K5,M5-1,Feriados!$A$2:$A$1037)) -> 21 | P5: =IF(A5>K5,"Após","Antes") -> Após | Q5: =IF(A5>K5,TRUNC(+L5*((1+C5/100)^(N5/O5)),6),TRUNC(+H5*((1+C5/100)^(I5/J5)),6)) -> 6388.1394
A6: 44824 | B6: =ROUND(+Q6,2) -> 6387.77 | C6: -0.12 | D6: =+(B6/B5-1)*100 -> -0.0057919833 | E6: =+(D6/100+1)*E5 -> 0.99982783 | F6: =(+E6-1)*100 -> -0.017217442 | K6: =WORKDAY(WORKDAY(DATEVALUE(CONCATENATE("15/"&MONTH(A6)&"/"&YEAR(A6))),-1,Feriados!$A$2:$A$1037),1,Feriados!$A$2:$A$1037) -> 44819 | L6: =VLOOKUP(K6,$A$2:$B$76,2,FALSE) -> 6388.87 | M6: =WORKDAY(WORKDAY(DATEVALUE(CONCATENATE("15/"&MONTH(EDATE(A6,1))&"/"&YEAR(EDATE(A6,1)))),-1,Feriados!$A$2:$A$1037),1,Feriados!$A$2:$A$1037) -> 44851 | N6: =IF(P6="antes","",NETWORKDAYS(K6,A6-1,Feriados!$A$2:$A$1037)) -> 3 | O6: =IF(P6="antes","",NETWORKDAYS(K6,M6-1,Feriados!$A$2:$A$1037)) -> 21 | P6: =IF(A6>K6,"Após","Antes") -> Após | Q6: =IF(A6>K6,TRUNC(+L6*((1+C6/100)^(N6/O6)),6),TRUNC(+H6*((1+C6/100)^(I6/J6)),6)) -> 6387.7742
A7: 44825 | B7: =ROUND(+Q7,2) -> 6387.41 | C7: -0.12 | D7: =+(B7/B6-1)*100 -> -0.0056357696 | E7: =+(D7/100+1)*E6 -> 0.99977148 | F7: =(+E7-1)*100 -> -0.022852241 | K7: =WORKDAY(WORKDAY(DATEVALUE(CONCATENATE("15/"&MONTH(A7)&"/"&YEAR(A7))),-1,Feriados!$A$2:$A$1037),1,Feriados!$A$2:$A$1037) -> 44819 | L7: =VLOOKUP(K7,$A$2:$B$76,2,FALSE) -> 6388.87 | M7: =WORKDAY(WORKDAY(DATEVALUE(CONCATENATE("15/"&MONTH(EDATE(A7,1))&"/"&YEAR(EDATE(A7,1)))),-1,Feriados!$A$2:$A$1037),1,Feriados!$A$2:$A$1037) -> 44851 | N7: =IF(P7="antes","",NETWORKDAYS(K7,A7-1,Feriados!$A$2:$A$1037)) -> 4 | O7: =IF(P7="antes","",NETWORKDAYS(K7,M7-1,Feriados!$A$2:$A$1037)) -> 21 | P7: =IF(A7>K7,"Após","Antes") -> Após | Q7: =IF(A7>K7,TRUNC(+L7*((1+C7/100)^(N7/O7)),6),TRUNC(+H7*((1+C7/100)^(I7/J7)),6)) -> 6387.409
A8: 44826 | B8: =ROUND(+Q8,2) -> 6387.04 | C8: -0.12 | D8: =+(B8/B7-1)*100 -> -0.0057926452 | E8: =+(D8/100+1)*E7 -> 0.99971356 | F8: =(+E8-1)*100 -> -0.028643563 | K8: =WORKDAY(WORKDAY(DATEVALUE(CONCATENATE("15/"&MONTH(A8)&"/"&YEAR(A8))),-1,Feriados!$A$2:$A$1037),1,Feriados!$A$2:$A$1037) -> 44819 | L8: =VLOOKUP(K8,$A$2:$B$76,2,FALSE) -> 6388.87 | M8: =WORKDAY(WORKDAY(DATEVALUE(CONCATENATE("15/"&MONTH(EDATE(A8,1))&"/"&YEAR(EDATE(A8,1)))),-1,Feriados!$A$2:$A$1037),1,Feriados!$A$2:$A$1037) -> 44851 | N8: =IF(P8="antes","",NETWORKDAYS(K8,A8-1,Feriados!$A$2:$A$1037)) -> 5 | O8: =IF(P8="antes","",NETWORKDAYS(K8,M8-1,Feriados!$A$2:$A$1037)) -> 21 | P8: =IF(A8>K8,"Após","Antes") -> Após | Q8: =IF(A8>K8,TRUNC(+L8*((1+C8/100)^(N8/O8)),6),TRUNC(+H8*((1+C8/100)^(I8/J8)),6)) -> 6387.0438
A9: 44827 | B9: =ROUND(+Q9,2) -> 6386.68 | C9: -0.12 | D9: =+(B9/B8-1)*100 -> -0.0056364137 | E9: =+(D9/100+1)*E8 -> 0.99965722 | F9: =(+E9-1)*100 -> -0.034278362 | K9: =WORKDAY(WORKDAY(DATEVALUE(CONCATENATE("15/"&MONTH(A9)&"/"&YEAR(A9))),-1,Feriados!$A$2:$A$1037),1,Feriados!$A$2:$A$1037) -> 44819 | L9: =VLOOKUP(K9,$A$2:$B$76,2,FALSE) -> 6388.87 | M9: =WORKDAY(WORKDAY(DATEVALUE(CONCATENATE("15/"&MONTH(EDATE(A9,1))&"/"&YEAR(EDATE(A9,1)))),-1,Feriados!$A$2:$A$1037),1,Feriados!$A$2:$A$1037) -> 44851 | N9: =IF(P9="antes","",NETWORKDAYS(K9,A9-1,Feriados!$A$2:$A$1037)) -> 6 | O9: =IF(P9="antes","",NETWORKDAYS(K9,M9-1,Feriados!$A$2:$A$1037)) -> 21 | P9: =IF(A9>K9,"Após","Antes") -> Após | Q9: =IF(A9>K9,TRUNC(+L9*((1+C9/100)^(N9/O9)),6),TRUNC(+H9*((1+C9/100)^(I9/J9)),6)) -> 6386.6786
A10: 44830 | B10: =ROUND(+Q10,2) -> 6386.31 | C10: -0.12 | D10: =+(B10/B9-1)*100 -> -0.0057933073 | E10: =+(D10/100+1)*E9 -> 0.9995993 | F10: =(+E10-1)*100 -> -0.040069684 | K10: =WORKDAY(WORKDAY(DATEVALUE(CONCATENATE("15/"&MONTH(A10)&"/"&YEAR(A10))),-1,Feriados!$A$2:$A$1037),1,Feriados!$A$2:$A$1037) -> 44819 | L10: =VLOOKUP(K10,$A$2:$B$76,2,FALSE) -> 6388.87 | M10: =WORKDAY(WORKDAY(DATEVALUE(CONCATENATE("15/"&MONTH(EDATE(A10,1))&"/"&YEAR(EDATE(A10,1)))),-1,Feriados!$A$2:$A$1037),1,Feriados!$A$2:$A$1037) -> 44851 | N10: =IF(P10="antes","",NETWORKDAYS(K10,A10-1,Feriados!$A$2:$A$1037)) -> 7 | O10: =IF(P10="antes","",NETWORKDAYS(K10,M10-1,Feriados!$A$2:$A$1037)) -> 21 | P10: =IF(A10>K10,"Após","Antes") -> Após | Q10: =IF(A10>K10,TRUNC(+L10*((1+C10/100)^(N10/O10)),6),TRUNC(+H10*((1+C10/100)^(I10/J10)),6)) -> 6386.3134
A11: 44831 | B11: =ROUND(+Q11,2) -> 6385.95 | C11: -0.12 | D11: =+(B11/B10-1)*100 -> -0.005637058 | E11: =+(D11/100+1)*E10 -> 0.99954296 | F11: =(+E11-1)*100 -> -0.045704483 | K11: =WORKDAY(WORKDAY(DATEVALUE(CONCATENATE("15/"&MONTH(A11)&"/"&YEAR(A11))),-1,Feriados!$A$2:$A$1037),1,Feriados!$A$2:$A$1037) -> 44819 | L11: =VLOOKUP(K11,$A$2:$B$76,2,FALSE) -> 6388.87 | M11: =WORKDAY(WORKDAY(DATEVALUE(CONCATENATE("15/"&MONTH(EDATE(A11,1))&"/"&YEAR(EDATE(A11,1)))),-1,Feriados!$A$2:$A$1037),1,Feriados!$A$2:$A$1037) -> 44851 | N11: =IF(P11="antes","",NETWORKDAYS(K11,A11-1,Feriados!$A$2:$A$1037)) -> 8 | O11: =IF(P11="antes","",NETWORKDAYS(K11,M11-1,Feriados!$A$2:$A$1037)) -> 21 | P11: =IF(A11>K11,"Após","Antes") -> Após | Q11: =IF(A11>K11,TRUNC(+L11*((1+C11/100)^(N11/O11)),6),TRUNC(+H11*((1+C11/100)^(I11/J11)),6)) -> 6385.9483
A12: 44832 | B12: =ROUND(+Q12,2) -> 6380.1 | C12: -0.32 | D12: =+(B12/B11-1)*100 -> -0.091607357 | E12: =+(D12/100+1)*E11 -> 0.9986273 | F12: =(+E12-1)*100 -> -0.13726997 | K12: =WORKDAY(WORKDAY(DATEVALUE(CONCATENATE("15/"&MONTH(A12)&"/"&YEAR(A12))),-1,Feriados!$A$2:$A$1037),1,Feriados!$A$2:$A$1037) -> 44819 | L12: =VLOOKUP(K12,$A$2:$B$76,2,FALSE) -> 6388.87 | M12: =WORKDAY(WORKDAY(DATEVALUE(CONCATENATE("15/"&MONTH(EDATE(A12,1))&"/"&YEAR(EDATE(A12,1)))),-1,Feriados!$A$2:$A$1037),1,Feriados!$A$2:$A$1037) -> 44851 | N12: =IF(P12="antes","",NETWORKDAYS(K12,A12-1,Feriados!$A$2:$A$1037)) -> 9 | O12: =IF(P12="antes","",NETWORKDAYS(K12,M12-1,Feriados!$A$2:$A$1037)) -> 21 | P12: =IF(A12>K12,"Após","Antes") -> Após | Q12: =IF(A12>K12,TRUNC(+L12*((1+C12/100)^(N12/O12)),6),TRUNC(+H12*((1+C12/100)^(I12/J12)),6)) -> 6380.1001
A13: 44833 | B13: =ROUND(+Q13,2) -> 6379.13 | C13: -0.32 | D13: =+(B13/B12-1)*100 -> -0.015203523 | E13: =+(D13/100+1)*E12 -> 0.99847547 | F13: =(+E13-1)*100 -> -0.15245262 | K13: =WORKDAY(WORKDAY(DATEVALUE(CONCATENATE("15/"&MONTH(A13)&"/"&YEAR(A13))),-1,Feriados!$A$2:$A$1037),1,Feriados!$A$2:$A$1037) -> 44819 | L13: =VLOOKUP(K13,$A$2:$B$76,2,FALSE) -> 6388.87 | M13: =WORKDAY(WORKDAY(DATEVALUE(CONCATENATE("15/"&MONTH(EDATE(A13,1))&"/"&YEAR(EDATE(A13,1)))),-1,Feriados!$A$2:$A$1037),1,Feriados!$A$2:$A$1037) -> 44851 | N13: =IF(P13="antes","",NETWORKDAYS(K13,A13-1,Feriados!$A$2:$A$1037)) -> 10 | O13: =IF(P13="antes","",NETWORKDAYS(K13,M13-1,Feriados!$A$2:$A$1037)) -> 21 | P13: =IF(A13>K13,"Após","Antes") -> Após | Q13: =IF(A13>K13,TRUNC(+L13*((1+C13/100)^(N13/O13)),6),TRUNC(+H13*((1+C13/100)^(I13/J13)),6)) -> 6379.1264
A14: 44834 | B14: =ROUND(+Q14,2) -> 6378.15 | C14: -0.32 | D14: =+(B14/B13-1)*100 -> -0.015362596 | E14: =+(D14/100+1)*E13 -> 0.99832208 | F14: =(+E14-1)*100 -> -0.1677918 | K14: =WORKDAY(WORKDAY(DATEVALUE(CONCATENATE("15/"&MONTH(A14)&"/"&YEAR(A14))),-1,Feriados!$A$2:$A$1037),1,Feriados!$A$2:$A$1037) -> 44819 | L14: =VLOOKUP(K14,$A$2:$B$76,2,FALSE) -> 6388.87 | M14: =WORKDAY(WORKDAY(DATEVALUE(CONCATENATE("15/"&MONTH(EDATE(A14,1))&"/"&YEAR(EDATE(A14,1)))),-1,Feriados!$A$2:$A$1037),1,Feriados!$A$2:$A$1037) -> 44851 | N14: =IF(P14="antes","",NETWORKDAYS(K14,A14-1,Feriados!$A$2:$A$1037)) -> 11 | O14: =IF(P14="antes","",NETWORKDAYS(K14,M14-1,Feriados!$A$2:$A$1037)) -> 21 | P14: =IF(A14>K14,"Após","Antes") -> Após | Q14: =IF(A14>K14,TRUNC(+L14*((1+C14/100)^(N14/O14)),6),TRUNC(+H14*((1+C14/100)^(I14/J14)),6)) -> 6378.1529
A15: 44837 | B15: =ROUND(+Q15,2) -> 6377.18 | C15: -0.32 | D15: =+(B15/B14-1)*100 -> -0.015208172 | E15: =+(D15/100+1)*E14 -> 0.99817026 | F15: =(+E15-1)*100 -> -0.18297445 | G15: =WORKDAY(WORKDAY(DATEVALUE(CONCATENATE("15/"&MONTH(EDATE($A15,-1))&"/"&YEAR(EDATE(A15,-1)))),-1,Feriados!$A$2:$A$1037),1,Feriados!$A$2:$A$1037) -> 44819 | H15: =VLOOKUP(G15,$A$2:$B$76,2,FALSE) -> 6388.87 | I15: =IF(P15="após","",NETWORKDAYS(G15,A15-1,Feriados!$A$2:$A$1037)) -> 12 | J15: =IF(P15="após","",NETWORKDAYS(G15,K15-1,Feriados!$A$2:$A$1037)) -> 21 | K15: =WORKDAY(WORKDAY(DATEVALUE(CONCATENATE("15/"&MONTH(A15)&"/"&YEAR(A15))),-1,Feriados!$A$2:$A$1037),1,Feriados!$A$2:$A$1037) -> 44851 | L15: =VLOOKUP(K15,$A$2:$B$76,2,FALSE) -> 6370.34 | M15: =WORKDAY(WORKDAY(DATEVALUE(CONCATENATE("15/"&MONTH(EDATE(A15,1))&"/"&YEAR(EDATE(A15,1)))),-1,Feriados!$A$2:$A$1037),1,Feriados!$A$2:$A$1037) -> 44881 | N15: =IF(P15="antes","",NETWORKDAYS(K15,A15-1,Feriados!$A$2:$A$1037)) | O15: =IF(P15="antes","",NETWORKDAYS(K15,M15-1,Feriados!$A$2:$A$1037)) | P15: =IF(A15>K15,"Após","Antes") -> Antes | Q15: =IF(A15>K15,TRUNC(+L15*((1+C15/100)^(N15/O15)),6),TRUNC(+H15*((1+C15/100)^(I15/J15)),6)) -> 6377.1795
A16: 44838 | B16: =ROUND(+Q16,2) -> 6376.21 | C16: -0.32 | D16: =+(B16/B15-1)*100 -> -0.015210485 | E16: =+(D16/100+1)*E15 -> 0.99801843 | F16: =(+E16-1)*100 -> -0.19815711 | G16: =WORKDAY(WORKDAY(DATEVALUE(CONCATENATE("15/"&MONTH(EDATE($A16,-1))&"/"&YEAR(EDATE(A16,-1)))),-1,Feriados!$A$2:$A$1037),1,Feriados!$A$2:$A$1037) -> 44819 | H16: =VLOOKUP(G16,$A$2:$B$76,2,FALSE) -> 6388.87 | I16: =IF(P16="após","",NETWORKDAYS(G16,A16-1,Feriados!$A$2:$A$1037)) -> 13 | J16: =IF(P16="após","",NETWORKDAYS(G16,K16-1,Feriados!$A$2:$A$1037)) -> 21 | K16: =WORKDAY(WORKDAY(DATEVALUE(CONCATENATE("15/"&MONTH(A16)&"/"&YEAR(A16))),-1,Feriados!$A$2:$A$1037),1,Feriados!$A$2:$A$1037) -> 44851 | L16: =VLOOKUP(K16,$A$2:$B$76,2,FALSE) -> 6370.34 | M16: =WORKDAY(WORKDAY(DATEVALUE(CONCATENATE("15/"&MONTH(EDATE(A16,1))&"/"&YEAR(EDATE(A16,1)))),-1,Feriados!$A$2:$A$1037),1,Feriados!$A$2:$A$1037) -> 44881 | N16: =IF(P16="antes","",NETWORKDAYS(K16,A16-1,Feriados!$A$2:$A$1037)) | O16: =IF(P16="antes","",NETWORKDAYS(K16,M16-1,Feriados!$A$2:$A$1037)) | P16: =IF(A16>K16,"Após","Antes") -> Antes | Q16: =IF(A16>K16,TRUNC(+L16*((1+C16/100)^(N16/O16)),6),TRUNC(+H16*((1+C16/100)^(I16/J16)),6)) -> 6376.2062
A17: 44839 | B17: =ROUND(+Q17,2) -> 6375.23 | C17: -0.32 | D17: =+(B17/B16-1)*100 -> -0.015369632 | E17: =+(D17/100+1)*E16 -> 0.99786504 | F17: =(+E17-1)*100 -> -0.21349628 | G17: =WORKDAY(WORKDAY(DATEVALUE(CONCATENATE("15/"&MONTH(EDATE($A17,-1))&"/"&YEAR(EDATE(A17,-1)))),-1,Feriados!$A$2:$A$1037),1,Feriados!$A$2:$A$1037) -> 44819 | H17: =VLOOKUP(G17,$A$2:$B$76,2,FALSE) -> 6388.87 | I17: =IF(P17="após","",NETWORKDAYS(G17,A17-1,Feriados!$A$2:$A$1037)) -> 14 | J17: =IF(P17="após","",NETWORKDAYS(G17,K17-1,Feriados!$A$2:$A$1037)) -> 21 | K17: =WORKDAY(WORKDAY(DATEVALUE(CONCATENATE("15/"&MONTH(A17)&"/"&YEAR(A17))),-1,Feriados!$A$2:$A$1037),1,Feriados!$A$2:$A$1037) -> 44851 | L17: =VLOOKUP(K17,$A$2:$B$76,2,FALSE) -> 6370.34 | M17: =WORKDAY(WORKDAY(DATEVALUE(CONCATENATE("15/"&MONTH(EDATE(A17,1))&"/"&YEAR(EDATE(A17,1)))),-1,Feriados!$A$2:$A$1037),1,Feriados!$A$2:$A$1037) -> 44881 | N17: =IF(P17="antes","",NETWORKDAYS(K17,A17-1,Feriados!$A$2:$A$1037)) | O17: =IF(P17="antes","",NETWORKDAYS(K17,M17-1,Feriados!$A$2:$A$1037)) | P17: =IF(A17>K17,"Após","Antes") -> Antes | Q17: =IF(A17>K17,TRUNC(+L17*((1+C17/100)^(N17/O17)),6),TRUNC(+H17*((1+C17/100)^(I17/J17)),6)) -> 6375.2331
A18: 44840 | B18: =ROUND(+Q18,2) -> 6374.26 | C18: -0.32 | D18: =+(B18/B17-1)*100 -> -0.015215137 | E18: =+(D18/100+1)*E17 -> 0.99771321 | F18: =(+E18-1)*100 -> -0.22867894 | G18: =WORKDAY(WORKDAY(DATEVALUE(CONCATENATE("15/"&MONTH(EDATE($A18,-1))&"/"&YEAR(EDATE(A18,-1)))),-1,Feriados!$A$2:$A$1037),1,Feriados!$A$2:$A$1037) -> 44819 | H18: =VLOOKUP(G18,$A$2:$B$76,2,FALSE) -> 6388.87 | I18: =IF(P18="após","",NETWORKDAYS(G18,A18-1,Feriados!$A$2:$A$1037)) -> 15 | J18: =IF(P18="após","",NETWORKDAYS(G18,K18-1,Feriados!$A$2:$A$1037)) -> 21 | K18: =WORKDAY(WORKDAY(DATEVALUE(CONCATENATE("15/"&MONTH(A18)&"/"&YEAR(A18))),-1,Feriados!$A$2:$A$1037),1,Feriados!$A$2:$A$1037) -> 44851 | L18: =VLOOKUP(K18,$A$2:$B$76,2,FALSE) -> 6370.34 | M18: =WORKDAY(WORKDAY(DATEVALUE(CONCATENATE("15/"&MONTH(EDATE(A18,1))&"/"&YEAR(EDATE(A18,1)))),-1,Feriados!$A$2:$A$1037),1,Feriados!$A$2:$A$1037) -> 44881 | N18: =IF(P18="antes","",NETWORKDAYS(K18,A18-1,Feriados!$A$2:$A$1037)) | O18: =IF(P18="antes","",NETWORKDAYS(K18,M18-1,Feriados!$A$2:$A$1037)) | P18: =IF(A18>K18,"Após","Antes") -> Antes | Q18: =IF(A18>K18,TRUNC(+L18*((1+C18/100)^(N18/O18)),6),TRUNC(+H18*((1+C18/100)^(I18/J18)),6)) -> 6374.2602
A19: 44841 | B19: =ROUND(+Q19,2) -> 6373.29 | C19: -0.32 | D19: =+(B19/B18-1)*100 -> -0.015217453 | E19: =+(D19/100+1)*E18 -> 0.99756138 | F19: =(+E19-1)*100 -> -0.24386159 | G19: =WORKDAY(WORKDAY(DATEVALUE(CONCATENATE("15/"&MONTH(EDATE($A19,-1))&"/"&YEAR(EDATE(A19,-1)))),-1,Feriados!$A$2:$A$1037),1,Feriados!$A$2:$A$1037) -> 44819 | H19: =VLOOKUP(G19,$A$2:$B$76,2,FALSE) -> 6388.87 | I19: =IF(P19="após","",NETWORKDAYS(G19,A19-1,Feriados!$A$2:$A$1037)) -> 16 | J19: =IF(P19="após","",NETWORKDAYS(G19,K19-1,Feriados!$A$2:$A$1037)) -> 21 | K19: =WORKDAY(WORKDAY(DATEVALUE(CONCATENATE("15/"&MONTH(A19)&"/"&YEAR(A19))),-1,Feriados!$A$2:$A$1037),1,Feriados!$A$2:$A$1037) -> 44851 | L19: =VLOOKUP(K19,$A$2:$B$76,2,FALSE) -> 6370.34 | M19: =WORKDAY(WORKDAY(DATEVALUE(CONCATENATE("15/"&MONTH(EDATE(A19,1))&"/"&YEAR(EDATE(A19,1)))),-1,Feriados!$A$2:$A$1037),1,Feriados!$A$2:$A$1037) -> 44881 | N19: =IF(P19="antes","",NETWORKDAYS(K19,A19-1,Feriados!$A$2:$A$1037)) | O19: =IF(P19="antes","",NETWORKDAYS(K19,M19-1,Feriados!$A$2:$A$1037)) | P19: =IF(A19>K19,"Após","Antes") -> Antes | Q19: =IF(A19>K19,TRUNC(+L19*((1+C19/100)^(N19/O19)),6),TRUNC(+H19*((1+C19/100)^(I19/J19)),6)) -> 6373.2874
A20: 44844 | B20: =ROUND(+Q20,2) -> 6372.31 | C20: -0.32 | D20: =+(B20/B19-1)*100 -> -0.015376674 | E20: =+(D20/100+1)*E19 -> 0.99740799 | F20: =(+E20-1)*100 -> -0.25920077 | G20: =WORKDAY(WORKDAY(DATEVALUE(CONCATENATE("15/"&MONTH(EDATE($A20,-1))&"/"&YEAR(EDATE(A20,-1)))),-1,Feriados!$A$2:$A$1037),1,Feriados!$A$2:$A$1037) -> 44819 | H20: =VLOOKUP(G20,$A$2:$B$76,2,FALSE) -> 6388.87 | I20: =IF(P20="após","",NETWORKDAYS(G20,A20-1,Feriados!$A$2:$A$1037)) -> 17 | J20: =IF(P20="após","",NETWORKDAYS(G20,K20-1,Feriados!$A$2:$A$1037)) -> 21 | K20: =WORKDAY(WORKDAY(DATEVALUE(CONCATENATE("15/"&MONTH(A20)&"/"&YEAR(A20))),-1,Feriados!$A$2:$A$1037),1,Feriados!$A$2:$A$1037) -> 44851 | L20: =VLOOKUP(K20,$A$2:$B$76,2,FALSE) -> 6370.34 | M20: =WORKDAY(WORKDAY(DATEVALUE(CONCATENATE("15/"&MONTH(EDATE(A20,1))&"/"&YEAR(EDATE(A20,1)))),-1,Feriados!$A$2:$A$1037),1,Feriados!$A$2:$A$1037) -> 44881 | N20: =IF(P20="antes","",NETWORKDAYS(K20,A20-1,Feriados!$A$2:$A$1037)) | O20: =IF(P20="antes","",NETWORKDAYS(K20,M20-1,Feriados!$A$2:$A$1037)) | P20: =IF(A20>K20,"Após","Antes") -> Antes | Q20: =IF(A20>K20,TRUNC(+L20*((1+C20/100)^(N20/O20)),6),TRUNC(+H20*((1+C20/100)^(I20/J20)),6)) -> 6372.3147
A21: 44845 | B21: =ROUND(+Q21,2) -> 6372.98 | C21: -0.29003563 | D21: =+(B21/B20-1)*100 -> 0.010514241 | E21: =+(D21/100+1)*E20 -> 0.99751286 | F21: =(+E21-1)*100 -> -0.24871378 | G21: =WORKDAY(WORKDAY(DATEVALUE(CONCATENATE("15/"&MONTH(EDATE($A21,-1))&"/"&YEAR(EDATE(A21,-1)))),-1,Feriados!$A$2:$A$1037),1,Feriados!$A$2:$A$1037) -> 44819 | H21: =VLOOKUP(G21,$A$2:$B$76,2,FALSE) -> 6388.87 | I21: =IF(P21="após","",NETWORKDAYS(G21,A21-1,Feriados!$A$2:$A$1037)) -> 18 | J21: =IF(P21="após","",NETWORKDAYS(G21,K21-1,Feriados!$A$2:$A$1037)) -> 21 | K21: =WORKDAY(WORKDAY(DATEVALUE(CONCATENATE("15/"&MONTH(A21)&"/"&YEAR(A21))),-1,Feriados!$A$2:$A$1037),1,Feriados!$A$2:$A$1037) -> 44851 | L21: =VLOOKUP(K21,$A$2:$B$76,2,FALSE) -> 6370.34 | M21: =WORKDAY(WORKDAY(DATEVALUE(CONCATENATE("15/"&MONTH(EDATE(A21,1))&"/"&YEAR(EDATE(A21,1)))),-1,Feriados!$A$2:$A$1037),1,Feriados!$A$2:$A$1037) -> 44881 | N21: =IF(P21="antes","",NETWORKDAYS(K21,A21-1,Feriados!$A$2:$A$1037)) | O21: =IF(P21="antes","",NETWORKDAYS(K21,M21-1,Feriados!$A$2:$A$1037)) | P21: =IF(A21>K21,"Após","Antes") -> Antes | Q21: =IF(A21>K21,TRUNC(+L21*((1+C21/100)^(N21/O21)),6),TRUNC(+H21*((1+C21/100)^(I21/J21)),6)) -> 6372.9838
A22: 44847 | B22: =ROUND(+Q22,2) -> 6372.1 | C22: -0.29003563 | D22: =+(B22/B21-1)*100 -> -0.013808297 | E22: =+(D22/100+1)*E21 -> 0.99737512 | F22: =(+E22-1)*100 -> -0.26248773 | G22: =WORKDAY(WORKDAY(DATEVALUE(CONCATENATE("15/"&MONTH(EDATE($A22,-1))&"/"&YEAR(EDATE(A22,-1)))),-1,Feriados!$A$2:$A$1037),1,Feriados!$A$2:$A$1037) -> 44819 | H22: =VLOOKUP(G22,$A$2:$B$76,2,FALSE) -> 6388.87 | I22: =IF(P22="após","",NETWORKDAYS(G22,A22-1,Feriados!$A$2:$A$1037)) -> 19 | J22: =IF(P22="após","",NETWORKDAYS(G22,K22-1,Feriados!$A$2:$A$1037)) -> 21 | K22: =WORKDAY(WORKDAY(DATEVALUE(CONCATENATE("15/"&MONTH(A22)&"/"&YEAR(A22))),-1,Feriados!$A$2:$A$1037),1,Feriados!$A$2:$A$1037) -> 44851 | L22: =VLOOKUP(K22,$A$2:$B$76,2,FALSE) -> 6370.34 | M22: =WORKDAY(WORKDAY(DATEVALUE(CONCATENATE("15/"&MONTH(EDATE(A22,1))&"/"&YEAR(EDATE(A22,1)))),-1,Feriados!$A$2:$A$1037),1,Feriados!$A$2:$A$1037) -> 44881 | N22: =IF(P22="antes","",NETWORKDAYS(K22,A22-1,Feriados!$A$2:$A$1037)) | O22: =IF(P22="antes","",NETWORKDAYS(K22,M22-1,Feriados!$A$2:$A$1037)) | P22: =IF(A22>K22,"Após","Antes") -> Antes | Q22: =IF(A22>K22,TRUNC(+L22*((1+C22/100)^(N22/O22)),6),TRUNC(+H22*((1+C22/100)^(I22/J22)),6)) -> 6372.1024
A23: 44848 | B23: =ROUND(+Q23,2) -> 6371.22 | C23: -0.29003563 | D23: =+(B23/B22-1)*100 -> -0.013810204 | E23: =+(D23/100+1)*E22 -> 0.99723738 | F23: =(+E23-1)*100 -> -0.27626169 | G23: =WORKDAY(WORKDAY(DATEVALUE(CONCATENATE("15/"&MONTH(EDATE($A23,-1))&"/"&YEAR(EDATE(A23,-1)))),-1,Feriados!$A$2:$A$1037),1,Feriados!$A$2:$A$1037) -> 44819 | H23: =VLOOKUP(G23,$A$2:$B$76,2,FALSE) -> 6388.87 | I23: =IF(P23="após","",NETWORKDAYS(G23,A23-1,Feriados!$A$2:$A$1037)) -> 20 | J23: =IF(P23="após","",NETWORKDAYS(G23,K23-1,Feriados!$A$2:$A$1037)) -> 21 | K23: =WORKDAY(WORKDAY(DATEVALUE(CONCATENATE("15/"&MONTH(A23)&"/"&YEAR(A23))),-1,Feriados!$A$2:$A$1037),1,Feriados!$A$2:$A$1037) -> 44851 | L23: =VLOOKUP(K23,$A$2:$B$76,2,FALSE) -> 6370.34 | M23: =WORKDAY(WORKDAY(DATEVALUE(CONCATENATE("15/"&MONTH(EDATE(A23,1))&"/"&YEAR(EDATE(A23,1)))),-1,Feriados!$A$2:$A$1037),1,Feriados!$A$2:$A$1037) -> 44881 | N23: =IF(P23="antes","",NETWORKDAYS(K23,A23-1,Feriados!$A$2:$A$1037)) | O23: =IF(P23="antes","",NETWORKDAYS(K23,M23-1,Feriados!$A$2:$A$1037)) | P23: =IF(A23>K23,"Após","Antes") -> Antes | Q23: =IF(A23>K23,TRUNC(+L23*((1+C23/100)^(N23/O23)),6),TRUNC(+H23*((1+C23/100)^(I23/J23)),6)) -> 6371.2212
A24: 44851 | B24: =ROUND(+Q24,2) -> 6370.34 | C24: -0.29003563 | D24: =+(B24/B23-1)*100 -> -0.013812111 | E24: =+(D24/100+1)*E23 -> 0.99709964 | F24: =(+E24-1)*100 -> -0.29003564 | G24: =WORKDAY(WORKDAY(DATEVALUE(CONCATENATE("15/"&MONTH(EDATE($A24,-1))&"/"&YEAR(EDATE(A24,-1)))),-1,Feriados!$A$2:$A$1037),1,Feriados!$A$2:$A$1037) -> 44819 | H24: =VLOOKUP(G24,$A$2:$B$76,2,FALSE) -> 6388.87 | I24: =IF(P24="após","",NETWORKDAYS(G24,A24-1,Feriados!$A$2:$A$1037)) -> 21 | J24: =IF(P24="após","",NETWORKDAYS(G24,K24-1,Feriados!$A$2:$A$1037)) -> 21 | K24: =WORKDAY(WORKDAY(DATEVALUE(CONCATENATE("15/"&MONTH(A24)&"/"&YEAR(A24))),-1,Feriados!$A$2:$A$1037),1,Feriados!$A$2:$A$1037) -> 44851 | L24: =VLOOKUP(K24,$A$2:$B$76,2,FALSE) -> 6370.34 | M24: =WORKDAY(WORKDAY(DATEVALUE(CONCATENATE("15/"&MONTH(EDATE(A24,1))&"/"&YEAR(EDATE(A24,1)))),-1,Feriados!$A$2:$A$1037),1,Feriados!$A$2:$A$1037) -> 44881 | N24: =IF(P24="antes","",NETWORKDAYS(K24,A24-1,Feriados!$A$2:$A$1037)) | O24: =IF(P24="antes","",NETWORKDAYS(K24,M24-1,Feriados!$A$2:$A$1037)) | P24: =IF(A24>K24,"Após","Antes") -> Antes | Q24: =IF(A24>K24,TRUNC(+L24*((1+C24/100)^(N24/O24)),6),TRUNC(+H24*((1+C24/100)^(I24/J24)),6)) -> 6370.34
A25: 44852 | B25: =ROUND(+Q25,2) -> 6369.41 | C25: =+C24 -> -0.29003563 | D25: =+(B25/B24-1)*100 -> -0.014598907 | E25: =+(D25/100+1)*E24 -> 0.99695408 | F25: =(+E25-1)*100 -> -0.3045922 | G25: =WORKDAY(WORKDAY(DATEVALUE(CONCATENATE("15/"&MONTH(EDATE($A25,-1))&"/"&YEAR(EDATE(A25,-1)))),-1,Feriados!$A$2:$A$1037),1,Feriados!$A$2:$A$1037) -> 44819 | H25: =VLOOKUP(G25,$A$2:$B$76,2,FALSE) -> 6388.87 | I25: =IF(P25="após","",NETWORKDAYS(G25,A25-1,Feriados!$A$2:$A$1037)) | J25: =IF(P25="após","",NETWORKDAYS(G25,K25-1,Feriados!$A$2:$A$1037)) | K25: =WORKDAY(WORKDAY(DATEVALUE(CONCATENATE("15/"&MONTH(A25)&"/"&YEAR(A25))),-1,Feriados!$A$2:$A$1037),1,Feriados!$A$2:$A$1037) -> 44851 | L25: =VLOOKUP(K25,$A$2:$B$76,2,FALSE) -> 6370.34 | M25: =WORKDAY(WORKDAY(DATEVALUE(CONCATENATE("15/"&MONTH(EDATE(A25,1))&"/"&YEAR(EDATE(A25,1)))),-1,Feriados!$A$2:$A$1037),1,Feriados!$A$2:$A$1037) -> 44881 | N25: =IF(P25="antes","",NETWORKDAYS(K25,A25-1,Feriados!$A$2:$A$1037)) -> 1 | O25: =IF(P25="antes","",NETWORKDAYS(K25,M25-1,Feriados!$A$2:$A$1037)) -> 20 | P25: =IF(A25>K25,"Após","Antes") -> Após | Q25: =IF(A25>K25,TRUNC(+L25*((1+C25/100)^(N25/O25)),6),TRUNC(+H25*((1+C25/100)^(I25/J25)),6)) -> 6369.4149
A26: 44853 | B26: =ROUND(+Q26,2) -> 6368.49 | C26: =+C25 -> -0.29003563 | D26: =+(B26/B25-1)*100 -> -0.014444038 | E26: =+(D26/100+1)*E25 -> 0.99681008 | F26: =(+E26-1)*100 -> -0.31899225 | G26: =WORKDAY(WORKDAY(DATEVALUE(CONCATENATE("15/"&MONTH(EDATE($A26,-1))&"/"&YEAR(EDATE(A26,-1)))),-1,Feriados!$A$2:$A$1037),1,Feriados!$A$2:$A$1037) -> 44819 | H26: =VLOOKUP(G26,$A$2:$B$76,2,FALSE) -> 6388.87 | I26: =IF(P26="após","",NETWORKDAYS(G26,A26-1,Feriados!$A$2:$A$1037)) | J26: =IF(P26="após","",NETWORKDAYS(G26,K26-1,Feriados!$A$2:$A$1037)) | K26: =WORKDAY(WORKDAY(DATEVALUE(CONCATENATE("15/"&MONTH(A26)&"/"&YEAR(A26))),-1,Feriados!$A$2:$A$1037),1,Feriados!$A$2:$A$1037) -> 44851 | L26: =VLOOKUP(K26,$A$2:$B$76,2,FALSE) -> 6370.34 | M26: =WORKDAY(WORKDAY(DATEVALUE(CONCATENATE("15/"&MONTH(EDATE(A26,1))&"/"&YEAR(EDATE(A26,1)))),-1,Feriados!$A$2:$A$1037),1,Feriados!$A$2:$A$1037) -> 44881 | N26: =IF(P26="antes","",NETWORKDAYS(K26,A26-1,Feriados!$A$2:$A$1037)) -> 2 | O26: =IF(P26="antes","",NETWORKDAYS(K26,M26-1,Feriados!$A$2:$A$1037)) -> 20 | P26: =IF(A26>K26,"Após","Antes") -> Após | Q26: =IF(A26>K26,TRUNC(+L26*((1+C26/100)^(N26/O26)),6),TRUNC(+H26*((1+C26/100)^(I26/J26)),6)) -> 6368.49
A27: 44854 | B27: =ROUND(+Q27,2) -> 6367.57 | C27: =+C26 -> -0.29003563 | D27: =+(B27/B26-1)*100 -> -0.014446125 | E27: =+(D27/100+1)*E26 -> 0.99666608 | F27: =(+E27-1)*100 -> -0.33339229 | G27: =WORKDAY(WORKDAY(DATEVALUE(CONCATENATE("15/"&MONTH(EDATE($A27,-1))&"/"&YEAR(EDATE(A27,-1)))),-1,Feriados!$A$2:$A$1037),1,Feriados!$A$2:$A$1037) -> 44819 | H27: =VLOOKUP(G27,$A$2:$B$76,2,FALSE) -> 6388.87 | I27: =IF(P27="após","",NETWORKDAYS(G27,A27-1,Feriados!$A$2:$A$1037)) | J27: =IF(P27="após","",NETWORKDAYS(G27,K27-1,Feriados!$A$2:$A$1037)) | K27: =WORKDAY(WORKDAY(DATEVALUE(CONCATENATE("15/"&MONTH(A27)&"/"&YEAR(A27))),-1,Feriados!$A$2:$A$1037),1,Feriados!$A$2:$A$1037) -> 44851 | L27: =VLOOKUP(K27,$A$2:$B$76,2,FALSE) -> 6370.34 | M27: =WORKDAY(WORKDAY(DATEVALUE(CONCATENATE("15/"&MONTH(EDATE(A27,1))&"/"&YEAR(EDATE(A27,1)))),-1,Feriados!$A$2:$A$1037),1,Feriados!$A$2:$A$1037) -> 44881 | N27: =IF(P27="antes","",NETWORKDAYS(K27,A27-1,Feriados!$A$2:$A$1037)) -> 3 | O27: =IF(P27="antes","",NETWORKDAYS(K27,M27-1,Feriados!$A$2:$A$1037)) -> 20 | P27: =IF(A27>K27,"Após","Antes") -> Após | Q27: =IF(A27>K27,TRUNC(+L27*((1+C27/100)^(N27/O27)),6),TRUNC(+H27*((1+C27/100)^(I27/J27)),6)) -> 6367.5651
A28: 44855 | B28: =ROUND(+Q28,2) -> 6366.64 | C28: =+C27 -> -0.29003563 | D28: =+(B28/B27-1)*100 -> -0.014605258 | E28: =+(D28/100+1)*E27 -> 0.99652051 | F28: =(+E28-1)*100 -> -0.34794885 | G28: =WORKDAY(WORKDAY(DATEVALUE(CONCATENATE("15/"&MONTH(EDATE($A28,-1))&"/"&YEAR(EDATE(A28,-1)))),-1,Feriados!$A$2:$A$1037),1,Feriados!$A$2:$A$1037) -> 44819 | H28: =VLOOKUP(G28,$A$2:$B$76,2,FALSE) -> 6388.87 | I28: =IF(P28="após","",NETWORKDAYS(G28,A28-1,Feriados!$A$2:$A$1037)) | J28: =IF(P28="após","",NETWORKDAYS(G28,K28-1,Feriados!$A$2:$A$1037)) | K28: =WORKDAY(WORKDAY(DATEVALUE(CONCATENATE("15/"&MONTH(A28)&"/"&YEAR(A28))),-1,Feriados!$A$2:$A$1037),1,Feriados!$A$2:$A$1037) -> 44851 | L28: =VLOOKUP(K28,$A$2:$B$76,2,FALSE) -> 6370.34 | M28: =WORKDAY(WORKDAY(DATEVALUE(CONCATENATE("15/"&MONTH(EDATE(A28,1))&"/"&YEAR(EDATE(A28,1)))),-1,Feriados!$A$2:$A$1037),1,Feriados!$A$2:$A$1037) -> 44881 | N28: =IF(P28="antes","",NETWORKDAYS(K28,A28-1,Feriados!$A$2:$A$1037)) -> 4 | O28: =IF(P28="antes","",NETWORKDAYS(K28,M28-1,Feriados!$A$2:$A$1037)) -> 20 | P28: =IF(A28>K28,"Após","Antes") -> Após | Q28: =IF(A28>K28,TRUNC(+L28*((1+C28/100)^(N28/O28)),6),TRUNC(+H28*((1+C28/100)^(I28/J28)),6)) -> 6366.6405
A29: 44858 | B29: =ROUND(+Q29,2) -> 6365.72 | C29: =+C28 -> -0.29003563 | D29: =+(B29/B28-1)*100 -> -0.014450322 | E29: =+(D29/100+1)*E28 -> 0.99637651 | F29: =(+E29-1)*100 -> -0.3623489 | G29: =WORKDAY(WORKDAY(DATEVALUE(CONCATENATE("15/"&MONTH(EDATE($A29,-1))&"/"&YEAR(EDATE(A29,-1)))),-1,Feriados!$A$2:$A$1037),1,Feriados!$A$2:$A$1037) -> 44819 | H29: =VLOOKUP(G29,$A$2:$B$76,2,FALSE) -> 6388.87 | I29: =IF(P29="após","",NETWORKDAYS(G29,A29-1,Feriados!$A$2:$A$1037)) | J29: =IF(P29="após","",NETWORKDAYS(G29,K29-1,Feriados!$A$2:$A$1037)) | K29: =WORKDAY(WORKDAY(DATEVALUE(CONCATENATE("15/"&MONTH(A29)&"/"&YEAR(A29))),-1,Feriados!$A$2:$A$1037),1,Feriados!$A$2:$A$1037) -> 44851 | L29: =VLOOKUP(K29,$A$2:$B$76,2,FALSE) -> 6370.34 | M29: =WORKDAY(WORKDAY(DATEVALUE(CONCATENATE("15/"&MONTH(EDATE(A29,1))&"/"&YEAR(EDATE(A29,1)))),-1,Feriados!$A$2:$A$1037),1,Feriados!$A$2:$A$1037) -> 44881 | N29: =IF(P29="antes","",NETWORKDAYS(K29,A29-1,Feriados!$A$2:$A$1037)) -> 5 | O29: =IF(P29="antes","",NETWORKDAYS(K29,M29-1,Feriados!$A$2:$A$1037)) -> 20 | P29: =IF(A29>K29,"Após","Antes") -> Após | Q29: =IF(A29>K29,TRUNC(+L29*((1+C29/100)^(N29/O29)),6),TRUNC(+H29*((1+C29/100)^(I29/J29)),6)) -> 6365.7159
A30: 44859 | B30: =ROUND(+Q30,2) -> 6364.79 | C30: =+C29 -> -0.29003563 | D30: =+(B30/B29-1)*100 -> -0.014609502 | E30: =+(D30/100+1)*E29 -> 0.99623095 | F30: =(+E30-1)*100 -> -0.37690546 | G30: =WORKDAY(WORKDAY(DATEVALUE(CONCATENATE("15/"&MONTH(EDATE($A30,-1))&"/"&YEAR(EDATE(A30,-1)))),-1,Feriados!$A$2:$A$1037),1,Feriados!$A$2:$A$1037) -> 44819 | H30: =VLOOKUP(G30,$A$2:$B$76,2,FALSE) -> 6388.87 | I30: =IF(P30="após","",NETWORKDAYS(G30,A30-1,Feriados!$A$2:$A$1037)) | J30: =IF(P30="após","",NETWORKDAYS(G30,K30-1,Feriados!$A$2:$A$1037)) | K30: =WORKDAY(WORKDAY(DATEVALUE(CONCATENATE("15/"&MONTH(A30)&"/"&YEAR(A30))),-1,Feriados!$A$2:$A$1037),1,Feriados!$A$2:$A$1037) -> 44851 | L30: =VLOOKUP(K30,$A$2:$B$76,2,FALSE) -> 6370.34 | M30: =WORKDAY(WORKDAY(DATEVALUE(CONCATENATE("15/"&MONTH(EDATE(A30,1))&"/"&YEAR(EDATE(A30,1)))),-1,Feriados!$A$2:$A$1037),1,Feriados!$A$2:$A$1037) -> 44881 | N30: =IF(P30="antes","",NETWORKDAYS(K30,A30-1,Feriados!$A$2:$A$1037)) -> 6 | O30: =IF(P30="antes","",NETWORKDAYS(K30,M30-1,Feriados!$A$2:$A$1037)) -> 20 | P30: =IF(A30>K30,"Após","Antes") -> Após | Q30: =IF(A30>K30,TRUNC(+L30*((1+C30/100)^(N30/O30)),6),TRUNC(+H30*((1+C30/100)^(I30/J30)),6)) -> 6364.7915
A31: 44860 | B31: =ROUND(+Q31,2) -> 6363.87 | C31: =+C30 -> -0.29003563 | D31: =+(B31/B30-1)*100 -> -0.014454522 | E31: =+(D31/100+1)*E30 -> 0.99608694 | F31: =(+E31-1)*100 -> -0.3913055 | G31: =WORKDAY(WORKDAY(DATEVALUE(CONCATENATE("15/"&MONTH(EDATE($A31,-1))&"/"&YEAR(EDATE(A31,-1)))),-1,Feriados!$A$2:$A$1037),1,Feriados!$A$2:$A$1037) -> 44819 | H31: =VLOOKUP(G31,$A$2:$B$76,2,FALSE) -> 6388.87 | I31: =IF(P31="após","",NETWORKDAYS(G31,A31-1,Feriados!$A$2:$A$1037)) | J31: =IF(P31="após","",NETWORKDAYS(G31,K31-1,Feriados!$A$2:$A$1037)) | K31: =WORKDAY(WORKDAY(DATEVALUE(CONCATENATE("15/"&MONTH(A31)&"/"&YEAR(A31))),-1,Feriados!$A$2:$A$1037),1,Feriados!$A$2:$A$1037) -> 44851 | L31: =VLOOKUP(K31,$A$2:$B$76,2,FALSE) -> 6370.34 | M31: =WORKDAY(WORKDAY(DATEVALUE(CONCATENATE("15/"&MONTH(EDATE(A31,1))&"/"&YEAR(EDATE(A31,1)))),-1,Feriados!$A$2:$A$1037),1,Feriados!$A$2:$A$1037) -> 44881 | N31: =IF(P31="antes","",NETWORKDAYS(K31,A31-1,Feriados!$A$2:$A$1037)) -> 7 | O31: =IF(P31="antes","",NETWORKDAYS(K31,M31-1,Feriados!$A$2:$A$1037)) -> 20 | P31: =IF(A31>K31,"Após","Antes") -> Após | Q31: =IF(A31>K31,TRUNC(+L31*((1+C31/100)^(N31/O31)),6),TRUNC(+H31*((1+C31/100)^(I31/J31)),6)) -> 6363.8672
A32: 44861 | B32: =ROUND(+Q32,2) -> 6362.94 | C32: =+C31 -> -0.29003563 | D32: =+(B32/B31-1)*100 -> -0.014613749 | E32: =+(D32/100+1)*E31 -> 0.99594138 | F32: =(+E32-1)*100 -> -0.40586207 | G32: =WORKDAY(WORKDAY(DATEVALUE(CONCATENATE("15/"&MONTH(EDATE($A32,-1))&"/"&YEAR(EDATE(A32,-1)))),-1,Feriados!$A$2:$A$1037),1,Feriados!$A$2:$A$1037) -> 44819 | H32: =VLOOKUP(G32,$A$2:$B$76,2,FALSE) -> 6388.87 | I32: =IF(P32="após","",NETWORKDAYS(G32,A32-1,Feriados!$A$2:$A$1037)) | J32: =IF(P32="após","",NETWORKDAYS(G32,K32-1,Feriados!$A$2:$A$1037)) | K32: =WORKDAY(WORKDAY(DATEVALUE(CONCATENATE("15/"&MONTH(A32)&"/"&YEAR(A32))),-1,Feriados!$A$2:$A$1037),1,Feriados!$A$2:$A$1037) -> 44851 | L32: =VLOOKUP(K32,$A$2:$B$76,2,FALSE) -> 6370.34 | M32: =WORKDAY(WORKDAY(DATEVALUE(CONCATENATE("15/"&MONTH(EDATE(A32,1))&"/"&YEAR(EDATE(A32,1)))),-1,Feriados!$A$2:$A$1037),1,Feriados!$A$2:$A$1037) -> 44881 | N32: =IF(P32="antes","",NETWORKDAYS(K32,A32-1,Feriados!$A$2:$A$1037)) -> 8 | O32: =IF(P32="antes","",NETWORKDAYS(K32,M32-1,Feriados!$A$2:$A$1037)) -> 20 | P32: =IF(A32>K32,"Após","Antes") -> Após | Q32: =IF(A32>K32,TRUNC(+L32*((1+C32/100)^(N32/O32)),6),TRUNC(+H32*((1+C32/100)^(I32/J32)),6)) -> 6362.9431
A33: 44862 | B33: =ROUND(+Q33,2) -> 6398.93 | C33: 1 | D33: =+(B33/B32-1)*100 -> 0.56561904 | E33: =+(D33/100+1)*E32 -> 1.0015746 | F33: =(+E33-1)*100 -> 0.15746134 | G33: =WORKDAY(WORKDAY(DATEVALUE(CONCATENATE("15/"&MONTH(EDATE($A33,-1))&"/"&YEAR(EDATE(A33,-1)))),-1,Feriados!$A$2:$A$1037),1,Feriados!$A$2:$A$1037) -> 44819 | H33: =VLOOKUP(G33,$A$2:$B$76,2,FALSE) -> 6388.87 | I33: =IF(P33="após","",NETWORKDAYS(G33,A33-1,Feriados!$A$2:$A$1037)) | J33: =IF(P33="após","",NETWORKDAYS(G33,K33-1,Feriados!$A$2:$A$1037)) | K33: =WORKDAY(WORKDAY(DATEVALUE(CONCATENATE("15/"&MONTH(A33)&"/"&YEAR(A33))),-1,Feriados!$A$2:$A$1037),1,Feriados!$A$2:$A$1037) -> 44851 | L33: =VLOOKUP(K33,$A$2:$B$76,2,FALSE) -> 6370.34 | M33: =WORKDAY(WORKDAY(DATEVALUE(CONCATENATE("15/"&MONTH(EDATE(A33,1))&"/"&YEAR(EDATE(A33,1)))),-1,Feriados!$A$2:$A$1037),1,Feriados!$A$2:$A$1037) -> 44881 | N33: =IF(P33="antes","",NETWORKDAYS(K33,A33-1,Feriados!$A$2:$A$1037)) -> 9 | O33: =IF(P33="antes","",NETWORKDAYS(K33,M33-1,Feriados!$A$2:$A$1037)) -> 20 | P33: =IF(A33>K33,"Após","Antes") -> Após | Q33: =IF(A33>K33,TRUNC(+L33*((1+C33/100)^(N33/O33)),6),TRUNC(+H33*((1+C33/100)^(I33/J33)),6)) -> 6398.9281
A34: 44865 | B34: =ROUND(+Q34,2) -> 6406.86 | C34: 1.15 | D34: =+(B34/B33-1)*100 -> 0.12392697 | E34: =+(D34/100+1)*E33 -> 1.0028158 | F34: =(+E34-1)*100 -> 0.28158344 | G34: =WORKDAY(WORKDAY(DATEVALUE(CONCATENATE("15/"&MONTH(EDATE($A34,-1))&"/"&YEAR(EDATE(A34,-1)))),-1,Feriados!$A$2:$A$1037),1,Feriados!$A$2:$A$1037) -> 44819 | H34: =VLOOKUP(G34,$A$2:$B$76,2,FALSE) -> 6388.87 | I34: =IF(P34="após","",NETWORKDAYS(G34,A34-1,Feriados!$A$2:$A$1037)) | J34: =IF(P34="após","",NETWORKDAYS(G34,K34-1,Feriados!$A$2:$A$1037)) | K34: =WORKDAY(WORKDAY(DATEVALUE(CONCATENATE("15/"&MONTH(A34)&"/"&YEAR(A34))),-1,Feriados!$A$2:$A$1037),1,Feriados!$A$2:$A$1037) -> 44851 | L34: =VLOOKUP(K34,$A$2:$B$76,2,FALSE) -> 6370.34 | M34: =WORKDAY(WORKDAY(DATEVALUE(CONCATENATE("15/"&MONTH(EDATE(A34,1))&"/"&YEAR(EDATE(A34,1)))),-1,Feriados!$A$2:$A$1037),1,Feriados!$A$2:$A$1037) -> 44881 | N34: =IF(P34="antes","",NETWORKDAYS(K34,A34-1,Feriados!$A$2:$A$1037)) -> 10 | O34: =IF(P34="antes","",NETWORKDAYS(K34,M34-1,Feriados!$A$2:$A$1037)) -> 20 | P34: =IF(A34>K34,"Após","Antes") -> Após | Q34: =IF(A34>K34,TRUNC(+L34*((1+C34/100)^(N34/O34)),6),TRUNC(+H34*((1+C34/100)^(I34/J34)),6)) -> 6406.8647
A35: 44866 | B35: =ROUND(+Q35,2) -> 6410.53 | C35: =+C34 -> 1.15 | D35: =+(B35/B34-1)*100 -> 0.05728235 | E35: =+(D35/100+1)*E34 -> 1.0033903 | F35: =(+E35-1)*100 -> 0.33902709 | G35: =WORKDAY(WORKDAY(DATEVALUE(CONCATENATE("15/"&MONTH(EDATE($A35,-1))&"/"&YEAR(EDATE(A35,-1)))),-1,Feriados!$A$2:$A$1037),1,Feriados!$A$2:$A$1037) -> 44851 | H35: =VLOOKUP(G35,$A$2:$B$76,2,FALSE) -> 6370.34 | I35: =IF(P35="após","",NETWORKDAYS(G35,A35-1,Feriados!$A$2:$A$1037)) -> 11 | J35: =IF(P35="após","",NETWORKDAYS(G35,K35-1,Feriados!$A$2:$A$1037)) -> 20 | K35: =WORKDAY(WORKDAY(DATEVALUE(CONCATENATE("15/"&MONTH(A35)&"/"&YEAR(A35))),-1,Feriados!$A$2:$A$1037),1,Feriados!$A$2:$A$1037) -> 44881 | L35: =VLOOKUP(K35,$A$2:$B$76,2,FALSE) -> 6443.6 | M35: =WORKDAY(WORKDAY(DATEVALUE(CONCATENATE("15/"&MONTH(EDATE(A35,1))&"/"&YEAR(EDATE(A35,1)))),-1,Feriados!$A$2:$A$1037),1,Feriados!$A$2:$A$1037) -> 44910 | N35: =IF(P35="antes","",NETWORKDAYS(K35,A35-1,Feriados!$A$2:$A$1037)) | O35: =IF(P35="antes","",NETWORKDAYS(K35,M35-1,Feriados!$A$2:$A$1037)) | P35: =IF(A35>K35,"Após","Antes") -> Antes | Q35: =IF(A35>K35,TRUNC(+L35*((1+C35/100)^(N35/O35)),6),TRUNC(+H35*((1+C35/100)^(I35/J35)),6)) -> 6410.5287
A36: 44868 | B36: =ROUND(+Q36,2) -> 6414.19 | C36: =+C35 -> 1.15 | D36: =+(B36/B35-1)*100 -> 0.057093563 | E36: =+(D36/100+1)*E35 -> 1.0039631 | F36: =(+E36-1)*100 -> 0.39631422 | G36: =WORKDAY(WORKDAY(DATEVALUE(CONCATENATE("15/"&MONTH(EDATE($A36,-1))&"/"&YEAR(EDATE(A36,-1)))),-1,Feriados!$A$2:$A$1037),1,Feriados!$A$2:$A$1037) -> 44851 | H36: =VLOOKUP(G36,$A$2:$B$76,2,FALSE) -> 6370.34 | I36: =IF(P36="após","",NETWORKDAYS(G36,A36-1,Feriados!$A$2:$A$1037)) -> 12 | J36: =IF(P36="após","",NETWORKDAYS(G36,K36-1,Feriados!$A$2:$A$1037)) -> 20 | K36: =WORKDAY(WORKDAY(DATEVALUE(CONCATENATE("15/"&MONTH(A36)&"/"&YEAR(A36))),-1,Feriados!$A$2:$A$1037),1,Feriados!$A$2:$A$1037) -> 44881 | L36: =VLOOKUP(K36,$A$2:$B$76,2,FALSE) -> 6443.6 | M36: =WORKDAY(WORKDAY(DATEVALUE(CONCATENATE("15/"&MONTH(EDATE(A36,1))&"/"&YEAR(EDATE(A36,1)))),-1,Feriados!$A$2:$A$1037),1,Feriados!$A$2:$A$1037) -> 44910 | N36: =IF(P36="antes","",NETWORKDAYS(K36,A36-1,Feriados!$A$2:$A$1037)) | O36: =IF(P36="antes","",NETWORKDAYS(K36,M36-1,Feriados!$A$2:$A$1037)) | P36: =IF(A36>K36,"Após","Antes") -> Antes | Q36: =IF(A36>K36,TRUNC(+L36*((1+C36/100)^(N36/O36)),6),TRUNC(+H36*((1+C36/100)^(I36/J36)),6)) -> 6414.1948
A37: 44869 | B37: =ROUND(+Q37,2) -> 6417.86 | C37: =+C36 -> 1.15 | D37: =+(B37/B36-1)*100 -> 0.057216889 | E37: =+(D37/100+1)*E36 -> 1.0045376 | F37: =(+E37-1)*100 -> 0.45375786 | G37: =WORKDAY(WORKDAY(DATEVALUE(CONCATENATE("15/"&MONTH(EDATE($A37,-1))&"/"&YEAR(EDATE(A37,-1)))),-1,Feriados!$A$2:$A$1037),1,Feriados!$A$2:$A$1037) -> 44851 | H37: =VLOOKUP(G37,$A$2:$B$76,2,FALSE) -> 6370.34 | I37: =IF(P37="após","",NETWORKDAYS(G37,A37-1,Feriados!$A$2:$A$1037)) -> 13 | J37: =IF(P37="após","",NETWORKDAYS(G37,K37-1,Feriados!$A$2:$A$1037)) -> 20 | K37: =WORKDAY(WORKDAY(DATEVALUE(CONCATENATE("15/"&MONTH(A37)&"/"&YEAR(A37))),-1,Feriados!$A$2:$A$1037),1,Feriados!$A$2:$A$1037) -> 44881 | L37: =VLOOKUP(K37,$A$2:$B$76,2,FALSE) -> 6443.6 | M37: =WORKDAY(WORKDAY(DATEVALUE(CONCATENATE("15/"&MONTH(EDATE(A37,1))&"/"&YEAR(EDATE(A37,1)))),-1,Feriados!$A$2:$A$1037),1,Feriados!$A$2:$A$1037) -> 44910 | N37: =IF(P37="antes","",NETWORKDAYS(K37,A37-1,Feriados!$A$2:$A$1037)) | O37: =IF(P37="antes","",NETWORKDAYS(K37,M37-1,Feriados!$A$2:$A$1037)) | P37: =IF(A37>K37,"Após","Antes") -> Antes | Q37: =IF(A37>K37,TRUNC(+L37*((1+C37/100)^(N37/O37)),6),TRUNC(+H37*((1+C37/100)^(I37/J37)),6)) -> 6417.863
A38: 44872 | B38: =ROUND(+Q38,2) -> 6421.53 | C38: =+C37 -> 1.15 | D38: =+(B38/B37-1)*100 -> 0.05718417 | E38: =+(D38/100+1)*E37 -> 1.005112 | F38: =(+E38-1)*100 -> 0.51120151 | G38: =WORKDAY(WORKDAY(DATEVALUE(CONCATENATE("15/"&MONTH(EDATE($A38,-1))&"/"&YEAR(EDATE(A38,-1)))),-1,Feriados!$A$2:$A$1037),1,Feriados!$A$2:$A$1037) -> 44851 | H38: =VLOOKUP(G38,$A$2:$B$76,2,FALSE) -> 6370.34 | I38: =IF(P38="após","",NETWORKDAYS(G38,A38-1,Feriados!$A$2:$A$1037)) -> 14 | J38: =IF(P38="após","",NETWORKDAYS(G38,K38-1,Feriados!$A$2:$A$1037)) -> 20 | K38: =WORKDAY(WORKDAY(DATEVALUE(CONCATENATE("15/"&MONTH(A38)&"/"&YEAR(A38))),-1,Feriados!$A$2:$A$1037),1,Feriados!$A$2:$A$1037) -> 44881 | L38: =VLOOKUP(K38,$A$2:$B$76,2,FALSE) -> 6443.6 | M38: =WORKDAY(WORKDAY(DATEVALUE(CONCATENATE("15/"&MONTH(EDATE(A38,1))&"/"&YEAR(EDATE(A38,1)))),-1,Feriados!$A$2:$A$1037),1,Feriados!$A$2:$A$1037) -> 44910 | N38: =IF(P38="antes","",NETWORKDAYS(K38,A38-1,Feriados!$A$2:$A$1037)) | O38: =IF(P38="antes","",NETWORKDAYS(K38,M38-1,Feriados!$A$2:$A$1037)) | P38: =IF(A38>K38,"Após","Antes") -> Antes | Q38: =IF(A38>K38,TRUNC(+L38*((1+C38/100)^(N38/O38)),6),TRUNC(+H38*((1+C38/100)^(I38/J38)),6)) -> 6421.5332
A39: 44873 | B39: =ROUND(+Q39,2) -> 6425.21 | C39: =+C38 -> 1.15 | D39: =+(B39/B38-1)*100 -> 0.057307215 | E39: =+(D39/100+1)*E38 -> 1.005688 | F39: =(+E39-1)*100 -> 0.56880168 | G39: =WORKDAY(WORKDAY(DATEVALUE(CONCATENATE("15/"&MONTH(EDATE($A39,-1))&"/"&YEAR(EDATE(A39,-1)))),-1,Feriados!$A$2:$A$1037),1,Feriados!$A$2:$A$1037) -> 44851 | H39: =VLOOKUP(G39,$A$2:$B$76,2,FALSE) -> 6370.34 | I39: =IF(P39="após","",NETWORKDAYS(G39,A39-1,Feriados!$A$2:$A$1037)) -> 15 | J39: =IF(P39="após","",NETWORKDAYS(G39,K39-1,Feriados!$A$2:$A$1037)) -> 20 | K39: =WORKDAY(WORKDAY(DATEVALUE(CONCATENATE("15/"&MONTH(A39)&"/"&YEAR(A39))),-1,Feriados!$A$2:$A$1037),1,Feriados!$A$2:$A$1037) -> 44881 | L39: =VLOOKUP(K39,$A$2:$B$76,2,FALSE) -> 6443.6 | M39: =WORKDAY(WORKDAY(DATEVALUE(CONCATENATE("15/"&MONTH(EDATE(A39,1))&"/"&YEAR(EDATE(A39,1)))),-1,Feriados!$A$2:$A$1037),1,Feriados!$A$2:$A$1037) -> 44910 | N39: =IF(P39="antes","",NETWORKDAYS(K39,A39-1,Feriados!$A$2:$A$1037)) | O39: =IF(P39="antes","",NETWORKDAYS(K39,M39-1,Feriados!$A$2:$A$1037)) | P39: =IF(A39>K39,"Após","Antes") -> Antes | Q39: =IF(A39>K39,TRUNC(+L39*((1+C39/100)^(N39/O39)),6),TRUNC(+H39*((1+C39/100)^(I39/J39)),6)) -> 6425.2056
