Workbook
Name feriado: [1]FERIADOS!$A$2:$A$1037

Sheet NTN-B Carregamento
A1: Nr. | B1: Data | C1: Venc. | D1: Tx Curva | E1: PU Curva | F1: Rent | G1: Acum. | H1: Curva | I1: Carrego dia | J1: % CDI a.d. | K1: Acumulado | L1: Tx Mercado | M1: PU Mercado | N1: Rent | O1: Acum. | P1: Mercado | Q1: Carrego dia | R1: % CDI a.d. | S1: Acumulado | T1: VNA IPCA | U1: % a.m | V1: IPCA a.a. | W1: Rent | X1: Acum. | Y1: VNA IPCA | Z1: Carrego dia | AA1: % CDI a.d. | AB1: Acumulado | AC1: Tx CDI | AD1: Índice | AE1: Rent | AF1: Acum. | AG1: CDI | AI1: Curva | AJ1: Mercado | AK1: IPCA | AL1: CDI
A2: 1 | B2: 44564 | C2: 45519 | D2: =VLOOKUP(B2,'NTN-B Princ 24'!A:F,2,FALSE)*100 -> 5.18 | E2: =TRUNC((100/((1+D2/100)^(NETWORKDAYS($B2,C2-1,Feriados!$A$1:$A$936)/252)))/100*T2,6) -> 3310.2409 | G2: 1 | H2: 0 | I2: Curva | L2: =VLOOKUP(B2,'NTN-B Princ 24'!A:F,2,FALSE)*100 -> 5.18 | M2: =TRUNC((100/((1+L2/100)^(NETWORKDAYS($B2,C2-1,Feriados!$A$1:$A$936)/252)))/100*T2,6) -> 3310.2409 | O2: 1 | P2: 0 | Q2: Mercado | T2: =VLOOKUP(B2,'VNA IPCA'!B:D,2,FALSE) -> 3776.0914 | U2: =VLOOKUP(B2,'VNA IPCA'!B:D,3,FALSE) -> 0.62 | V2: =((1+U2/100)^(252/21)-1)*100 -> 7.6990211 | X2: 1 | Y2: 0 | Z2: VNA | AC2: =VLOOKUP(B2,CDI!A:B,2,FALSE) -> 9.15 | AD2: 1 | AF2: 1 | AG2: 0 | AI2: =((1+D2/100)*(1+V2/100)-1)*100 -> 13.27783 | AJ2: =((1+L2/100)*(1+V2/100)-1)*100 -> 13.27783 | AK2: =+V2 -> 7.6990211 | AL2: =+AC2 -> 9.15
A3: =+A2+1 -> 2 | B3: =WORKDAY(B2,1,Feriados!$A$2:$A$5000) -> 44565 | C3: =+C2 -> 45519 | D3: =+D2 -> 5.18 | E3: =TRUNC((100/((1+D3/100)^(NETWORKDAYS($B3,C3-1,Feriados!$A$1:$A$936)/252)))/100*T3,6) -> 3311.7942 | F3: =+E3/E2-1 -> 0.00046925195 | G3: =+(1+F3)*G2 -> 1.0004693 | H3: =+(G3-1)*100 -> 0.046925195 | I3: =(((((1+D3/100)^(1/252))*((1+U3/100)^(1/21)))-1)*100)/AE3 -> 142.40817 | J3: =+F3/AE3*100 -> 135.03945 | K3: =+H3/AG3*100 -> 135.03945 | L3: =VLOOKUP(B3,'NTN-B Princ 24'!A:F,2,FALSE)*100 -> 5.18 | M3: =TRUNC((100/((1+L3/100)^(NETWORKDAYS($B3,C3-1,Feriados!$A$1:$A$936)/252)))/100*T3,6) -> 3311.7942 | N3: =+M3/M2-1 -> 0.00046925195 | O3: =+(1+N3)*O2 -> 1.0004693 | P3: =+(O3-1)*100 -> 0.046925195 | Q3: =(((((1+L3/100)^(1/252))*((1+U3/100)^(1/21)))-1)*100)/AE3 -> 142.40817 | R3: =+N3/AE3*100 -> 135.03945 | S3: =+P3/AG3*100 -> 135.03945 | T3: =VLOOKUP(B3,'VNA IPCA'!B:D,2,FALSE) -> 3777.1063 | U3: =VLOOKUP(B3,'VNA IPCA'!B:D,3,FALSE) -> 0.62 | V3: =((1+U3/100)^(252/21)-1)*100 -> 7.6990211 | W3: =+T3/T2-1 -> 0.00026876918 | X3: =+(1+W3)*X2 -> 1.0002688 | Y3: =+(X3-1)*100 -> 0.026876918 | Z3: =(((((1+U3/100)^(1/21)))-1)*100)/AE3 -> 84.712605 | AA3: =+W3/AE3*100 -> 77.34532 | AB3: =+Y3/AG3*100 -> 77.34532 | AC3: =VLOOKUP(B3,CDI!A:B,2,FALSE) -> 9.15 | AD3: =+((AC2/100+1)^(1/252))*AD2 -> 1.0003475 | AE3: =+AD3/AD2-1 -> 0.00034749249 | AF3: =+(1+AE3)*AF2 -> 1.0003475 | AG3: =+(AF3-1)*100 -> 0.034749249 | AI3: =((1+D3/100)*(1+V3/100)-1)*100 -> 13.27783 | AJ3: =((1+L3/100)*(1+V3/100)-1)*100 -> 13.27783 | AK3: =+V3 -> 7.6990211 | AL3: =+AC3 -> 9.15
A4: =+A3+1 -> 3 | B4: =WORKDAY(B3,1,Feriados!$A$2:$A$5000) -> 44566 | C4: =+C3 -> 45519 | D4: =+D3 -> 5.18 | E4: =TRUNC((100/((1+D4/100)^(NETWORKDAYS($B4,C4-1,Feriados!$A$1:$A$936)/252)))/100*T4,6) -> 3313.3483 | F4: =+E4/E3-1 -> 0.00046925168 | G4: =+(1+F4)*G3 -> 1.0009387 | H4: =+(G4-1)*100 -> 0.093872382 | I4: =(((((1+D4/100)^(1/252))*((1+U4/100)^(1/21)))-1)*100)/AE4 -> 142.40817 | J4: =+F4/AE4*100 -> 135.03937 | K4: =+H4/AG4*100 -> 135.04763 | L4: =VLOOKUP(B4,'NTN-B Princ 24'!A:F,2,FALSE)*100 -> 5.33 | M4: =TRUNC((100/((1+L4/100)^(NETWORKDAYS($B4,C4-1,Feriados!$A$1:$A$936)/252)))/100*T4,6) -> 3301.0978 | N4: =+M4/M3-1 -> -0.0032297882 | O4: =+(1+N4)*O3 -> 0.99723795 | P4: =+(O4-1)*100 -> -0.27620518 | Q4: =(((((1+L4/100)^(1/252))*((1+U4/100)^(1/21)))-1)*100)/AE4 -> 144.03641 | R4: =+N4/AE4*100 -> -929.45554 | S4: =+P4/AG4*100 -> -397.35708 | T4: =VLOOKUP(B4,'VNA IPCA'!B:D,2,FALSE) -> 3778.1215 | U4: =VLOOKUP(B4,'VNA IPCA'!B:D,3,FALSE) -> 0.62 | V4: =((1+U4/100)^(252/21)-1)*100 -> 7.6990211 | W4: =+T4/T3-1 -> 0.00026876898 | X4: =+(1+W4)*X3 -> 1.0005376 | Y4: =+(X4-1)*100 -> 0.05376104 | Z4: =(((((1+U4/100)^(1/21)))-1)*100)/AE4 -> 84.712605 | AA4: =+W4/AE4*100 -> 77.345262 | AB4: =+Y4/AG4*100 -> 77.342247 | AC4: =VLOOKUP(B4,CDI!A:B,2,FALSE) -> 9.15 | AD4: =+((AC3/100+1)^(1/252))*AD3 -> 1.0006951 | AE4: =+AD4/AD3-1 -> 0.00034749249 | AF4: =+(1+AE4)*AF3 -> 1.0006951 | AG4: =+(AF4-1)*100 -> 0.069510574 | AI4: =((1+D4/100)*(1+V4/100)-1)*100 -> 13.27783 | AJ4: =((1+L4/100)*(1+V4/100)-1)*100 -> 13.439379 | AK4: =+V4 -> 7.6990211 | AL4: =+AC4 -> 9.15
A5: =+A4+1 -> 4 | B5: =WORKDAY(B4,1,Feriados!$A$2:$A$5000) -> 44567 | C5: =+C4 -> 45519 | D5: =+D4 -> 5.18 | E5: =TRUNC((100/((1+D5/100)^(NETWORKDAYS($B5,C5-1,Feriados!$A$1:$A$936)/252)))/100*T5,6) -> 3314.9031 | F5: =+E5/E4-1 -> 0.0004692519 | G5: =+(1+F5)*G4 -> 1.0014084 | H5: =+(G5-1)*100 -> 0.14084162 | I5: =(((((1+D5/100)^(1/252))*((1+U5/100)^(1/21)))-1)*100)/AE5 -> 142.40817 | J5: =+F5/AE5*100 -> 135.03944 | K5: =+H5/AG5*100 -> 135.05586 | L5: =VLOOKUP(B5,'NTN-B Princ 24'!A:F,2,FALSE)*100 -> 5.49 | M5: =TRUNC((100/((1+L5/100)^(NETWORKDAYS($B5,C5-1,Feriados!$A$1:$A$936)/252)))/100*T5,6) -> 3289.6811 | N5: =+M5/M4-1 -> -0.0034584761 | O5: =+(1+N5)*O4 -> 0.99378902 | P5: =+(O5-1)*100 -> -0.62109755 | Q5: =(((((1+L5/100)^(1/252))*((1+U5/100)^(1/21)))-1)*100)/AE5 -> 145.77065 | R5: =+N5/AE5*100 -> -995.26642 | S5: =+P5/AG5*100 -> -595.58291 | T5: =VLOOKUP(B5,'VNA IPCA'!B:D,2,FALSE) -> 3779.1369 | U5: =VLOOKUP(B5,'VNA IPCA'!B:D,3,FALSE) -> 0.62 | V5: =((1+U5/100)^(252/21)-1)*100 -> 7.6990211 | W5: =+T5/T4-1 -> 0.00026876928 | X5: =+(1+W5)*X4 -> 1.0008065 | Y5: =+(X5-1)*100 -> 0.080652417 | Z5: =(((((1+U5/100)^(1/21)))-1)*100)/AE5 -> 84.712605 | AA5: =+W5/AE5*100 -> 77.345349 | AB5: =+Y5/AG5*100 -> 77.339222 | AC5: =VLOOKUP(B5,CDI!A:B,2,FALSE) -> 9.15 | AD5: =+((AC4/100+1)^(1/252))*AD4 -> 1.0010428 | AE5: =+AD5/AD4-1 -> 0.00034749249 | AF5: =+(1+AE5)*AF4 -> 1.0010428 | AG5: =+(AF5-1)*100 -> 0.10428398 | AI5: =((1+D5/100)*(1+V5/100)-1)*100 -> 13.27783 | AJ5: =((1+L5/100)*(1+V5/100)-1)*100 -> 13.611697 | AK5: =+V5 -> 7.6990211 | AL5: =+AC5 -> 9.15
A6: =+A5+1 -> 5 | B6: =WORKDAY(B5,1,Feriados!$A$2:$A$5000) -> 44568 | C6: =+C5 -> 45519 | D6: =+D5 -> 5.18 | E6: =TRUNC((100/((1+D6/100)^(NETWORKDAYS($B6,C6-1,Feriados!$A$1:$A$936)/252)))/100*T6,6) -> 3316.4586 | F6: =+E6/E5-1 -> 0.00046925142 | G6: =+(1+F6)*G5 -> 1.0018783 | H6: =+(G6-1)*100 -> 0.18783286 | I6: =(((((1+D6/100)^(1/252))*((1+U6/100)^(1/21)))-1)*100)/AE6 -> 142.40817 | J6: =+F6/AE6*100 -> 135.0393 | K6: =+H6/AG6*100 -> 135.06405 | L6: =VLOOKUP(B6,'NTN-B Princ 24'!A:F,2,FALSE)*100 -> 5.47 | M6: =TRUNC((100/((1+L6/100)^(NETWORKDAYS($B6,C6-1,Feriados!$A$1:$A$936)/252)))/100*T6,6) -> 3292.8807 | N6: =+M6/M5-1 -> 0.00097262194 | O6: =+(1+N6)*O5 -> 0.99475561 | P6: =+(O6-1)*100 -> -0.52443944 | Q6: =(((((1+L6/100)^(1/252))*((1+U6/100)^(1/21)))-1)*100)/AE6 -> 145.55402 | R6: =+N6/AE6*100 -> 279.89725 | S6: =+P6/AG6*100 -> -377.10611 | T6: =VLOOKUP(B6,'VNA IPCA'!B:D,2,FALSE) -> 3780.1526 | U6: =VLOOKUP(B6,'VNA IPCA'!B:D,3,FALSE) -> 0.62 | V6: =((1+U6/100)^(252/21)-1)*100 -> 7.6990211 | W6: =+T6/T5-1 -> 0.00026876904 | X6: =+(1+W6)*X5 -> 1.0010755 | Y6: =+(X6-1)*100 -> 0.107551 | Z6: =(((((1+U6/100)^(1/21)))-1)*100)/AE6 -> 84.712605 | AA6: =+W6/AE6*100 -> 77.345279 | AB6: =+Y6/AG6*100 -> 77.33617 | AC6: =VLOOKUP(B6,CDI!A:B,2,FALSE) -> 9.15 | AD6: =+((AC5/100+1)^(1/252))*AD5 -> 1.0013907 | AE6: =+AD6/AD5-1 -> 0.00034749249 | AF6: =+(1+AE6)*AF5 -> 1.0013907 | AG6: =+(AF6-1)*100 -> 0.13906946 | AI6: =((1+D6/100)*(1+V6/100)-1)*100 -> 13.27783 | AJ6: =((1+L6/100)*(1+V6/100)-1)*100 -> 13.590158 | AK6: =+V6 -> 7.6990211 | AL6: =+AC6 -> 9.15
A7: =+A6+1 -> 6 | B7: =WORKDAY(B6,1,Feriados!$A$2:$A$5000) -> 44571 | C7: =+C6 -> 45519 | D7: =+D6 -> 5.18 | E7: =TRUNC((100/((1+D7/100)^(NETWORKDAYS($B7,C7-1,Feriados!$A$1:$A$936)/252)))/100*T7,6) -> 3318.0149 | F7: =+E7/E6-1 -> 0.00046925175 | G7: =+(1+F7)*G6 -> 1.0023485 | H7: =+(G7-1)*100 -> 0.23484617 | I7: =(((((1+D7/100)^(1/252))*((1+U7/100)^(1/21)))-1)*100)/AE7 -> 142.40817 | J7: =+F7/AE7*100 -> 135.03939 | K7: =+H7/AG7*100 -> 135.07228 | L7: =VLOOKUP(B7,'NTN-B Princ 24'!A:F,2,FALSE)*100 -> 5.56 | M7: =TRUNC((100/((1+L7/100)^(NETWORKDAYS($B7,C7-1,Feriados!$A$1:$A$936)/252)))/100*T7,6) -> 3287.1995 | N7: =+M7/M6-1 -> -0.0017253051 | O7: =+(1+N7)*O6 -> 0.99303935 | P7: =+(O7-1)*100 -> -0.69606514 | Q7: =(((((1+L7/100)^(1/252))*((1+U7/100)^(1/21)))-1)*100)/AE7 -> 146.52856 | R7: =+N7/AE7*100 -> -496.50142 | S7: =+P7/AG7*100 -> -400.34336 | T7: =VLOOKUP(B7,'VNA IPCA'!B:D,2,FALSE) -> 3781.1686 | U7: =VLOOKUP(B7,'VNA IPCA'!B:D,3,FALSE) -> 0.62 | V7: =((1+U7/100)^(252/21)-1)*100 -> 7.6990211 | W7: =+T7/T6-1 -> 0.00026876904 | X7: =+(1+W7)*X6 -> 1.0013446 | Y7: =+(X7-1)*100 -> 0.13445681 | Z7: =(((((1+U7/100)^(1/21)))-1)*100)/AE7 -> 84.712605 | AA7: =+W7/AE7*100 -> 77.34528 | AB7: =+Y7/AG7*100 -> 77.333121 | AC7: =VLOOKUP(B7,CDI!A:B,2,FALSE) -> 9.15 | AD7: =+((AC6/100+1)^(1/252))*AD6 -> 1.0017387 | AE7: =+AD7/AD6-1 -> 0.00034749249 | AF7: =+(1+AE7)*AF6 -> 1.0017387 | AG7: =+(AF7-1)*100 -> 0.17386704 | AI7: =((1+D7/100)*(1+V7/100)-1)*100 -> 13.27783 | AJ7: =((1+L7/100)*(1+V7/100)-1)*100 -> 13.687087 | AK7: =+V7 -> 7.6990211 | AL7: =+AC7 -> 9.15
A8: =+A7+1 -> 7 | B8: =WORKDAY(B7,1,Feriados!$A$2:$A$5000) -> 44572 | C8: =+C7 -> 45519 | D8: =+D7 -> 5.18 | E8: =TRUNC((100/((1+D8/100)^(NETWORKDAYS($B8,C8-1,Feriados!$A$1:$A$936)/252)))/100*T8,6) -> 3322.5683 | F8: =+E8/E7-1 -> 0.0013723435 | G8: =+(1+F8)*G7 -> 1.003724 | H8: =+(G8-1)*100 -> 0.37240281 | I8: =(((((1+D8/100)^(1/252))*((1+U8/100)^(1/21)))-1)*100)/AE8 -> 157.38888 | J8: =+F8/AE8*100 -> 394.92751 | K8: =+H8/AG8*100 -> 178.45921 | L8: =VLOOKUP(B8,'NTN-B Princ 24'!A:F,2,FALSE)*100 -> 5.59 | M8: =TRUNC((100/((1+L8/100)^(NETWORKDAYS($B8,C8-1,Feriados!$A$1:$A$936)/252)))/100*T8,6) -> 3289.3422 | N8: =+M8/M7-1 -> 0.00065185062 | O8: =+(1+N8)*O7 -> 0.99368666 | P8: =+(O8-1)*100 -> -0.63133381 | Q8: =(((((1+L8/100)^(1/252))*((1+U8/100)^(1/21)))-1)*100)/AE8 -> 161.83417 | R8: =+N8/AE8*100 -> 187.58696 | S8: =+P8/AG8*100 -> -302.54158 | T8: =VLOOKUP(B8,'VNA IPCA'!B:D,2,FALSE) -> 3785.5989 | U8: =VLOOKUP(B8,'VNA IPCA'!B:D,3,FALSE) -> 0.73 | V8: =((1+U8/100)^(252/21)-1)*100 -> 9.1204146 | W8: =+T8/T7-1 -> 0.0011716798 | X8: =+(1+W8)*X7 -> 1.0025178 | Y8: =+(X8-1)*100 -> 0.25178233 | Z8: =(((((1+U8/100)^(1/21)))-1)*100)/AE8 -> 99.690317 | AA8: =+W8/AE8*100 -> 337.18134 | AB8: =+Y8/AG8*100 -> 120.65665 | AC8: =VLOOKUP(B8,CDI!A:B,2,FALSE) -> 9.15 | AD8: =+((AC7/100+1)^(1/252))*AD7 -> 1.0020868 | AE8: =+AD8/AD7-1 -> 0.00034749249 | AF8: =+(1+AE8)*AF7 -> 1.0020868 | AG8: =+(AF8-1)*100 -> 0.20867671 | AI8: =((1+D8/100)*(1+V8/100)-1)*100 -> 14.772852 | AJ8: =((1+L8/100)*(1+V8/100)-1)*100 -> 15.220246 | AK8: =+V8 -> 9.1204146 | AL8: =+AC8 -> 9.15
A9: =+A8+1 -> 8 | B9: =WORKDAY(B8,1,Feriados!$A$2:$A$5000) -> 44573 | C9: =+C8 -> 45519 | D9: =+D8 -> 5.18 | E9: =TRUNC((100/((1+D9/100)^(NETWORKDAYS($B9,C9-1,Feriados!$A$1:$A$936)/252)))/100*T9,6) -> 3324.2853 | F9: =+E9/E8-1 -> 0.00051676258 | G9: =+(1+F9)*G8 -> 1.0042427 | H9: =+(G9-1)*100 -> 0.42427151 | I9: =(((((1+D9/100)^(1/252))*((1+U9/100)^(1/21)))-1)*100)/AE9 -> 157.38888 | J9: =+F9/AE9*100 -> 148.71187 | K9: =+H9/AG9*100 -> 174.23991 | L9: =VLOOKUP(B9,'NTN-B Princ 24'!A:F,2,FALSE)*100 -> 5.58 | M9: =TRUNC((100/((1+L9/100)^(NETWORKDAYS($B9,C9-1,Feriados!$A$1:$A$936)/252)))/100*T9,6) -> 3291.8969 | N9: =+M9/M8-1 -> 0.00077666166 | O9: =+(1+N9)*O8 -> 0.99445842 | P9: =+(O9-1)*100 -> -0.55415798 | Q9: =(((((1+L9/100)^(1/252))*((1+U9/100)^(1/21)))-1)*100)/AE9 -> 161.72596 | R9: =+N9/AE9*100 -> 223.50459 | S9: =+P9/AG9*100 -> -227.58171 | T9: =VLOOKUP(B9,'VNA IPCA'!B:D,2,FALSE) -> 3786.7962 | U9: =VLOOKUP(B9,'VNA IPCA'!B:D,3,FALSE) -> 0.73 | V9: =((1+U9/100)^(252/21)-1)*100 -> 9.1204146 | W9: =+T9/T8-1 -> 0.00031627043 | X9: =+(1+W9)*X8 -> 1.0028349 | Y9: =+(X9-1)*100 -> 0.28348901 | Z9: =(((((1+U9/100)^(1/21)))-1)*100)/AE9 -> 99.690317 | AA9: =+W9/AE9*100 -> 91.015039 | AB9: =+Y9/AG9*100 -> 116.42332 | AC9: =VLOOKUP(B9,CDI!A:B,2,FALSE) -> 9.15 | AD9: =+((AC8/100+1)^(1/252))*AD8 -> 1.002435 | AE9: =+AD9/AD8-1 -> 0.00034749249 | AF9: =+(1+AE9)*AF8 -> 1.002435 | AG9: =+(AF9-1)*100 -> 0.24349847 | AI9: =((1+D9/100)*(1+V9/100)-1)*100 -> 14.772852 | AJ9: =((1+L9/100)*(1+V9/100)-1)*100 -> 15.209334 | AK9: =+V9 -> 9.1204146 | AL9: =+AC9 -> 9.15
A10: =+A9+1 -> 9 | B10: =WORKDAY(B9,1,Feriados!$A$2:$A$5000) -> 44574 | C10: =+C9 -> 45519 | D10: =+D9 -> 5.18 | E10: =TRUNC((100/((1+D10/100)^(NETWORKDAYS($B10,C10-1,Feriados!$A$1:$A$936)/252)))/100*T10,6) -> 3326.0032 | F10: =+E10/E9-1 -> 0.0005167622 | G10: =+(1+F10)*G9 -> 1.0047617 | H10: =+(G10-1)*100 -> 0.47616698 | I10: =(((((1+D10/100)^(1/252))*((1+U10/100)^(1/21)))-1)*100)/AE10 -> 157.38888 | J10: =+F10/AE10*100 -> 148.71176 | K10: =+H10/AG10*100 -> 171.07857 | L10: =VLOOKUP(B10,'NTN-B Princ 24'!A:F,2,FALSE)*100 -> 5.51 | M10: =TRUNC((100/((1+L10/100)^(NETWORKDAYS($B10,C10-1,Feriados!$A$1:$A$936)/252)))/100*T10,6) -> 3299.2783 | N10: =+M10/M9-1 -> 0.0022422673 | O10: =+(1+N10)*O9 -> 0.99668826 | P10: =+(O10-1)*100 -> -0.33117381 | Q10: =(((((1+L10/100)^(1/252))*((1+U10/100)^(1/21)))-1)*100)/AE10 -> 160.96815 | R10: =+N10/AE10*100 -> 645.27073 | S10: =+P10/AG10*100 -> -118.98503 | T10: =VLOOKUP(B10,'VNA IPCA'!B:D,2,FALSE) -> 3787.9939 | U10: =VLOOKUP(B10,'VNA IPCA'!B:D,3,FALSE) -> 0.73 | V10: =((1+U10/100)^(252/21)-1)*100 -> 9.1204146 | W10: =+T10/T9-1 -> 0.00031627025 | X10: =+(1+W10)*X9 -> 1.0031521 | Y10: =+(X10-1)*100 -> 0.31520569 | Z10: =(((((1+U10/100)^(1/21)))-1)*100)/AE10 -> 99.690317 | AA10: =+W10/AE10*100 -> 91.014989 | AB10: =+Y10/AG10*100 -> 113.24796 | AC10: =VLOOKUP(B10,CDI!A:B,2,FALSE) -> 9.15 | AD10: =+((AC9/100+1)^(1/252))*AD9 -> 1.0027833 | AE10: =+AD10/AD9-1 -> 0.00034749249 | AF10: =+(1+AE10)*AF9 -> 1.0027833 | AG10: =+(AF10-1)*100 -> 0.27833233 | AI10: =((1+D10/100)*(1+V10/100)-1)*100 -> 14.772852 | AJ10: =((1+L10/100)*(1+V10/100)-1)*100 -> 15.132949 | AK10: =+V10 -> 9.1204146 | AL10: =+AC10 -> 9.15
A11: =+A10+1 -> 10 | B11: =WORKDAY(B10,1,Feriados!$A$2:$A$5000) -> 44575 | C11: =+C10 -> 45519 | D11: =+D10 -> 5.18 | E11: =TRUNC((100/((1+D11/100)^(NETWORKDAYS($B11,C11-1,Feriados!$A$1:$A$936)/252)))/100*T11,6) -> 3327.7219 | F11: =+E11/E10-1 -> 0.00051676289 | G11: =+(1+F11)*G10 -> 1.0052809 | H11: =+(G11-1)*100 -> 0.52808933 | I11: =(((((1+D11/100)^(1/252))*((1+U11/100)^(1/21)))-1)*100)/AE11 -> 157.38888 | J11: =+F11/AE11*100 -> 148.71196 | K11: =+H11/AG11*100 -> 168.62258 | L11: =VLOOKUP(B11,'NTN-B Princ 24'!A:F,2,FALSE)*100 -> 5.5 | M11: =TRUNC((100/((1+L11/100)^(NETWORKDAYS($B11,C11-1,Feriados!$A$1:$A$936)/252)))/100*T11,6) -> 3301.8289 | N11: =+M11/M10-1 -> 0.00077308454 | O11: =+(1+N11)*O10 -> 0.99745879 | P11: =+(O11-1)*100 -> -0.25412138 | Q11: =(((((1+L11/100)^(1/252))*((1+U11/100)^(1/21)))-1)*100)/AE11 -> 160.85985 | R11: =+N11/AE11*100 -> 222.47518 | S11: =+P11/AG11*100 -> -81.142718 | T11: =VLOOKUP(B11,'VNA IPCA'!B:D,2,FALSE) -> 3789.1919 | U11: =VLOOKUP(B11,'VNA IPCA'!B:D,3,FALSE) -> 0.73 | V11: =((1+U11/100)^(252/21)-1)*100 -> 9.1204146 | W11: =+T11/T10-1 -> 0.00031627058 | X11: =+(1+W11)*X10 -> 1.0034693 | Y11: =+(X11-1)*100 -> 0.34693244 | Z11: =(((((1+U11/100)^(1/21)))-1)*100)/AE11 -> 99.690317 | AA11: =+W11/AE11*100 -> 91.015082 | AB11: =+Y11/AG11*100 -> 110.77793 | AC11: =VLOOKUP(B11,CDI!A:B,2,FALSE) -> 9.15 | AD11: =+((AC10/100+1)^(1/252))*AD10 -> 1.0031318 | AE11: =+AD11/AD10-1 -> 0.00034749249 | AF11: =+(1+AE11)*AF10 -> 1.0031318 | AG11: =+(AF11-1)*100 -> 0.3131783 | AI11: =((1+D11/100)*(1+V11/100)-1)*100 -> 14.772852 | AJ11: =((1+L11/100)*(1+V11/100)-1)*100 -> 15.122037 | AK11: =+V11 -> 9.1204146 | AL11: =+AC11 -> 9.15
A12: =+A11+1 -> 11 | B12: =WORKDAY(B11,1,Feriados!$A$2:$A$5000) -> 44578 | C12: =+C11 -> 45519 | D12: =+D11 -> 5.18 | E12: =TRUNC((100/((1+D12/100)^(NETWORKDAYS($B12,C12-1,Feriados!$A$1:$A$936)/252)))/100*T12,6) -> 3329.4416 | F12: =+E12/E11-1 -> 0.00051676253 | G12: =+(1+F12)*G11 -> 1.0058004 | H12: =+(G12-1)*100 -> 0.58003848 | I12: =(((((1+D12/100)^(1/252))*((1+U12/100)^(1/21)))-1)*100)/AE12 -> 157.38888 | J12: =+F12/AE12*100 -> 148.71185 | K12: =+H12/AG12*100 -> 166.6603 | L12: =VLOOKUP(B12,'NTN-B Princ 24'!A:F,2,FALSE)*100 -> 5.53 | M12: =TRUNC((100/((1+L12/100)^(NETWORKDAYS($B12,C12-1,Feriados!$A$1:$A$936)/252)))/100*T12,6) -> 3301.1643 | N12: =+M12/M11-1 -> -0.00020127572 | O12: =+(1+N12)*O11 -> 0.99725802 | P12: =+(O12-1)*100 -> -0.27419781 | Q12: =(((((1+L12/100)^(1/252))*((1+U12/100)^(1/21)))-1)*100)/AE12 -> 161.18472 | R12: =+N12/AE12*100 -> -57.922323 | S12: =+P12/AG12*100 -> -78.784238 | T12: =VLOOKUP(B12,'VNA IPCA'!B:D,2,FALSE) -> 3790.3903 | U12: =VLOOKUP(B12,'VNA IPCA'!B:D,3,FALSE) -> 0.73 | V12: =((1+U12/100)^(252/21)-1)*100 -> 9.1204146 | W12: =+T12/T11-1 -> 0.00031627034 | X12: =+(1+W12)*X11 -> 1.0037867 | Y12: =+(X12-1)*100 -> 0.3786692 | Z12: =(((((1+U12/100)^(1/21)))-1)*100)/AE12 -> 99.690317 | AA12: =+W12/AE12*100 -> 91.015013 | AB12: =+Y12/AG12*100 -> 108.80161 | AC12: =VLOOKUP(B12,CDI!A:B,2,FALSE) -> 9.15 | AD12: =+((AC11/100+1)^(1/252))*AD11 -> 1.0034804 | AE12: =+AD12/AD11-1 -> 0.00034749249 | AF12: =+(1+AE12)*AF11 -> 1.0034804 | AG12: =+(AF12-1)*100 -> 0.34803638 | AI12: =((1+D12/100)*(1+V12/100)-1)*100 -> 14.772852 | AJ12: =((1+L12/100)*(1+V12/100)-1)*100 -> 15.154774 | AK12: =+V12 -> 9.1204146 | AL12: =+AC12 -> 9.15
A13: =+A12+1 -> 12 | B13: =WORKDAY(B12,1,Feriados!$A$2:$A$5000) -> 44579 | C13: =+C12 -> 45519 | D13: =+D12 -> 5.18 | E13: =TRUNC((100/((1+D13/100)^(NETWORKDAYS($B13,C13-1,Feriados!$A$1:$A$936)/252)))/100*T13,6) -> 3330.821 | F13: =+E13/E12-1 -> 0.00041429921 | G13: =+(1+F13)*G12 -> 1.0062171 | H13: =+(G13-1)*100 -> 0.62170871 | I13: =(((((1+D13/100)^(1/252))*((1+U13/100)^(1/21)))-1)*100)/AE13 -> 119.22545 | J13: =+F13/AE13*100 -> 119.22537 | K13: =+H13/AG13*100 -> 162.36564 | L13: =VLOOKUP(B13,'NTN-B Princ 24'!A:F,2,FALSE)*100 -> 5.59 | M13: =TRUNC((100/((1+L13/100)^(NETWORKDAYS($B13,C13-1,Feriados!$A$1:$A$936)/252)))/100*T13,6) -> 3297.7669 | N13: =+M13/M12-1 -> -0.0010291551 | O13: =+(1+N13)*O12 -> 0.99623169 | P13: =+(O13-1)*100 -> -0.37683112 | Q13: =(((((1+L13/100)^(1/252))*((1+U13/100)^(1/21)))-1)*100)/AE13 -> 123.67015 | R13: =+N13/AE13*100 -> -296.16613 | S13: =+P13/AG13*100 -> -98.413336 | T13: =VLOOKUP(B13,'VNA IPCA'!B:D,2,FALSE) -> 3791.2008 | U13: =VLOOKUP(B13,'VNA IPCA'!B:D,3,FALSE) -> 0.45 | V13: =((1+U13/100)^(252/21)-1)*100 -> 5.5356752 | W13: =+T13/T12-1 -> 0.00021382785 | X13: =+(1+W13)*X12 -> 1.0040013 | Y13: =+(X13-1)*100 -> 0.40013295 | Z13: =(((((1+U13/100)^(1/21)))-1)*100)/AE13 -> 61.53453 | AA13: =+W13/AE13*100 -> 61.534523 | AB13: =+Y13/AG13*100 -> 104.49885 | AC13: =VLOOKUP(B13,CDI!A:B,2,FALSE) -> 9.15 | AD13: =+((AC12/100+1)^(1/252))*AD12 -> 1.0038291 | AE13: =+AD13/AD12-1 -> 0.00034749249 | AF13: =+(1+AE13)*AF12 -> 1.0038291 | AG13: =+(AF13-1)*100 -> 0.38290657 | AI13: =((1+D13/100)*(1+V13/100)-1)*100 -> 11.002423 | AJ13: =((1+L13/100)*(1+V13/100)-1)*100 -> 11.435119 | AK13: =+V13 -> 5.5356752 | AL13: =+AC13 -> 9.15
A14: =+A13+1 -> 13 | B14: =WORKDAY(B13,1,Feriados!$A$2:$A$5000) -> 44580 | C14: =+C13 -> 45519 | D14: =+D13 -> 5.18 | E14: =TRUNC((100/((1+D14/100)^(NETWORKDAYS($B14,C14-1,Feriados!$A$1:$A$936)/252)))/100*T14,6) -> 3332.2009 | F14: =+E14/E13-1 -> 0.00041429966 | G14: =+(1+F14)*G13 -> 1.006634 | H14: =+(G14-1)*100 -> 0.66339625 | I14: =(((((1+D14/100)^(1/252))*((1+U14/100)^(1/21)))-1)*100)/AE14 -> 119.22545 | J14: =+F14/AE14*100 -> 119.2255 | K14: =+H14/AG14*100 -> 158.78744 | L14: =VLOOKUP(B14,'NTN-B Princ 24'!A:F,2,FALSE)*100 -> 5.62 | M14: =TRUNC((100/((1+L14/100)^(NETWORKDAYS($B14,C14-1,Feriados!$A$1:$A$936)/252)))/100*T14,6) -> 3296.7861 | N14: =+M14/M13-1 -> -0.00029740671 | O14: =+(1+N14)*O13 -> 0.9959354 | P14: =+(O14-1)*100 -> -0.40645972 | Q14: =(((((1+L14/100)^(1/252))*((1+U14/100)^(1/21)))-1)*100)/AE14 -> 123.9947 | R14: =+N14/AE14*100 -> -85.586514 | S14: =+P14/AG14*100 -> -97.288308 | T14: =VLOOKUP(B14,'VNA IPCA'!B:D,2,FALSE) -> 3792.0115 | U14: =VLOOKUP(B14,'VNA IPCA'!B:D,3,FALSE) -> 0.45 | V14: =((1+U14/100)^(252/21)-1)*100 -> 5.5356752 | W14: =+T14/T13-1 -> 0.00021382777 | X14: =+(1+W14)*X13 -> 1.004216 | Y14: =+(X14-1)*100 -> 0.42160129 | Z14: =(((((1+U14/100)^(1/21)))-1)*100)/AE14 -> 61.53453 | AA14: =+W14/AE14*100 -> 61.5345 | AB14: =+Y14/AG14*100 -> 100.91252 | AC14: =VLOOKUP(B14,CDI!A:B,2,FALSE) -> 9.15 | AD14: =+((AC13/100+1)^(1/252))*AD13 -> 1.0041779 | AE14: =+AD14/AD13-1 -> 0.00034749249 | AF14: =+(1+AE14)*AF13 -> 1.0041779 | AG14: =+(AF14-1)*100 -> 0.41778887 | AI14: =((1+D14/100)*(1+V14/100)-1)*100 -> 11.002423 | AJ14: =((1+L14/100)*(1+V14/100)-1)*100 -> 11.46678 | AK14: =+V14 -> 5.5356752 | AL14: =+AC14 -> 9.15
... A253: =+A252+1 -> 252 | B253: =WORKDAY(B252,1,Feriados!$A$2:$A$5000) -> 44928 | C253: =+C252 -> 45519 | D253: =+D252 -> 5.18 | E253: =TRUNC((100/((1+D253/100)^(NETWORKDAYS($B253,C253-1,Feriados!$A$1:$A$936)/252)))/100*T253,6) -> 3682.1705 | F253: =+E253/E252-1 -> 0.00039552237 | G253: =+(1+F253)*G252 -> 1.1123573 | H253: =+(G253-1)*100 -> 11.235726 | I253: =(((((1+D253/100)^(1/252))*((1+U253/100)^(1/21)))-1)*100)/AE253 -> 79.706466 | J253: =+F253/AE253*100 -> 77.877073 | K253: =+H253/AG253*100 -> 90.676357 | L253: =VLOOKUP(B253,'NTN-B Princ 24'!A:F,2,FALSE)*100 -> 6.63 | M253: =TRUNC((100/((1+L253/100)^(NETWORKDAYS($B253,C253-1,Feriados!$A$1:$A$936)/252)))/100*T253,6) -> 3601.8352 | N253: =+M253/M252-1 -> -0.0010650241 | O253: =+(1+N253)*O252 -> 1.0880885 | P253: =+(O253-1)*100 -> 8.8088539 | Q253: =(((((1+L253/100)^(1/252))*((1+U253/100)^(1/21)))-1)*100)/AE253 -> 90.408934 | R253: =+N253/AE253*100 -> -209.69979 | S253: =+P253/AG253*100 -> 71.090625 | T253: =VLOOKUP(B253,'VNA IPCA'!B:D,2,FALSE) -> 3994.2998 | U253: =VLOOKUP(B253,'VNA IPCA'!B:D,3,FALSE) -> 0.43 | V253: =((1+U253/100)^(252/21)-1)*100 -> 5.2838002 | W253: =+T253/T252-1 -> 0.0001950547 | X253: =+(1+W253)*X252 -> 1.0577868 | Y253: =+(X253-1)*100 -> 5.7786849 | Z253: =(((((1+U253/100)^(1/21)))-1)*100)/AE253 -> 40.234632 | AA253: =+W253/AE253*100 -> 38.405638 | AB253: =+Y253/AG253*100 -> 46.636069 | AC253: =VLOOKUP(B253,CDI!A:B,2,FALSE) -> 13.65 | AD253: =+((AC252/100+1)^(1/252))*AD252 -> 1.1239102 | AE253: =+AD253/AD252-1 -> 0.00050788037 | AF253: =+(1+AE253)*AF252 -> 1.1239102 | AG253: =+(AF253-1)*100 -> 12.391021 | AI253: =((1+D253/100)*(1+V253/100)-1)*100 -> 10.737501 | AJ253: =((1+L253/100)*(1+V253/100)-1)*100 -> 12.264116 | AK253: =+V253 -> 5.2838002 | AL253: =+AC253 -> 13.65
L255: =+L253-L2 -> 1.45

Sheet NTN-B Princ 24
A1: Vencimento | B1: 15/08/2024
A2: Dia | B2: Taxa Compra Manhã | C2: Taxa Venda Manhã | D2: PU Compra Manhã | E2: PU Venda Manhã | F2: PU Base Manhã
A3: 43832 | B3: 0.0228 | C3: 0.024 | D3: 2955.86 | E3: 2939.98 | F3: 2938.71
A4: 43833 | B4: 0.0236 | C4: 0.0248 | D4: 2948.51 | E4: 2932.7 | F4: 2929.45
A5: 43836 | B5: 0.0232 | C5: 0.0244 | D5: 2955.07 | E5: 2939.23 | F5: 2937.96
A6: 43837 | B6: 0.0237 | C6: 0.0249 | D6: 2949.73 | E6: 2933.93 | F6: 2932.66
A7: 43838 | B7: 0.0237 | C7: 0.0249 | D7: 2950.99 | E7: 2935.21 | F7: 2933.93
A8: 43839 | B8: 0.0234 | C8: 0.0246 | D8: 2956.22 | E8: 2940.42 | F8: 2939.14
A9: 43840 | B9: 0.0236 | C9: 0.0248 | D9: 2959.58 | E9: 2943.77 | F9: 2940.23
A10: 43843 | B10: 0.0237 | C10: 0.0249 | D10: 2959.63 | E10: 2943.83 | F10: 2942.46
A11: 43844 | B11: 0.0244 | C11: 0.0256 | D11: 2951.77 | E11: 2936.04 | F11: 2934.67
A12: 43845 | B12: 0.0236 | C12: 0.0248 | D12: 2962.91 | E12: 2947.13 | F12: 2946.52
A13: 43846 | B13: 0.0236 | C13: 0.0248 | D13: 2963.51 | E13: 2947.74 | F13: 2947.13
A14: 43847 | B14: 0.0237 | C14: 0.0249 | D14: 2963.44 | E14: 2947.68 | F14: 2946.43
... A248: 44188 | B248: 0.0172 | C248: 0.0184 | D248: 3210.79 | E248: 3197.12 | F248: 3190.46
A249: 44189 | B249: 0.0172 | C249: 0.0184
A250: 44193 | B250: 0.0173 | C250: 0.0185 | D250: 3211.12 | E250: 3197.46 | F250: 3195.99
A251: 44194 | B251: 0.0172 | C251: 0.0184 | D251: 3213.72 | E251: 3200.07 | F251: 3198.59
A252: 44195 | B252: 0.0167 | C252: 0.0179 | D252: 3226.11 | E252: 3212.43 | F252: 3205.74
A253: 44196 | B253: 0.0167 | C253: 0.0179
A254: 44200 | B254: 0.0161 | C254: 0.0173 | D254: 3234.44 | E254: 3220.73 | F254: 3219.26
A255: 44201 | B255: 0.0163 | C255: 0.0175 | D255: 3233.61 | E255: 3219.92 | F255: 3218.45
A256: 44202 | B256: 0.0173 | C256: 0.0185 | D256: 3223.66 | E256: 3210.04 | F256: 3208.56
A257: 44203 | B257: 0.0173 | C257: 0.0185 | D257: 3225.13 | E257: 3211.52 | F257: 3210.04
A258: 44204 | B258: 0.0175 | C258: 0.0187 | D258: 3226.83 | E258: 3213.24 | F258: 3209.26
A259: 44207 | B259: 0.0186 | C259: 0.0198 | D259: 3215.85 | E259: 3202.33 | F259: 3200.83
A260: 44208 | B260: 0.0201 | C260: 0.0213 | D260: 3204.59 | E260: 3191.15 | F260: 3189.5
A261: 44209 | B261: 0.0195 | C261: 0.0207 | D261: 3212.97 | E261: 3199.5 | F261: 3197.86
A262: 44210 | B262: 0.0203 | C262: 0.0215 | D262: 3205.63 | E262: 3192.21 | F262: 3190.56
A263: 44211 | B263: 0.02 | C263: 0.0212 | D263: 3210.08 | E263: 3196.66 | F263: 3195.56
A264: 44214 | B264: 0.0197 | C264: 0.0209 | D264: 3213.98 | E264: 3200.55 | F264: 3200.01
A265: 44215 | B265: 0.0191 | C265: 0.0203 | D265: 3221.24 | E265: 3207.79 | F265: 3207.25
... A268: 44218 | B268: 0.0213 | C268: 0.0225 | D268: 3199.38 | E268: 3186.1 | F268: 3184.43
A269: 44221 | B269: 0.0213 | C269: 0.0225
A270: 44222 | B270: 0.0219 | C270: 0.0231 | D270: 3193.28 | E270: 3180.06 | F270: 3179.5
A271: 44223 | B271: 0.022 | C271: 0.0232 | D271: 3193.13 | E271: 3179.93 | F271: 3179.33
A272: 44224 | B272: 0.0216 | C272: 0.0228 | D272: 3198.13 | E272: 3184.91 | F272: 3184.32
A273: 44225 | B273: 0.0202 | C273: 0.0214 | D273: 3214.83 | E273: 3201.54 | F273: 3200.34
A274: 44228 | B274: 0.0195 | C274: 0.0207 | D274: 3223.17 | E274: 3209.85 | F274: 3209.28
A275: 44229 | B275: 0.0193 | C275: 0.0205 | D275: 3225.95 | E275: 3212.64 | F275: 3212.07
...

Sheet VNA IPCA
A1: Código Selic | B1: Data Ref | C1: VNA | D1: IPCA | E1: P/F | F1: Válido a partir de
A2: 760199 | B2: 43830 | C2: 3274.6415 | D2: 1.05 | E2: P | F2: 43822
A3: 760199 | B3: 43832 | C3: 3276.3522 | D3: 1.05 | E3: P | F3: 43822
A4: 760199 | B4: 43833 | C4: 3278.0637 | D4: 1.05 | E4: P | F4: 43822
A5: 760199 | B5: 43836 | C5: 3279.7762 | D5: 1.05 | E5: P | F5: 43822
A6: 760199 | B6: 43837 | C6: 3281.4895 | D6: 1.05 | E6: P | F6: 43822
A7: 760199 | B7: 43838 | C7: 3283.2038 | D7: 1.05 | E7: P | F7: 43822
A8: 760199 | B8: 43839 | C8: 3284.9189 | D8: 1.05 | E8: P | F8: 43822
A9: 760199 | B9: 43840 | C9: 3289.4008 | D9: 1.15 | E9: F | F9: 43840
A10: 760199 | B10: 43843 | C10: 3291.282 | D10: 1.15 | E10: F | F10: 43840
A11: 760199 | B11: 43844 | C11: 3293.1644 | D11: 1.15 | E11: F | F11: 43840
A12: 760199 | B12: 43845 | C12: 3295.0478 | D12: 1.15 | E12: F | F12: 43840
A13: 760199 | B13: 43846 | C13: 3295.5341 | D13: 0.34 | E13: P | F13: 43846
... A794: 760199 | B794: 44984 | C794: 4041.2371 | D794: 0.77 | E794: P | F794: 44984

Sheet CDI
A1: Data | B1: CDI
A2: 43832 | B2: 4.4
A3: 43833 | B3: 4.4
A4: 43836 | B4: 4.4
A5: 43837 | B5: 4.4
A6: 43838 | B6: 4.4
A7: 43839 | B7: 4.4
A8: 43840 | B8: 4.4
A9: 43843 | B9: 4.4
A10: 43844 | B10: 4.4
A11: 43845 | B11: 4.4
A12: 43846 | B12: 4.4
A13: 43847 | B13: 4.4
... A794: 44985 | B794: 13.65

Sheet Carregamento dia
A1: CDI | B1: 4.4
A2: CDI a.d | B2: =(1+B1/100)^(1/252) -> 1.0001709 | C2: =+(B2-1)*100 -> 0.017088559
A3: VNA IPCA | B3: 1.15 | D3: =(B3/100+1)^(252/21) -> 1.1470719 | E3: =+D3-1 -> 0.14707191 | F3: =+E3*100 -> 14.707191 | G3: =+F3/B1 -> 3.3425434 | H3: =+G3*100 -> 334.25434
A4: IPCA a.d | B4: =(1+B3/100)^(1/21) -> 1.0005446 | C4: =+(B4-1)*100 -> 0.054464244
A6: Data de Referência | B6: Títulos | C6: Data de Vencimento | D6: Taxa Indicativa (% a.a.) | E6: PU (R$) | F6: Duration (d.u.) | G6: Carrego
A7: 43840 | B7: LFT | C7: 43891 | D7: 0.0026 | E7: 10482.591 | F7: 1 | G7: =(((((1+D7/100)^(1/252))*$B$2)-1)*100)/$C$2*100 -> 100.06039
A8: 43840 | B8: LFT | C8: 44075 | D8: 0.0026 | E8: 10482.455 | F8: 1 | G8: =(((((1+D8/100)^(1/252))*$B$2)-1)*100)/$C$2*100 -> 100.06039
A9: 43840 | B9: LFT | C9: 44256 | D9: 0.005 | E9: 10482.035 | F9: 1 | G9: =(((((1+D9/100)^(1/252))*$B$2)-1)*100)/$C$2*100 -> 100.11613
A10: 43840 | B10: LFT | C10: 44440 | D10: 0.0058 | E10: 10481.637 | F10: 1 | G10: =(((((1+D10/100)^(1/252))*$B$2)-1)*100)/$C$2*100 -> 100.1347
A11: 43840 | B11: LFT | C11: 44621 | D11: 0.0081 | E11: 10480.819 | F11: 1 | G11: =(((((1+D11/100)^(1/252))*$B$2)-1)*100)/$C$2*100 -> 100.18812
A12: 43840 | B12: LFT | C12: 44805 | D12: 0.0108 | E12: 10479.645 | F12: 1 | G12: =(((((1+D12/100)^(1/252))*$B$2)-1)*100)/$C$2*100 -> 100.25082
A13: 43840 | B13: LFT | C13: 44986 | D13: 0.0121 | E13: 10478.67 | F13: 1 | G13: =(((((1+D13/100)^(1/252))*$B$2)-1)*100)/$C$2*100 -> 100.28101
A14: 43840 | B14: LFT | C14: 45170 | D14: 0.0134 | E14: 10477.528 | F14: 1 | G14: =(((((1+D14/100)^(1/252))*$B$2)-1)*100)/$C$2*100 -> 100.3112
A15: 43840 | B15: LFT | C15: 45352 | D15: 0.0167 | E15: 10475.431 | F15: 1 | G15: =(((((1+D15/100)^(1/252))*$B$2)-1)*100)/$C$2*100 -> 100.38784
A16: 43840 | B16: LFT | C16: 45536 | D16: 0.0173 | E16: 10474.247 | F16: 1 | G16: =(((((1+D16/100)^(1/252))*$B$2)-1)*100)/$C$2*100 -> 100.40177
A17: 43840 | B17: LFT | C17: 45717 | D17: 0.0173 | E17: 10473.335 | F17: 1 | G17: =(((((1+D17/100)^(1/252))*$B$2)-1)*100)/$C$2*100 -> 100.40177
A18: 43840 | B18: LFT | C18: 45901 | D18: 0.0174 | E18: 10472.381 | F18: 1 | G18: =(((((1+D18/100)^(1/252))*$B$2)-1)*100)/$C$2*100 -> 100.40409
A19: 43840 | B19: LFT | C19: 46082 | D19: 0.0171 | E19: 10471.668 | F19: 1 | G19: =(((((1+D19/100)^(1/252))*$B$2)-1)*100)/$C$2*100 -> 100.39713
A20: 43840 | B20: LTN | C20: 43922 | D20: 4.313 | E20: 990.66037 | F20: 56 | G20: =(((((1+D20/100)^(1/252)))-1)*100)/$C$2*100 -> 98.063724
A21: 43840 | B21: LTN | C21: 44013 | D21: 4.2888 | E21: 980.69172 | F21: 117 | G21: =(((((1+D21/100)^(1/252)))-1)*100)/$C$2*100 -> 97.524842
A22: 43840 | B22: LTN | C22: 44105 | D22: 4.3573 | E22: 969.66651 | F22: 182 | G22: =(((((1+D22/100)^(1/252)))-1)*100)/$C$2*100 -> 99.049868
A23: 43840 | B23: LTN | C23: 44287 | D23: 4.6336 | E23: 946.48466 | F23: 306 | G23: =(((((1+D23/100)^(1/252)))-1)*100)/$C$2*100 -> 105.19107
A24: 43840 | B24: LTN | C24: 44378 | D24: 4.81 | E24: 933.69611 | F24: 368 | G24: =(((((1+D24/100)^(1/252)))-1)*100)/$C$2*100 -> 109.1034
A25: 43840 | B25: LTN | C25: 44470 | D25: 4.9927 | E25: 919.69386 | F25: 433 | G25: =(((((1+D25/100)^(1/252)))-1)*100)/$C$2*100 -> 113.14854
A26: 43840 | B26: LTN | C26: 44562 | D26: 5.1611 | E26: 905.69834 | F26: 496 | G26: =(((((1+D26/100)^(1/252)))-1)*100)/$C$2*100 -> 116.87087
A27: 43840 | B27: LTN | C27: 44743 | D27: 5.441 | E27: 877.78728 | F27: 620 | G27: =(((((1+D27/100)^(1/252)))-1)*100)/$C$2*100 -> 123.04468
A28: 43840 | B28: LTN | C28: 45108 | D28: 5.943 | E28: 819.10861 | F28: 871 | G28: =(((((1+D28/100)^(1/252)))-1)*100)/$C$2*100 -> 134.07662
A29: 43840 | B29: NTN-F | C29: 44197 | D29: 4.455 | E29: 1053.1247 | F29: 239 | G29: =(((((1+D29/100)^(1/252)))-1)*100)/$C$2*100 -> 101.22325
A30: 43840 | B30: NTN-F | C30: 44927 | D30: 5.635 | E30: 1116.8824 | F30: 669 | G30: =(((((1+D30/100)^(1/252)))-1)*100)/$C$2*100 -> 127.31421
A31: 43840 | B31: NTN-F | C31: 45658 | D31: 6.2911 | E31: 1154.1446 | F31: 1035 | G31: =(((((1+D31/100)^(1/252)))-1)*100)/$C$2*100 -> 141.69593
... A33: 43840 | B33: NTN-F | C33: 47119 | D33: 6.775 | E33: 1211.1944 | F33: 1617 | G33: =(((((1+D33/100)^(1/252)))-1)*100)/$C$2*100 -> 152.24648
A34: 43840 | B34: NTN-B | C34: 44058 | D34: 0.7834 | E34: 3468.1172 | F34: 147 | G34: =(((((1+D34/100)^(1/252))*$B$4)-1)*100)/$C$2*100 -> 336.84874
A35: 43840 | B35: NTN-B | C35: 44331 | D35: 0.924 | E35: 3538.8032 | F35: 326 | G35: =(((((1+D35/100)^(1/252))*$B$4)-1)*100)/$C$2*100 -> 340.08794
A36: 43840 | B36: NTN-B | C36: 44788 | D36: 1.7074 | E36: 3719.0558 | F36: 603 | G36: =(((((1+D36/100)^(1/252))*$B$4)-1)*100)/$C$2*100 -> 358.05438
A37: 43840 | B37: NTN-B | C37: 45061 | D37: 1.9516 | E37: 3742.0092 | F37: 770 | G37: =(((((1+D37/100)^(1/252))*$B$4)-1)*100)/$C$2*100 -> 363.62667
A38: 43840 | B38: NTN-B | C38: 45519 | D38: 2.3367 | E38: 3881.3515 | F38: 1016 | G38: =(((((1+D38/100)^(1/252))*$B$4)-1)*100)/$C$2*100 -> 372.38715
A39: 43840 | B39: NTN-B | C39: 46249 | D39: 2.695 | E39: 4009.0428 | F39: 1395 | G39: =(((((1+D39/100)^(1/252))*$B$4)-1)*100)/$C$2*100 -> 380.50852
A40: 43840 | B40: NTN-B | C40: 46980 | D40: 2.9027 | E40: 4124.8165 | F40: 1740 | G40: =(((((1+D40/100)^(1/252))*$B$4)-1)*100)/$C$2*100 -> 385.20342
A41: 43840 | B41: NTN-B | C41: 47710 | D41: 3.08 | E41: 4216.8803 | F41: 2055 | G41: =(((((1+D41/100)^(1/252))*$B$4)-1)*100)/$C$2*100 -> 389.20369
A42: 43840 | B42: NTN-B | C42: 49444 | D42: 3.28 | E42: 4375.2847 | F42: 2747 | G42: =(((((1+D42/100)^(1/252))*$B$4)-1)*100)/$C$2*100 -> 393.70791
...

Sheet Feriados
A1: 36892
A2: 36948
A3: 36949
A4: 36994
A5: 37002
A6: 37012
A7: 37056
A8: 37141
A9: 37176
A10: 37197
A11: 37210
A12: 37250
... A936: 65374
